BEGIN:VCALENDAR
VERSION:2.0
PRODID:-//VIP Tour &amp; Charter Bus Company - ECPv6.15.20//NONSGML v1.0//EN
CALSCALE:GREGORIAN
METHOD:PUBLISH
X-WR-CALNAME:VIP Tour &amp; Charter Bus Company
X-ORIGINAL-URL:https://vipchartercoaches.com
X-WR-CALDESC:Events for VIP Tour &amp; Charter Bus Company
REFRESH-INTERVAL;VALUE=DURATION:PT1H
X-Robots-Tag:noindex
X-PUBLISHED-TTL:PT1H
BEGIN:VTIMEZONE
TZID:America/New_York
BEGIN:DAYLIGHT
TZOFFSETFROM:-0500
TZOFFSETTO:-0400
TZNAME:EDT
DTSTART:20210314T070000
END:DAYLIGHT
BEGIN:STANDARD
TZOFFSETFROM:-0400
TZOFFSETTO:-0500
TZNAME:EST
DTSTART:20211107T060000
END:STANDARD
BEGIN:DAYLIGHT
TZOFFSETFROM:-0500
TZOFFSETTO:-0400
TZNAME:EDT
DTSTART:20220313T070000
END:DAYLIGHT
BEGIN:STANDARD
TZOFFSETFROM:-0400
TZOFFSETTO:-0500
TZNAME:EST
DTSTART:20221106T060000
END:STANDARD
BEGIN:DAYLIGHT
TZOFFSETFROM:-0500
TZOFFSETTO:-0400
TZNAME:EDT
DTSTART:20230312T070000
END:DAYLIGHT
BEGIN:STANDARD
TZOFFSETFROM:-0400
TZOFFSETTO:-0500
TZNAME:EST
DTSTART:20231105T060000
END:STANDARD
END:VTIMEZONE
BEGIN:VEVENT
DTSTART;VALUE=DATE:20220827
DTEND;VALUE=DATE:20220828
DTSTAMP:20260422T232102
CREATED:20220104T154335Z
LAST-MODIFIED:20220104T154601Z
UID:17606-1661558400-1661644799@vipchartercoaches.com
SUMMARY:Kenny Chesney at Gillette Stadium 8/27 Ride Only
DESCRIPTION:Kenny Chesney\n“Here and Now”\nSaturday\, August 27\, 2022\nGillette Stadium\, Foxboro\, MA\nRide Only \nNewly Announced Stadium Tour Lineup Features Three-Time Consecutive GRAMMY Winners Dan + Shay\, Reigning ACM and CMA Vocal Group of the Year Old Dominion & Double Nominee at the Upcoming CMA Awards Carly Pearce  \nForget the hassle of driving\, traffic\, and parking. Relax and and enjoy your ride while we take care of the details! We’ll arrive to the Stadium approximately 2 hours before the concert begins and depart 30 minutes after it completes. The bus while stay parked in the lot during the concert. All ages bus – no alcohol consumption on board. Ride only. Does not include concert ticket. \n12:00pm Portland\, Marginal Way Park & Ride\n12:30pm Biddeford\, Exit 32 Park & Ride\n12:45pm Wells\, Exit 19 Transportation Center\n3:00pm Arrival to Gillette Stadium\n5:00pm Concert Begins\nBus departs 30 minutes after the concert ends.
URL:https://vipchartercoaches.com/event/kenny-chesney-at-gillette-stadium-8-27-ride-only/
LOCATION:Gillette Stadium\, 1 Patriot Pl\, Foxborough\, MA\, 02035\, United States
CATEGORIES:Concert,Day Trip,Hot
ATTACH;FMTTYPE=image/jpeg:https://vipchartercoaches.com/wp-content/uploads/2022/01/kenny-chesney_11-30-21_19_61a56cd8e908f.jpg
GEO:42.091188;-71.266889
X-APPLE-STRUCTURED-LOCATION;VALUE=URI;X-ADDRESS=Gillette Stadium 1 Patriot Pl Foxborough MA 02035 United States;X-APPLE-RADIUS=500;X-TITLE=1 Patriot Pl:geo:-71.266889,42.091188
END:VEVENT
END:VCALENDAR