BEGIN:VCALENDAR
VERSION:2.0
PRODID:-//VIP Tour &amp; Charter Bus Company - ECPv6.15.20//NONSGML v1.0//EN
CALSCALE:GREGORIAN
METHOD:PUBLISH
X-WR-CALNAME:VIP Tour &amp; Charter Bus Company
X-ORIGINAL-URL:https://vipchartercoaches.com
X-WR-CALDESC:Events for VIP Tour &amp; Charter Bus Company
REFRESH-INTERVAL;VALUE=DURATION:PT1H
X-Robots-Tag:noindex
X-PUBLISHED-TTL:PT1H
BEGIN:VTIMEZONE
TZID:America/New_York
BEGIN:DAYLIGHT
TZOFFSETFROM:-0500
TZOFFSETTO:-0400
TZNAME:EDT
DTSTART:20170312T070000
END:DAYLIGHT
BEGIN:STANDARD
TZOFFSETFROM:-0400
TZOFFSETTO:-0500
TZNAME:EST
DTSTART:20171105T060000
END:STANDARD
BEGIN:DAYLIGHT
TZOFFSETFROM:-0500
TZOFFSETTO:-0400
TZNAME:EDT
DTSTART:20180311T070000
END:DAYLIGHT
BEGIN:STANDARD
TZOFFSETFROM:-0400
TZOFFSETTO:-0500
TZNAME:EST
DTSTART:20181104T060000
END:STANDARD
BEGIN:DAYLIGHT
TZOFFSETFROM:-0500
TZOFFSETTO:-0400
TZNAME:EDT
DTSTART:20190310T070000
END:DAYLIGHT
BEGIN:STANDARD
TZOFFSETFROM:-0400
TZOFFSETTO:-0500
TZNAME:EST
DTSTART:20191103T060000
END:STANDARD
END:VTIMEZONE
BEGIN:VEVENT
DTSTART;VALUE=DATE:20180725
DTEND;VALUE=DATE:20180726
DTSTAMP:20260424T042247
CREATED:20180227T172857Z
LAST-MODIFIED:20180427T202130Z
UID:6135-1532476800-1532563199@vipchartercoaches.com
SUMMARY:Martha's Vineyard - Day Trip
DESCRIPTION:Martha’s Vineyard Day Trip\nWednesday\, July 25th\, 2018\nIncludes: Round trip Motorcoach & Ferry Ticket\nMartha’s Vineyard\, MA \nEnjoy a trip to Martha’s Vineyard\, the largest island off the coast of New England and a popular spot for vacationing celebrities and recently popular for United States Presidents.  The island is famous for historic sea captain homes and mansions\, charming gingerbread cottages\, the nation’s oldest operating Carousel plus boutiques\, galleries and world-class restaurants. \nEnjoy lunch at the famous Black Dog restaurant\, an afternoon ice cream at Mad Martha’s and dinner overlooking the ocean.  Spend the afternoon at the beach; there are miles of pristine beaches.  Enjoy a guided sightseeing tour on a sightseeing bus or purchase a Vineyard Transit day pass ($8 adults\, $5 seniors) allowing you to travel all day between the towns and even “up island” with departures every fifteen minutes. \nThen next fall when someone asks you what you did over the summer you can tell them you vacationed on Martha’s Vineyard! \n6:00am – Portland\, Marginal Way Park & Ride\n6:30am – Biddeford\, Exit 32 Park & Ride Lot\n6:45am – Wells\, Exit 19 Transportation Center\n10:45am – Ferry sails from Woods Hole\, MA – 45 minute ferry ride that does not cruise in open water\n11:30am – Arrive Martha’s Vineyard “Vineyard Haven” for the day at your leisure\n7:15pm – Ferry ride back to Woods Hole\, MA\n8:00pm – Board the bus for return home
URL:https://vipchartercoaches.com/event/marthas-vineyard-day-trip/
CATEGORIES:Day Trip,Hot,Scenic,Shopping
ATTACH;FMTTYPE=image/jpeg:https://vipchartercoaches.com/wp-content/uploads/2018/02/marthas-vineyard-e1519752233276.jpg
END:VEVENT
END:VCALENDAR