BEGIN:VCALENDAR
VERSION:2.0
PRODID:-//VIP Tour &amp; Charter Bus Company - ECPv6.15.20//NONSGML v1.0//EN
CALSCALE:GREGORIAN
METHOD:PUBLISH
X-WR-CALNAME:VIP Tour &amp; Charter Bus Company
X-ORIGINAL-URL:https://vipchartercoaches.com
X-WR-CALDESC:Events for VIP Tour &amp; Charter Bus Company
REFRESH-INTERVAL;VALUE=DURATION:PT1H
X-Robots-Tag:noindex
X-PUBLISHED-TTL:PT1H
BEGIN:VTIMEZONE
TZID:America/New_York
BEGIN:DAYLIGHT
TZOFFSETFROM:-0500
TZOFFSETTO:-0400
TZNAME:EDT
DTSTART:20220313T070000
END:DAYLIGHT
BEGIN:STANDARD
TZOFFSETFROM:-0400
TZOFFSETTO:-0500
TZNAME:EST
DTSTART:20221106T060000
END:STANDARD
BEGIN:DAYLIGHT
TZOFFSETFROM:-0500
TZOFFSETTO:-0400
TZNAME:EDT
DTSTART:20230312T070000
END:DAYLIGHT
BEGIN:STANDARD
TZOFFSETFROM:-0400
TZOFFSETTO:-0500
TZNAME:EST
DTSTART:20231105T060000
END:STANDARD
BEGIN:DAYLIGHT
TZOFFSETFROM:-0500
TZOFFSETTO:-0400
TZNAME:EDT
DTSTART:20240310T070000
END:DAYLIGHT
BEGIN:STANDARD
TZOFFSETFROM:-0400
TZOFFSETTO:-0500
TZNAME:EST
DTSTART:20241103T060000
END:STANDARD
END:VTIMEZONE
BEGIN:VEVENT
DTSTART;VALUE=DATE:20231202
DTEND;VALUE=DATE:20231203
DTSTAMP:20260421T012350
CREATED:20230317T163827Z
LAST-MODIFIED:20230802T233756Z
UID:21195-1701475200-1701561599@vipchartercoaches.com
SUMMARY:New York City Holiday Trip
DESCRIPTION:New York City Holiday Trip\nSaturday\, December 2\, 2023\nNew York\, New York \nIncludes: Motorcoach Transportation and Free time in the City \nDo NYC\, your way! Get all of your holiday shopping done in NYC! Depart bright and early\, as the early bird gets the worm in the Big Apple! Arrive to NYC at 10:00am at Bryant Park (situated behind the New York Public Library in Midtown Manhattan\, between 40th and 42nd Streets & Fifth and Sixth Avenues.) There’s something for everyone in the Big City. We recommend planning your day in advance to maximize your experience! Enjoy free time in the City until your 9:30pm departure. \nSCHEDULE:\n4:00am Portland – Exit 7 Marginal Way Park & Ride Lot\n4:30am Biddeford – Exit 32 Park & Ride Lot\n4:45am Wells – Exit 19 Transportation Center\nRest Stop in Charlton\, MA\n10:00am Arrival in NYC at Bryant Park – NYC Freestyle!\n9:30pm Depart for home\n2:45am Arrival back to Wells\n3:00am Arrival back to Biddeford\n3:30am Arrival back to Portland \n Visit www.nycgo.com to help plan your day! \nThis is a great day and we can’t wait to see you in the New York City Holiday Trip!
URL:https://vipchartercoaches.com/event/new-york-city-holiday-trip-12-02-23/
CATEGORIES:Day Trip,Hot,Scenic,Shopping
ATTACH;FMTTYPE=image/jpeg:https://vipchartercoaches.com/wp-content/uploads/2019/11/nyc-5007.jpg
END:VEVENT
END:VCALENDAR