BEGIN:VCALENDAR
VERSION:2.0
PRODID:-//VIP Tour &amp; Charter Bus Company - ECPv6.15.20//NONSGML v1.0//EN
CALSCALE:GREGORIAN
METHOD:PUBLISH
X-WR-CALNAME:VIP Tour &amp; Charter Bus Company
X-ORIGINAL-URL:https://vipchartercoaches.com
X-WR-CALDESC:Events for VIP Tour &amp; Charter Bus Company
REFRESH-INTERVAL;VALUE=DURATION:PT1H
X-Robots-Tag:noindex
X-PUBLISHED-TTL:PT1H
BEGIN:VTIMEZONE
TZID:America/New_York
BEGIN:DAYLIGHT
TZOFFSETFROM:-0500
TZOFFSETTO:-0400
TZNAME:EDT
DTSTART:20180311T070000
END:DAYLIGHT
BEGIN:STANDARD
TZOFFSETFROM:-0400
TZOFFSETTO:-0500
TZNAME:EST
DTSTART:20181104T060000
END:STANDARD
BEGIN:DAYLIGHT
TZOFFSETFROM:-0500
TZOFFSETTO:-0400
TZNAME:EDT
DTSTART:20190310T070000
END:DAYLIGHT
BEGIN:STANDARD
TZOFFSETFROM:-0400
TZOFFSETTO:-0500
TZNAME:EST
DTSTART:20191103T060000
END:STANDARD
BEGIN:DAYLIGHT
TZOFFSETFROM:-0500
TZOFFSETTO:-0400
TZNAME:EDT
DTSTART:20200308T070000
END:DAYLIGHT
BEGIN:STANDARD
TZOFFSETFROM:-0400
TZOFFSETTO:-0500
TZNAME:EST
DTSTART:20201101T060000
END:STANDARD
END:VTIMEZONE
BEGIN:VEVENT
DTSTART;VALUE=DATE:20190908
DTEND;VALUE=DATE:20190909
DTSTAMP:20260423T063813
CREATED:20190420T143509Z
LAST-MODIFIED:20190904T140246Z
UID:11309-1567900800-1567987199@vipchartercoaches.com
SUMMARY:NE Patriots vs. Pittsburg Steelers
DESCRIPTION:NE Patriots vs. Pittsburg Steelers\nSunday\, September 8\, 2019\nGillette Stadium\, Foxborough\, MA\n8:20pm Game \nThe Patriots Fan Bus is back for another season! Ride-only service to New England Patriots home games at Gillette Stadium. Driving with traffic and parking fees can be a huge hassle\, so leave the driving to us and enjoy time with your friends and family onboard our deluxe motorcoach. The bus will arrive to the stadium approximately 2 hours before the game and depart 30 minutes after completion. Ride only. Does not include your game ticket. \n3:00pm – Portland\, Marginal Way Park 7 Ride Lot (across from World Gym)\n3:30pm – Biddeford\, Exit 32 Park & Ride Lot (across from Walmart)\n3:45pm – Wells\, Exit 19 Transportation Center\n6:30pm – Approximately arrival to Gillette Stadium\n8:20pm – GAME TME!\nDepart 30 minutes after the game ends \nPatriots Fan Bus Details
URL:https://vipchartercoaches.com/event/ne-patriots-vs-pittsburg-steelers/
LOCATION:Gillette Stadium\, 1 Patriot Pl\, Foxborough\, MA\, 02035\, United States
CATEGORIES:Day Trip,Sports
ATTACH;FMTTYPE=image/jpeg:https://vipchartercoaches.com/wp-content/uploads/2017/09/Patriots-Fan-Bus-1-e1504630902544.jpg
GEO:42.091188;-71.266889
X-APPLE-STRUCTURED-LOCATION;VALUE=URI;X-ADDRESS=Gillette Stadium 1 Patriot Pl Foxborough MA 02035 United States;X-APPLE-RADIUS=500;X-TITLE=1 Patriot Pl:geo:-71.266889,42.091188
END:VEVENT
BEGIN:VEVENT
DTSTART;VALUE=DATE:20190922
DTEND;VALUE=DATE:20190923
DTSTAMP:20260423T063813
CREATED:20190420T144329Z
LAST-MODIFIED:20190515T154908Z
UID:11313-1569110400-1569196799@vipchartercoaches.com
SUMMARY:NE Patriots vs. NY Jets
DESCRIPTION:NE Patriots vs. NY Jets\nSunday\, September 22\, 2019\nGillette Stadium\, Foxborough\, MA\n1:00pm Game \nThe Patriots Fan Bus is back for another season! Ride-only service to New England Patriots home games at Gillette Stadium. Driving with traffic and parking fees can be a huge hassle\, so leave the driving to us and enjoy time with your friends and family onboard our deluxe motorcoach. The bus will arrive to the stadium approximately 2 hours before the game and depart 30 minutes after completion. Ride only. Does not include your game ticket. \n8:00am – Portland\, Marginal Way Park 7 Ride Lot (across from World Gym)\n8:30am – Biddeford\, Exit 32 Park & Ride Lot (across from Walmart)\n8:45am – Wells\, Exit 19 Transportation Center\n11:00am – Approximately arrival to Gillette Stadium\n1:00pm – GAME TME!\nDepart 30 minutes after the game ends \nPatriots Fan Bus Details
URL:https://vipchartercoaches.com/event/ne-patriots-vs-ny-jets/
LOCATION:Gillette Stadium\, 1 Patriot Pl\, Foxborough\, MA\, 02035\, United States
CATEGORIES:Day Trip,Sports
ATTACH;FMTTYPE=image/jpeg:https://vipchartercoaches.com/wp-content/uploads/2017/09/Patriots-Fan-Bus-1-e1504630902544.jpg
GEO:42.091188;-71.266889
X-APPLE-STRUCTURED-LOCATION;VALUE=URI;X-ADDRESS=Gillette Stadium 1 Patriot Pl Foxborough MA 02035 United States;X-APPLE-RADIUS=500;X-TITLE=1 Patriot Pl:geo:-71.266889,42.091188
END:VEVENT
END:VCALENDAR