BEGIN:VCALENDAR
VERSION:2.0
PRODID:-//VIP Tour &amp; Charter Bus Company - ECPv6.15.20//NONSGML v1.0//EN
CALSCALE:GREGORIAN
METHOD:PUBLISH
X-ORIGINAL-URL:https://vipchartercoaches.com
X-WR-CALDESC:Events for VIP Tour &amp; Charter Bus Company
REFRESH-INTERVAL;VALUE=DURATION:PT1H
X-Robots-Tag:noindex
X-PUBLISHED-TTL:PT1H
BEGIN:VTIMEZONE
TZID:America/New_York
BEGIN:DAYLIGHT
TZOFFSETFROM:-0500
TZOFFSETTO:-0400
TZNAME:EDT
DTSTART:20180311T070000
END:DAYLIGHT
BEGIN:STANDARD
TZOFFSETFROM:-0400
TZOFFSETTO:-0500
TZNAME:EST
DTSTART:20181104T060000
END:STANDARD
BEGIN:DAYLIGHT
TZOFFSETFROM:-0500
TZOFFSETTO:-0400
TZNAME:EDT
DTSTART:20190310T070000
END:DAYLIGHT
BEGIN:STANDARD
TZOFFSETFROM:-0400
TZOFFSETTO:-0500
TZNAME:EST
DTSTART:20191103T060000
END:STANDARD
BEGIN:DAYLIGHT
TZOFFSETFROM:-0500
TZOFFSETTO:-0400
TZNAME:EDT
DTSTART:20200308T070000
END:DAYLIGHT
BEGIN:STANDARD
TZOFFSETFROM:-0400
TZOFFSETTO:-0500
TZNAME:EST
DTSTART:20201101T060000
END:STANDARD
END:VTIMEZONE
BEGIN:VEVENT
DTSTART;VALUE=DATE:20190316
DTEND;VALUE=DATE:20190317
DTSTAMP:20260423T144739
CREATED:20181128T173209Z
LAST-MODIFIED:20190510T141219Z
UID:9589-1552694400-1552780799@vipchartercoaches.com
SUMMARY:Boston Flower Show & Quincy Market Sat. 3/16
DESCRIPTION:Boston Flower Show & Quincy Market\n“The Beauty of Balance”\nSaturday\, March 16th\, 2019\nSeaport World Trade Center\, Boston\, MA\nIncludes: Round trip motorcoach transportation and admission to the Flower Show & Free Time in Quincy Market \nThis year’s Show theme is “The Beauty of Balance”\, which is a key factor in design decisions\, plant and material choices\, and in cultivating the right-size garden for our lives and budgets. We explore the harmony we create within our gardens\, vases and living spaces. \n8:00am Portland Marginal Way Park & Ride\n8:30am Biddeford Exit 32 Park & Ride\n8:45am Wells Exit 19 Transportation Center\n10:30AM – 2:00PM Boston Flower & Garden Show\n2:15pm – 4:45pm Quincy Market Free Time\n5:00pm Depart for home \nDownload Tour Itinerary & Details:\nBoston Flower Show 2019
URL:https://vipchartercoaches.com/event/boston-flower-garden-show-sat-3-16/
LOCATION:Seaport World Trade Center\,  1 Seaport Ln\, Boston\, 02210\, United States
CATEGORIES:Day Trip
ATTACH;FMTTYPE=image/jpeg:https://vipchartercoaches.com/wp-content/uploads/2018/11/The-Beauty-of-Balance.jpg
GEO:42.3492209;-71.0414338
X-APPLE-STRUCTURED-LOCATION;VALUE=URI;X-ADDRESS=Seaport World Trade Center  1 Seaport Ln Boston 02210 United States;X-APPLE-RADIUS=500;X-TITLE=1 Seaport Ln:geo:-71.0414338,42.3492209
END:VEVENT
END:VCALENDAR