BEGIN:VCALENDAR
VERSION:2.0
PRODID:-//VIP Tour &amp; Charter Bus Company - ECPv6.15.20//NONSGML v1.0//EN
CALSCALE:GREGORIAN
METHOD:PUBLISH
X-WR-CALNAME:VIP Tour &amp; Charter Bus Company
X-ORIGINAL-URL:https://vipchartercoaches.com
X-WR-CALDESC:Events for VIP Tour &amp; Charter Bus Company
REFRESH-INTERVAL;VALUE=DURATION:PT1H
X-Robots-Tag:noindex
X-PUBLISHED-TTL:PT1H
BEGIN:VTIMEZONE
TZID:America/New_York
BEGIN:DAYLIGHT
TZOFFSETFROM:-0500
TZOFFSETTO:-0400
TZNAME:EDT
DTSTART:20170312T070000
END:DAYLIGHT
BEGIN:STANDARD
TZOFFSETFROM:-0400
TZOFFSETTO:-0500
TZNAME:EST
DTSTART:20171105T060000
END:STANDARD
BEGIN:DAYLIGHT
TZOFFSETFROM:-0500
TZOFFSETTO:-0400
TZNAME:EDT
DTSTART:20180311T070000
END:DAYLIGHT
BEGIN:STANDARD
TZOFFSETFROM:-0400
TZOFFSETTO:-0500
TZNAME:EST
DTSTART:20181104T060000
END:STANDARD
BEGIN:DAYLIGHT
TZOFFSETFROM:-0500
TZOFFSETTO:-0400
TZNAME:EDT
DTSTART:20190310T070000
END:DAYLIGHT
BEGIN:STANDARD
TZOFFSETFROM:-0400
TZOFFSETTO:-0500
TZNAME:EST
DTSTART:20191103T060000
END:STANDARD
END:VTIMEZONE
BEGIN:VEVENT
DTSTART;VALUE=DATE:20181201
DTEND;VALUE=DATE:20181202
DTSTAMP:20260423T190210
CREATED:20180202T211217Z
LAST-MODIFIED:20181018T171020Z
UID:5827-1543622400-1543708799@vipchartercoaches.com
SUMMARY:"Gardens Aglow" at Coastal Maine Botanical Gardens
DESCRIPTION:Gardens Aglow at Coastal Maine Botanical Gardens\nSaturday\, December 1st\, 2018\nBoothbay\, ME \nIncludes: Motorcoach Transportation & admission to Gardens Aglow\nGardens Aglow is a signature events during the Boothbay Festival of Lights. Join us again for the largest light show in Maine! See hundreds of thousands of lights\, strung through the upper gardens in a beautiful display. From the lights\, to the s’mores pit\, popcorn stand and special art exhibits\, Gardens Aglow has something for the whole family. \nThere will be hot cocoa stands both inside and outside. The old Visitor Center will have a marketplace where guests can purchase beverages and snack/comfort food. There will be tables set up in the old Visitor Center\, inside the Education Center where the model trains will be located\, as well as benches throughout the Gardens. \n2:00pm Biddeford Exit 32 Park & Ride Lot\n2:30pm Portland Marginal Way Park & Ride Lot\n4:00pm Gardens Aglow Tour\, leisurely on your own\n6:00pm Depart for home
URL:https://vipchartercoaches.com/event/gardens-aglow-at-coastal-maine-botanical-gardens-copy/
LOCATION:Coastal Maine Botanical Garden\, 132 Botanical Gardens Dr.\, Boothbay\, 04537\, United States
CATEGORIES:Day Trip,Hot,Scenic
ATTACH;FMTTYPE=image/jpeg:https://vipchartercoaches.com/wp-content/uploads/2017/09/GardensAglowLogo-1.jpg
GEO:43.8735393;-69.662012
X-APPLE-STRUCTURED-LOCATION;VALUE=URI;X-ADDRESS=Coastal Maine Botanical Garden 132 Botanical Gardens Dr. Boothbay 04537 United States;X-APPLE-RADIUS=500;X-TITLE=132 Botanical Gardens Dr.:geo:-69.662012,43.8735393
END:VEVENT
BEGIN:VEVENT
DTSTART;VALUE=DATE:20181202
DTEND;VALUE=DATE:20181203
DTSTAMP:20260423T190210
CREATED:20180529T183127Z
LAST-MODIFIED:20180529T183449Z
UID:7346-1543708800-1543795199@vipchartercoaches.com
SUMMARY:Patriots vs. Minnesota Vikings
DESCRIPTION:New England Patriots vs. Minnesota Vikings\nSunday\, December 2nd\, 2018\nGillette Stadium\, Foxborough\, MA\n4:25pm Game Time \nCalling all football fans! The Patriots Fan Bus is back in action for the 2018 season. Ride with VIP to every Patriots home game at Gillette Stadium. We know driving\, parking and fees are a huge hassle\, so leave that up to us! This is a ride only and does not include your game ticket. You’ll have time to explore or visit Patriot Place. We arrive approximately 2 hours before the game begins. The bus begins departure 30 minutes after the game ends. \n11:00am – Portland\, ME  Marginal Way Park & Ride Lot of exit 7 (Across from World Gym)\n11:30am – Biddeford\, ME  Biddeford Exit 32 Park & Ride Lot (Across from Walmart)\n11:45am – Wells\, ME  Exit 19 Wells Transportation Center
URL:https://vipchartercoaches.com/event/patriots-vs-minnesota/
LOCATION:Gillette Stadium\, 1 Patriot Pl\, Foxborough\, MA\, 02035\, United States
CATEGORIES:Day Trip,Sports
ATTACH;FMTTYPE=image/jpeg:https://vipchartercoaches.com/wp-content/uploads/2017/09/Patriots-Fan-Bus-1-e1504630902544.jpg
GEO:42.091188;-71.266889
X-APPLE-STRUCTURED-LOCATION;VALUE=URI;X-ADDRESS=Gillette Stadium 1 Patriot Pl Foxborough MA 02035 United States;X-APPLE-RADIUS=500;X-TITLE=1 Patriot Pl:geo:-71.266889,42.091188
END:VEVENT
BEGIN:VEVENT
DTSTART;VALUE=DATE:20181208
DTEND;VALUE=DATE:20181209
DTSTAMP:20260423T190210
CREATED:20180202T214028Z
LAST-MODIFIED:20181204T183045Z
UID:5849-1544227200-1544313599@vipchartercoaches.com
SUMMARY:Boston Holiday Trip
DESCRIPTION:Boston Holiday Trip\nFaneuil Hall Marketplace\nSaturday\, December 8th\, 2018 \nRelax and arrive in style to Faneuil Hall Marketplace\, where Boston shopping is at its best with more than 100 of the finest shops and specialty pushcarts. Locally-owned treasures\, nationally recognized retailers\, and the Bullmarket…the world’s first “fleet” of wholly unique pushcarts featuring New England artisans and their fabulous wares. \n8:00am Portland – Exit 7 Marginal Way Park & Ride Lot\n8:30am Biddeford – Exit 32 Park & Ride Lot\n8:45am Wells – Exit 19 Transportation Center\n10:00am Approximate Arrival to Boston’s Faneuil Hall Marketplace\nEnjoy the day! Shop\, Dine\, Explore!\n4:00pm Depart Boston’s Faneuil Hall Marketplace
URL:https://vipchartercoaches.com/event/boston-day-trip-copy-copy/
LOCATION:Faneuil Hall Marketplace\, 4 South Market Building\, Boston\, MA\, 02109\, United States
CATEGORIES:Day Trip,Shopping
ATTACH;FMTTYPE=image/png:https://vipchartercoaches.com/wp-content/uploads/2017/12/faneuilhall2.png
GEO:42.3597994;-71.0544602
X-APPLE-STRUCTURED-LOCATION;VALUE=URI;X-ADDRESS=Faneuil Hall Marketplace 4 South Market Building Boston MA 02109 United States;X-APPLE-RADIUS=500;X-TITLE=4 South Market Building:geo:-71.0544602,42.3597994
END:VEVENT
BEGIN:VEVENT
DTSTART;VALUE=DATE:20181223
DTEND;VALUE=DATE:20181224
DTSTAMP:20260423T190210
CREATED:20180529T183744Z
LAST-MODIFIED:20180529T184836Z
UID:7350-1545523200-1545609599@vipchartercoaches.com
SUMMARY:Patriots vs. Buffalo Bills
DESCRIPTION:New England Patriots vs. Buffalo Bills\nSunday\, December 23\, 2018\nGillette Stadium\, Foxborough\, MA\n1:00pm Game Time \nCalling all football fans! The Patriots Fan Bus is back in action for the 2018 season. Ride with VIP to every Patriots home game at Gillette Stadium. We know driving\, parking and fees are a huge hassle\, so leave that up to us! This is a ride only and does not include your game ticket. You’ll have time to explore or visit Patriot Place. We arrive approximately 2 hours before the game begins. The bus begins departure 30 minutes after the game ends. \n7:30am – Portland\, ME  Marginal Way Park & Ride Lot of exit 7 (Across from World Gym)\n8:00am – Biddeford\, ME  Biddeford Exit 32 Park & Ride Lot (Across from Walmart)\n8:15am – Wells\, ME  Exit 19 Wells Transportation Center
URL:https://vipchartercoaches.com/event/patriots-vs-bills/
LOCATION:Gillette Stadium\, 1 Patriot Pl\, Foxborough\, MA\, 02035\, United States
CATEGORIES:Day Trip,Sports
ATTACH;FMTTYPE=image/jpeg:https://vipchartercoaches.com/wp-content/uploads/2017/09/Patriots-Fan-Bus-1-e1504630902544.jpg
GEO:42.091188;-71.266889
X-APPLE-STRUCTURED-LOCATION;VALUE=URI;X-ADDRESS=Gillette Stadium 1 Patriot Pl Foxborough MA 02035 United States;X-APPLE-RADIUS=500;X-TITLE=1 Patriot Pl:geo:-71.266889,42.091188
END:VEVENT
BEGIN:VEVENT
DTSTART;VALUE=DATE:20181227
DTEND;VALUE=DATE:20181228
DTSTAMP:20260423T190210
CREATED:20180202T211813Z
LAST-MODIFIED:20181018T171230Z
UID:5832-1545868800-1545955199@vipchartercoaches.com
SUMMARY:"Gardens Aglow" at Coastal Maine Botanical Gardens
DESCRIPTION:Gardens Aglow at Coastal Maine Botanical Gardens\nThursday\, December 27th\, 2018\nBoothbay\, ME \nIncludes: Motorcoach Transportation & admission to Gardens Aglow\nGardens Aglow is a signature events during the Boothbay Festival of Lights. Join us again for the largest light show in Maine! See hundreds of thousands of lights\, strung through the upper gardens in a beautiful display. From the lights\, to the s’mores pit\, popcorn stand and special art exhibits\, Gardens Aglow has something for the whole family. \nThere will be hot cocoa stands both inside and outside. The old Visitor Center will have a marketplace where guests can purchase beverages and snack/comfort food. There will be tables set up in the old Visitor Center\, inside the Education Center where the model trains will be located\, as well as benches throughout the Gardens. \n2:00pm Biddeford Exit 32 Park & Ride Lot\n2:30pm Portland Marginal Way Park & Ride Lot\n4:00pm Gardens Aglow Tour\, leisurely on your own\n6:00pm Depart for home
URL:https://vipchartercoaches.com/event/gardens-aglow-at-coastal-maine-botanical-gardens-copy-copy/
LOCATION:Coastal Maine Botanical Garden\, 132 Botanical Gardens Dr.\, Boothbay\, 04537\, United States
CATEGORIES:Day Trip,Hot,Scenic
ATTACH;FMTTYPE=image/jpeg:https://vipchartercoaches.com/wp-content/uploads/2017/09/GardensAglowLogo-1.jpg
GEO:43.8735393;-69.662012
X-APPLE-STRUCTURED-LOCATION;VALUE=URI;X-ADDRESS=Coastal Maine Botanical Garden 132 Botanical Gardens Dr. Boothbay 04537 United States;X-APPLE-RADIUS=500;X-TITLE=132 Botanical Gardens Dr.:geo:-69.662012,43.8735393
END:VEVENT
BEGIN:VEVENT
DTSTART;VALUE=DATE:20181230
DTEND;VALUE=DATE:20181231
DTSTAMP:20260423T190210
CREATED:20180529T184905Z
LAST-MODIFIED:20180612T184100Z
UID:7354-1546128000-1546214399@vipchartercoaches.com
SUMMARY:Patriots vs. NY Jets
DESCRIPTION:New England Patriots vs. NY Jets\nSunday\, December 30\, 2018\nGillette Stadium\, Foxborough\, MA\n1:00pm Game Time \nCalling all football fans! The Patriots Fan Bus is back in action for the 2018 season. Ride with VIP to every Patriots home game at Gillette Stadium. We know driving\, parking and fees are a huge hassle\, so leave that up to us! This is a ride only and does not include your game ticket. You’ll have time to explore or visit Patriot Place. We arrive approximately 2 hours before the game begins. The bus begins departure 30 minutes after the game ends. \n7:30am – Portland\, ME  Marginal Way Park & Ride Lot of exit 7 (Across from World Gym)\n8:00am – Biddeford\, ME  Biddeford Exit 32 Park & Ride Lot (Across from Walmart)\n8:15am – Wells\, ME  Exit 19 Wells Transportation Center
URL:https://vipchartercoaches.com/event/patriots-vs-jets/
LOCATION:Gillette Stadium\, 1 Patriot Pl\, Foxborough\, MA\, 02035\, United States
CATEGORIES:Day Trip,Sports
ATTACH;FMTTYPE=image/jpeg:https://vipchartercoaches.com/wp-content/uploads/2017/09/Patriots-Fan-Bus-1-e1504630902544.jpg
GEO:42.091188;-71.266889
X-APPLE-STRUCTURED-LOCATION;VALUE=URI;X-ADDRESS=Gillette Stadium 1 Patriot Pl Foxborough MA 02035 United States;X-APPLE-RADIUS=500;X-TITLE=1 Patriot Pl:geo:-71.266889,42.091188
END:VEVENT
END:VCALENDAR