BEGIN:VCALENDAR
VERSION:2.0
PRODID:-//VIP Tour &amp; Charter Bus Company - ECPv6.15.20//NONSGML v1.0//EN
CALSCALE:GREGORIAN
METHOD:PUBLISH
X-ORIGINAL-URL:https://vipchartercoaches.com
X-WR-CALDESC:Events for VIP Tour &amp; Charter Bus Company
REFRESH-INTERVAL;VALUE=DURATION:PT1H
X-Robots-Tag:noindex
X-PUBLISHED-TTL:PT1H
BEGIN:VTIMEZONE
TZID:America/New_York
BEGIN:DAYLIGHT
TZOFFSETFROM:-0500
TZOFFSETTO:-0400
TZNAME:EDT
DTSTART:20170312T070000
END:DAYLIGHT
BEGIN:STANDARD
TZOFFSETFROM:-0400
TZOFFSETTO:-0500
TZNAME:EST
DTSTART:20171105T060000
END:STANDARD
BEGIN:DAYLIGHT
TZOFFSETFROM:-0500
TZOFFSETTO:-0400
TZNAME:EDT
DTSTART:20180311T070000
END:DAYLIGHT
BEGIN:STANDARD
TZOFFSETFROM:-0400
TZOFFSETTO:-0500
TZNAME:EST
DTSTART:20181104T060000
END:STANDARD
BEGIN:DAYLIGHT
TZOFFSETFROM:-0500
TZOFFSETTO:-0400
TZNAME:EDT
DTSTART:20190310T070000
END:DAYLIGHT
BEGIN:STANDARD
TZOFFSETFROM:-0400
TZOFFSETTO:-0500
TZNAME:EST
DTSTART:20191103T060000
END:STANDARD
END:VTIMEZONE
BEGIN:VEVENT
DTSTART;VALUE=DATE:20180909
DTEND;VALUE=DATE:20180910
DTSTAMP:20260423T231924
CREATED:20180426T154443Z
LAST-MODIFIED:20180426T154846Z
UID:6964-1536451200-1536537599@vipchartercoaches.com
SUMMARY:Patriots vs. Texans
DESCRIPTION:New England Patriots vs. Houston Texans\nSunday\, September 9th\, 2018\nGillette Stadium\, Foxborough\, MA\n1:00pm Game Time \nCalling all football fans! The Patriots Fan Bus is back in action for the 2018 season. Ride with VIP to every Patriots home game at Gillette Stadium. We know driving\, parking and fees are a huge hassle\, so leave that up to us! This is a ride only and does not include your game ticket. You’ll have time to explore or visit Patriot Place. We arrive approximately 2 hours before the game begins. The bus begins departure 30 minutes after the game ends. \n7:30am – Portland\, ME  Marginal Way Park & Ride Lot of exit 7 (Across from World Gym)\n 8:00am – Biddeford\, ME  Biddeford Exit 32 Park & Ride Lot (Across from Walmart)\n8:15am – Wells\, ME  Exit 19 Wells Transportation Center
URL:https://vipchartercoaches.com/event/patriots-vs-texans/
LOCATION:Gillette Stadium\, 1 Patriot Pl\, Foxborough\, MA\, 02035\, United States
CATEGORIES:Day Trip,Sports
ATTACH;FMTTYPE=image/jpeg:https://vipchartercoaches.com/wp-content/uploads/2017/09/Patriots-Fan-Bus-1-e1504630902544.jpg
GEO:42.091188;-71.266889
X-APPLE-STRUCTURED-LOCATION;VALUE=URI;X-ADDRESS=Gillette Stadium 1 Patriot Pl Foxborough MA 02035 United States;X-APPLE-RADIUS=500;X-TITLE=1 Patriot Pl:geo:-71.266889,42.091188
END:VEVENT
BEGIN:VEVENT
DTSTART;VALUE=DATE:20180930
DTEND;VALUE=DATE:20181001
DTSTAMP:20260423T231924
CREATED:20180529T175859Z
LAST-MODIFIED:20180529T180521Z
UID:7330-1538265600-1538351999@vipchartercoaches.com
SUMMARY:Patriots vs. Miami Dolphins
DESCRIPTION:New England Patriots vs. Miami Dolphins\nSunday\, September 30th\, 2018\nGillette Stadium\, Foxborough\, MA\n1:00pm Game Time \nCalling all football fans! The Patriots Fan Bus is back in action for the 2018 season. Ride with VIP to every Patriots home game at Gillette Stadium. We know driving\, parking and fees are a huge hassle\, so leave that up to us! This is a ride only and does not include your game ticket. You’ll have time to explore or visit Patriot Place. We arrive approximately 2 hours before the game begins. The bus begins departure 30 minutes after the game ends. \n7:30am – Portland\, ME  Marginal Way Park & Ride Lot of exit 7 (Across from World Gym)\n 8:00am – Biddeford\, ME  Biddeford Exit 32 Park & Ride Lot (Across from Walmart)\n8:15am – Wells\, ME  Exit 19 Wells Transportation Center
URL:https://vipchartercoaches.com/event/patriots-vs-miami/
LOCATION:Gillette Stadium\, 1 Patriot Pl\, Foxborough\, MA\, 02035\, United States
CATEGORIES:Day Trip,Sports
ATTACH;FMTTYPE=image/jpeg:https://vipchartercoaches.com/wp-content/uploads/2017/09/Patriots-Fan-Bus-1-e1504630902544.jpg
GEO:42.091188;-71.266889
X-APPLE-STRUCTURED-LOCATION;VALUE=URI;X-ADDRESS=Gillette Stadium 1 Patriot Pl Foxborough MA 02035 United States;X-APPLE-RADIUS=500;X-TITLE=1 Patriot Pl:geo:-71.266889,42.091188
END:VEVENT
END:VCALENDAR