BEGIN:VCALENDAR
VERSION:2.0
PRODID:-//VIP Tour &amp; Charter Bus Company - ECPv6.15.20//NONSGML v1.0//EN
CALSCALE:GREGORIAN
METHOD:PUBLISH
X-WR-CALNAME:VIP Tour &amp; Charter Bus Company
X-ORIGINAL-URL:https://vipchartercoaches.com
X-WR-CALDESC:Events for VIP Tour &amp; Charter Bus Company
REFRESH-INTERVAL;VALUE=DURATION:PT1H
X-Robots-Tag:noindex
X-PUBLISHED-TTL:PT1H
BEGIN:VTIMEZONE
TZID:America/New_York
BEGIN:DAYLIGHT
TZOFFSETFROM:-0500
TZOFFSETTO:-0400
TZNAME:EDT
DTSTART:20160313T070000
END:DAYLIGHT
BEGIN:STANDARD
TZOFFSETFROM:-0400
TZOFFSETTO:-0500
TZNAME:EST
DTSTART:20161106T060000
END:STANDARD
BEGIN:DAYLIGHT
TZOFFSETFROM:-0500
TZOFFSETTO:-0400
TZNAME:EDT
DTSTART:20170312T070000
END:DAYLIGHT
BEGIN:STANDARD
TZOFFSETFROM:-0400
TZOFFSETTO:-0500
TZNAME:EST
DTSTART:20171105T060000
END:STANDARD
BEGIN:DAYLIGHT
TZOFFSETFROM:-0500
TZOFFSETTO:-0400
TZNAME:EDT
DTSTART:20180311T070000
END:DAYLIGHT
BEGIN:STANDARD
TZOFFSETFROM:-0400
TZOFFSETTO:-0500
TZNAME:EST
DTSTART:20181104T060000
END:STANDARD
END:VTIMEZONE
BEGIN:VEVENT
DTSTART;VALUE=DATE:20171228
DTEND;VALUE=DATE:20171229
DTSTAMP:20260424T133449
CREATED:20170925T160208Z
LAST-MODIFIED:20170925T160712Z
UID:4289-1514419200-1514505599@vipchartercoaches.com
SUMMARY:"Gardens Aglow" at Coastal Maine Botanical Gardens
DESCRIPTION:Gardens Aglow at Coastal Maine Botanical Gardens\nThursday\, December 28th\, 2017\nBoothbay\, ME \nIncludes: Motorcoach Transportation & admission to Gardens Aglow\nGardens Aglow is a signature events during the Boothbay Festival of Lights. Join us again for the largest light show in Maine! See hundreds of thousands of lights\, strung through the upper gardens in a beautiful display. From the lights\, to the s’mores pit\, popcorn stand and special art exhibits\, Gardens Aglow has something for the whole family. \n2:30pm Biddeford Exit 32 Park & Ride Lot\n3:00pm Portland Marginal Way Park & Ride Lot\n4:30pm Gardens Aglow Tour\, leisurely on your own\n6:00pm Depart for home \n*Snow Date: 12/29/17 In the event we must cancel due to a winter storm\, we will make the trip the follow day*
URL:https://vipchartercoaches.com/event/gardens-aglow-at-coastal-maine-botanical-gardens/
CATEGORIES:Day Trip,Featured Tours,Hot,Scenic
ATTACH;FMTTYPE=image/jpeg:https://vipchartercoaches.com/wp-content/uploads/2017/09/GardensAglowLogo-1.jpg
END:VEVENT
END:VCALENDAR