BEGIN:VCALENDAR
VERSION:2.0
PRODID:-//VIP Tour &amp; Charter Bus Company - ECPv6.15.20//NONSGML v1.0//EN
CALSCALE:GREGORIAN
METHOD:PUBLISH
X-ORIGINAL-URL:https://vipchartercoaches.com
X-WR-CALDESC:Events for VIP Tour &amp; Charter Bus Company
REFRESH-INTERVAL;VALUE=DURATION:PT1H
X-Robots-Tag:noindex
X-PUBLISHED-TTL:PT1H
BEGIN:VTIMEZONE
TZID:America/New_York
BEGIN:DAYLIGHT
TZOFFSETFROM:-0500
TZOFFSETTO:-0400
TZNAME:EDT
DTSTART:20170312T070000
END:DAYLIGHT
BEGIN:STANDARD
TZOFFSETFROM:-0400
TZOFFSETTO:-0500
TZNAME:EST
DTSTART:20171105T060000
END:STANDARD
BEGIN:DAYLIGHT
TZOFFSETFROM:-0500
TZOFFSETTO:-0400
TZNAME:EDT
DTSTART:20180311T070000
END:DAYLIGHT
BEGIN:STANDARD
TZOFFSETFROM:-0400
TZOFFSETTO:-0500
TZNAME:EST
DTSTART:20181104T060000
END:STANDARD
BEGIN:DAYLIGHT
TZOFFSETFROM:-0500
TZOFFSETTO:-0400
TZNAME:EDT
DTSTART:20190310T070000
END:DAYLIGHT
BEGIN:STANDARD
TZOFFSETFROM:-0400
TZOFFSETTO:-0500
TZNAME:EST
DTSTART:20191103T060000
END:STANDARD
END:VTIMEZONE
BEGIN:VEVENT
DTSTART;VALUE=DATE:20180915
DTEND;VALUE=DATE:20180916
DTSTAMP:20260423T213655
CREATED:20171020T142922Z
LAST-MODIFIED:20180109T155937Z
UID:4674-1536969600-1537055999@vipchartercoaches.com
SUMMARY:Ed Sheeran's North American Stadium Tour
DESCRIPTION:ED SHEERAN\nNorth American Stadium Tour\nSaturday\, September 15th\, 2018\nGillette Stadium\, Foxborough\, MA\n \nRelax and enjoy your ride on a VIP motorcoach to Gillette Stadium. Forget the hassle of traffic\, parking and fees and leave the driving to us. The British singer-songwriter made his debut at the home of the five-time Super Bowl Champion New England Patriots in 2013 when he opened for Taylor Swift’s RED Tour. This trip is Ride Only and does not include your concert ticket. You’ll arrive approximately 2 hours before the concert begins and depart 30 minutes after it ends.\n1:30pm Portland – Exit 7 Marginal Way Park & Ride Lot\n2:00pm Biddeford – Exit 32 Park & Ride Lot\n2:15pm Wells – Exit 19 Transportation Center\n2:55pm Seabrook\, NH – Sam’s Club Parking Lot\, 11 Batchelder Rd\n5:00pm Gillette Stadium Approximate Arrival\n7:00pm Concert
URL:https://vipchartercoaches.com/event/ed-sheerans-north-american-stadium-tour/
LOCATION:Gillette Stadium\, 1 Patriot Pl\, Foxborough\, MA\, 02035\, United States
CATEGORIES:Concert,Day Trip,Hot
ATTACH;FMTTYPE=image/jpeg:https://vipchartercoaches.com/wp-content/uploads/2017/10/425x353-gs-icon-2018-sheeran.jpg
GEO:42.091188;-71.266889
X-APPLE-STRUCTURED-LOCATION;VALUE=URI;X-ADDRESS=Gillette Stadium 1 Patriot Pl Foxborough MA 02035 United States;X-APPLE-RADIUS=500;X-TITLE=1 Patriot Pl:geo:-71.266889,42.091188
END:VEVENT
END:VCALENDAR