BEGIN:VCALENDAR
VERSION:2.0
PRODID:-//VIP Tour &amp; Charter Bus Company - ECPv6.15.20//NONSGML v1.0//EN
CALSCALE:GREGORIAN
METHOD:PUBLISH
X-WR-CALNAME:VIP Tour &amp; Charter Bus Company
X-ORIGINAL-URL:https://vipchartercoaches.com
X-WR-CALDESC:Events for VIP Tour &amp; Charter Bus Company
REFRESH-INTERVAL;VALUE=DURATION:PT1H
X-Robots-Tag:noindex
X-PUBLISHED-TTL:PT1H
BEGIN:VTIMEZONE
TZID:America/New_York
BEGIN:DAYLIGHT
TZOFFSETFROM:-0500
TZOFFSETTO:-0400
TZNAME:EDT
DTSTART:20220313T070000
END:DAYLIGHT
BEGIN:STANDARD
TZOFFSETFROM:-0400
TZOFFSETTO:-0500
TZNAME:EST
DTSTART:20221106T060000
END:STANDARD
BEGIN:DAYLIGHT
TZOFFSETFROM:-0500
TZOFFSETTO:-0400
TZNAME:EDT
DTSTART:20230312T070000
END:DAYLIGHT
BEGIN:STANDARD
TZOFFSETFROM:-0400
TZOFFSETTO:-0500
TZNAME:EST
DTSTART:20231105T060000
END:STANDARD
BEGIN:DAYLIGHT
TZOFFSETFROM:-0500
TZOFFSETTO:-0400
TZNAME:EDT
DTSTART:20240310T070000
END:DAYLIGHT
BEGIN:STANDARD
TZOFFSETFROM:-0400
TZOFFSETTO:-0500
TZNAME:EST
DTSTART:20241103T060000
END:STANDARD
END:VTIMEZONE
BEGIN:VEVENT
DTSTART;VALUE=DATE:20231210
DTEND;VALUE=DATE:20231211
DTSTAMP:20260420T061305
CREATED:20231025T235409Z
LAST-MODIFIED:20231107T205446Z
UID:23031-1702166400-1702252799@vipchartercoaches.com
SUMMARY:"Gardens Aglow" 12/10/23
DESCRIPTION:Coastal Maine Botanical Garden\n“Gardens Aglow”\nand a visit to Sweetz & More\nSunday\, December 10th\, 2023\n4:00pm Gardens Aglow Tour \nIncludes: “Gardens Aglow” ticket\, r/t motorcoach from Biddeford\, Portland or Yarmouth\, stop on the way at Sweetz & More. \nReturning for its ninth season\, the annual celebration will feature new walking routes and paths to explore\, as well as some new vistas and old friends (hello\, Wade the Moose!). With more than 750\,000 LED lights woven through 14 acres of central gardens\, the Gardens is amplifying the brightest light display in Maine with new designs and sustainability initiatives. The newly renovated cafe will be open with hot and cold light fare\, snacks and beverages\, cafeteria style. \nYour VIP trip will begin with a visit to Sweetz & More\, New England’s largest sweets shop (in Wisscasset)\, then to the Coastal Maine Botanical Garden for 2 hour touring which will include time for optional visit to the Cafe and/or restrooms. \nBiddeford exit 32 park and ride – 1pm\nPortland exit 7 Marginal way – 1:30 pm\nYarmouth exit 15 park and ride – 1:45 pm\n3 pm – 3:30 pm  visit Sweetz\n4 pm – 5:30 pm visit Gardens \n \n \n  \n  \n  \n  \n  \n“Gardens Aglow” 12/10/23
URL:https://vipchartercoaches.com/event/gardens-aglow-12-10-23/
LOCATION:Coastal Maine Botanical Garden\, 132 Botanical Gardens Dr.\, Boothbay\, 04537\, United States
CATEGORIES:Day Trip,Scenic
ATTACH;FMTTYPE=image/png:https://vipchartercoaches.com/wp-content/uploads/2022/10/gardens-aglow.png
GEO:43.8735393;-69.662012
X-APPLE-STRUCTURED-LOCATION;VALUE=URI;X-ADDRESS=Coastal Maine Botanical Garden 132 Botanical Gardens Dr. Boothbay 04537 United States;X-APPLE-RADIUS=500;X-TITLE=132 Botanical Gardens Dr.:geo:-69.662012,43.8735393
END:VEVENT
END:VCALENDAR