BEGIN:VCALENDAR
VERSION:2.0
PRODID:-//VIP Tour &amp; Charter Bus Company - ECPv6.15.20//NONSGML v1.0//EN
CALSCALE:GREGORIAN
METHOD:PUBLISH
X-ORIGINAL-URL:https://vipchartercoaches.com
X-WR-CALDESC:Events for VIP Tour &amp; Charter Bus Company
REFRESH-INTERVAL;VALUE=DURATION:PT1H
X-Robots-Tag:noindex
X-PUBLISHED-TTL:PT1H
BEGIN:VTIMEZONE
TZID:America/New_York
BEGIN:DAYLIGHT
TZOFFSETFROM:-0500
TZOFFSETTO:-0400
TZNAME:EDT
DTSTART:20200308T070000
END:DAYLIGHT
BEGIN:STANDARD
TZOFFSETFROM:-0400
TZOFFSETTO:-0500
TZNAME:EST
DTSTART:20201101T060000
END:STANDARD
BEGIN:DAYLIGHT
TZOFFSETFROM:-0500
TZOFFSETTO:-0400
TZNAME:EDT
DTSTART:20210314T070000
END:DAYLIGHT
BEGIN:STANDARD
TZOFFSETFROM:-0400
TZOFFSETTO:-0500
TZNAME:EST
DTSTART:20211107T060000
END:STANDARD
BEGIN:DAYLIGHT
TZOFFSETFROM:-0500
TZOFFSETTO:-0400
TZNAME:EDT
DTSTART:20220313T070000
END:DAYLIGHT
BEGIN:STANDARD
TZOFFSETFROM:-0400
TZOFFSETTO:-0500
TZNAME:EST
DTSTART:20221106T060000
END:STANDARD
END:VTIMEZONE
BEGIN:VEVENT
DTSTART;VALUE=DATE:20210815
DTEND;VALUE=DATE:20210816
DTSTAMP:20260421T131641
CREATED:20210701T170217Z
LAST-MODIFIED:20210701T170755Z
UID:16084-1628985600-1629071999@vipchartercoaches.com
SUMMARY:Encore Boston Harbor Casino Day Trip  8/15
DESCRIPTION:ENCORE CASINO BOSTON HARBOR\nEverett\, MA\nSunday\, August 15th\, 2021\nLet the Games Begin!\nwww.encorebostonharbor.com\n Experience a full day of gaming fun made easy and affordable.  It’s time to discover what you’ve been missing! BONUS: $20 Casino Bonus for Slot Play\n\nTry your luck with 1\,800+ slot machines\, including classic favorites\, automated tables and the newest game titles and enjoy over 185 state-of-the-art table games all with superior service.\n\n9:00am Marginal Way Park & Ride Lot\n9:30am Biddeford Exit 32 Park & Ride Lot\n9:45am Wells Transportation Center Exit 19\n11:30am Arrival to Encore\nDepart 5:30pm
URL:https://vipchartercoaches.com/event/encore-boston-harbor-casino-day-trip-8-15/
LOCATION:MA
CATEGORIES:Casino,Day Trip,Hot,Scenic
ATTACH;FMTTYPE=image/jpeg:https://vipchartercoaches.com/wp-content/uploads/2021/05/Event-Lawn-Front-View-EVENING-Roger-Davies_06-24-3-scaled.jpg
END:VEVENT
BEGIN:VEVENT
DTSTART;VALUE=DATE:20210824
DTEND;VALUE=DATE:20210825
DTSTAMP:20260421T131641
CREATED:20210701T170807Z
LAST-MODIFIED:20210701T171158Z
UID:16088-1629763200-1629849599@vipchartercoaches.com
SUMMARY:Encore Boston Harbor Casino Day Trip  8/24
DESCRIPTION:ENCORE CASINO BOSTON HARBOR\nEverett\, MA\nTuesday\, August 24th\, 2021\nLet the Games Begin!\nwww.encorebostonharbor.com\n Experience a full day of gaming fun made easy and affordable.  It’s time to discover what you’ve been missing! BONUS: $20 Casino Bonus for Slot Play\n\nTry your luck with 1\,800+ slot machines\, including classic favorites\, automated tables and the newest game titles and enjoy over 185 state-of-the-art table games all with superior service.\n\n9:00am Marginal Way Park & Ride Lot\n9:30am Biddeford Exit 32 Park & Ride Lot\n9:45am Wells Transportation Center Exit 19\n11:30am Arrival to Encore\nDepart 5:30pm
URL:https://vipchartercoaches.com/event/encore-boston-harbor-casino-day-trip-8-24/
LOCATION:MA
CATEGORIES:Casino,Day Trip,Hot,Scenic
ATTACH;FMTTYPE=image/jpeg:https://vipchartercoaches.com/wp-content/uploads/2021/05/Event-Lawn-Front-View-EVENING-Roger-Davies_06-24-3-scaled.jpg
END:VEVENT
BEGIN:VEVENT
DTSTART;VALUE=DATE:20210831
DTEND;VALUE=DATE:20210901
DTSTAMP:20260421T131641
CREATED:20210701T171212Z
LAST-MODIFIED:20210701T172030Z
UID:16092-1630368000-1630454399@vipchartercoaches.com
SUMMARY:Encore Boston Harbor Casino Day Trip  8/31
DESCRIPTION:ENCORE CASINO BOSTON HARBOR\nEverett\, MA\nTuesday\, August 31st\, 2021\nLet the Games Begin!\nwww.encorebostonharbor.com\n Experience a full day of gaming fun made easy and affordable.  It’s time to discover what you’ve been missing! BONUS: $20 Casino Bonus for Slot Play\n\nTry your luck with 1\,800+ slot machines\, including classic favorites\, automated tables and the newest game titles and enjoy over 185 state-of-the-art table games all with superior service.\n\n9:00am Marginal Way Park & Ride Lot\n9:30am Biddeford Exit 32 Park & Ride Lot\n9:45am Wells Transportation Center Exit 19\n11:30am Arrival to Encore\nDepart 5:30pm
URL:https://vipchartercoaches.com/event/encore-boston-harbor-casino-day-trip-8-31/
LOCATION:MA
CATEGORIES:Casino,Day Trip,Hot,Scenic
ATTACH;FMTTYPE=image/jpeg:https://vipchartercoaches.com/wp-content/uploads/2021/05/Event-Lawn-Front-View-EVENING-Roger-Davies_06-24-3-scaled.jpg
END:VEVENT
END:VCALENDAR