BEGIN:VCALENDAR
VERSION:2.0
PRODID:-//VIP Tour &amp; Charter Bus Company - ECPv6.15.20//NONSGML v1.0//EN
CALSCALE:GREGORIAN
METHOD:PUBLISH
X-ORIGINAL-URL:https://vipchartercoaches.com
X-WR-CALDESC:Events for VIP Tour &amp; Charter Bus Company
REFRESH-INTERVAL;VALUE=DURATION:PT1H
X-Robots-Tag:noindex
X-PUBLISHED-TTL:PT1H
BEGIN:VTIMEZONE
TZID:America/New_York
BEGIN:DAYLIGHT
TZOFFSETFROM:-0500
TZOFFSETTO:-0400
TZNAME:EDT
DTSTART:20160313T070000
END:DAYLIGHT
BEGIN:STANDARD
TZOFFSETFROM:-0400
TZOFFSETTO:-0500
TZNAME:EST
DTSTART:20161106T060000
END:STANDARD
BEGIN:DAYLIGHT
TZOFFSETFROM:-0500
TZOFFSETTO:-0400
TZNAME:EDT
DTSTART:20170312T070000
END:DAYLIGHT
BEGIN:STANDARD
TZOFFSETFROM:-0400
TZOFFSETTO:-0500
TZNAME:EST
DTSTART:20171105T060000
END:STANDARD
BEGIN:DAYLIGHT
TZOFFSETFROM:-0500
TZOFFSETTO:-0400
TZNAME:EDT
DTSTART:20180311T070000
END:DAYLIGHT
BEGIN:STANDARD
TZOFFSETFROM:-0400
TZOFFSETTO:-0500
TZNAME:EST
DTSTART:20181104T060000
END:STANDARD
END:VTIMEZONE
BEGIN:VEVENT
DTSTART;VALUE=DATE:20171022
DTEND;VALUE=DATE:20171023
DTSTAMP:20260422T041947
CREATED:20170509T172044Z
LAST-MODIFIED:20171020T212243Z
UID:2778-1508630400-1508716799@vipchartercoaches.com
SUMMARY:New England Patriots vs. Atlanta Falcons
DESCRIPTION:New England Patriots vs. Atlanta Falcons\nSunday\, October 22nd\, 2017\nGillette Stadium\, Foxborough\, MA\nGame Time 8:30pm \nRide the VIP Patriots Fan Bus deluxe motorcoach to Gillette Stadium for the New England Patriots home games this 2017 season. We know driving\, parking and fees are a huge hassle\, so leave that up to us! This is a ride only and does not include your game ticket. You’ll have time to explore or visit Patriot Place. We arrive approximately 2 hours before the game begins. The bus departs 30 after the game ends. \n3:00pm Portland – Exit 7 Marginal Way Park & Ride Lot\n3:30pm Biddeford – Exit 32 Park & Ride Lot\n3:45pm Wells – Exit 19 Transportation Center\n4:25pm Seabrook\, NH – Sam’s Club Parking Lot\, 11 Batchelder Rd\n6:30pm Gillette Stadium Approximate Arrival\n8:30pm Game Time
URL:https://vipchartercoaches.com/event/new-england-patriots-vs-atlanta-falcons/
LOCATION:Gillette Stadium\, 1 Patriot Pl\, Foxborough\, MA\, 02035\, United States
CATEGORIES:Day Trip,Hot,Sports
ATTACH;FMTTYPE=image/jpeg:https://vipchartercoaches.com/wp-content/uploads/2017/05/Patriots-Fan-Bus.jpg
GEO:42.091188;-71.266889
X-APPLE-STRUCTURED-LOCATION;VALUE=URI;X-ADDRESS=Gillette Stadium 1 Patriot Pl Foxborough MA 02035 United States;X-APPLE-RADIUS=500;X-TITLE=1 Patriot Pl:geo:-71.266889,42.091188
END:VEVENT
BEGIN:VEVENT
DTSTART;VALUE=DATE:20171021
DTEND;VALUE=DATE:20171022
DTSTAMP:20260422T041947
CREATED:20170321T213719Z
LAST-MODIFIED:20171020T212112Z
UID:2488-1508544000-1508630399@vipchartercoaches.com
SUMMARY:Salem Haunted Happenings
DESCRIPTION:Salem Haunted Happenings\nSaturday\, October 21\, 2017\nSalem Village\, Salem\, MA\nA festive celebration of Halloween and fall in New England! Haunted Happenings is a month long Halloween celebration\nof parades\, costume balls\, haunted houses\, ghost tours\, historic tours and reenactments. Take a spin on the rides at the\nannual Haunted Happenings Carnival. Visit the Psychic Fair and Witchcraft Expo to wander an emporium of magical gifts\,\nmeet real practicing Witches\, or make an appointment with one of Salem’s talented psychic readers! Relax and enjoy\nyour round trip motorcoach transportation to this world recognized event. \nIncludes: Deluxe Motorcoach Transportation. \n10:00am Portland – Exit 7 Marginal Way Park & Ride Lot\n10:30am Biddeford – Exit 32 Park & Ride Lot\n10:45am Wells – Exit 19 Transportation Center\n11:25am Seabrook\, NH – Sam’s Club Parking Lot\, 11 Batchelder Rd\n12:00pm – 6:00pm Enjoy the day in Salem Village \nWe recommend making the most out of your time by planning your day in advance.\nVisit the Haunted Happenings website for more information.
URL:https://vipchartercoaches.com/event/salem-haunted-happenings/
LOCATION:MA
CATEGORIES:Day Trip,Featured Tours
ATTACH;FMTTYPE=image/jpeg:https://vipchartercoaches.com/wp-content/uploads/2017/03/phpgQN5wvAM-e1505412668456.jpg
END:VEVENT
BEGIN:VEVENT
DTSTART;VALUE=DATE:20171008
DTEND;VALUE=DATE:20171009
DTSTAMP:20260422T041947
CREATED:20170202T234507Z
LAST-MODIFIED:20171005T193621Z
UID:2275-1507420800-1507507199@vipchartercoaches.com
SUMMARY:Fall Foliage Turkey Train
DESCRIPTION:Fall Foliage Turkey Train\nSunday\, October 8\, 2017\nLimerick\, ME & Meredith\, NH\n \nStart your morning off with a deluxe motorcoach ride to Libby & Sons U-Picks Farm. Enjoy a fresh blueberry donut and hot mulled cider\, on us! Pick your own apples or try some kettle corn. Next\, we’re off on a scenic ride to Meredith\, NH to board the Turkey Train. Ride the rails around Lake Winnipesaukee and enjoy a complete turkey dinner with all the fixin’s\, served by Hart’s Turkey Farm.\nIncludes: Drink and snack at Libby & Son’s\, Turkey Train Ride with full Turkey Dinner\, Motorcoach Transportation. \n8:30am Marginal Way Park & Ride Lot\n9:00am Biddeford Exit 32 Park & Ride Lot\n9:45am Libby & Son’s U Picks Farm\n12:00pm Arrive to Train Station for boarding\n12:30pm Train Ride and Turkey Dinner\n3:00pm Return trip home \n 
URL:https://vipchartercoaches.com/event/fall-foliage-turkey-train/
LOCATION:MA
CATEGORIES:Day Trip,Scenic
ATTACH;FMTTYPE=image/jpeg:https://vipchartercoaches.com/wp-content/uploads/2017/01/883697_10151673095901921_1947542662_o-e1504887418930.jpg
END:VEVENT
BEGIN:VEVENT
DTSTART;VALUE=DATE:20171001
DTEND;VALUE=DATE:20171002
DTSTAMP:20260422T041947
CREATED:20170509T165131Z
LAST-MODIFIED:20170906T201139Z
UID:2775-1506816000-1506902399@vipchartercoaches.com
SUMMARY:New England Patriots vs. Carolina Panthers
DESCRIPTION:New England Patriots vs. Carolina Panthers\nSunday\, October 1st\, 2017\nGillette Stadium\, Foxborough\, MA\nGame Time 1:00pm \nRide the VIP Patriots Fan Bus deluxe motorcoach to Gillette Stadium for the New England Patriots home games this 2017 season. We know driving\, parking and fees are a huge hassle\, so leave that up to us! This is a ride only and does not include your game ticket. You’ll have time to explore or visit Patriot Place. We arrive approximately 2 hours before the game begins. The bus departs 30 after the game ends. \n7:30am Portland – Exit 7 Marginal Way Park & Ride Lot\n8:00am Biddeford – Exit 32 Park & Ride Lot\n8:15am Wells – Exit 19 Transportation Center\n8:55am Seabrook\, NH – Sam’s Club Parking Lot\, 11 Batchelder Rd\n11:00am Gillette Stadium Approximate Arrival\n1:00pm Game Time
URL:https://vipchartercoaches.com/event/new-england-patriots-vs-carolina-panthers/
LOCATION:Gillette Stadium\, 1 Patriot Pl\, Foxborough\, MA\, 02035\, United States
CATEGORIES:Day Trip,Hot,Sports
ATTACH;FMTTYPE=image/jpeg:https://vipchartercoaches.com/wp-content/uploads/2017/05/Patriots-Fan-Bus.jpg
GEO:42.091188;-71.266889
X-APPLE-STRUCTURED-LOCATION;VALUE=URI;X-ADDRESS=Gillette Stadium 1 Patriot Pl Foxborough MA 02035 United States;X-APPLE-RADIUS=500;X-TITLE=1 Patriot Pl:geo:-71.266889,42.091188
END:VEVENT
BEGIN:VEVENT
DTSTART;VALUE=DATE:20170924
DTEND;VALUE=DATE:20170925
DTSTAMP:20260422T041947
CREATED:20170509T160258Z
LAST-MODIFIED:20170908T161305Z
UID:2772-1506211200-1506297599@vipchartercoaches.com
SUMMARY:New England Patriots vs. Houston Texans
DESCRIPTION:New England Patriots vs. Houston Texans\nSunday\, September 24th\, 2017\nGillette Stadium\, Foxborough\, MA\nGame Time 1:00pm \nRide the VIP Patriots Fan Bus deluxe motorcoach to Gillette Stadium for the New England Patriots home games this 2017 season. We know driving\, parking and fees are a huge hassle\, so leave that up to us! This is a ride only and does not include your game ticket. You’ll have time to explore or visit Patriot Place. We arrive approximately 2 hours before the game begins. The bus departs 30 after the game ends. \n7:30am Portland – Exit 7 Marginal Way Park & Ride Lot\n8:00am Biddeford – Exit 32 Park & Ride Lot\n8:15am Wells – Exit 19 Transportation Center\n8:55am Seabrook\, NH – Sam’s Club Parking Lot\, 11 Batchelder Rd\n11:00am Gillette Stadium Approximate Arrival\n1:00pm Game Time
URL:https://vipchartercoaches.com/event/new-england-patriots-vs-houston-texans/
LOCATION:Gillette Stadium\, 1 Patriot Pl\, Foxborough\, MA\, 02035\, United States
CATEGORIES:Day Trip,Featured Tours,Hot,Sports
ATTACH;FMTTYPE=image/jpeg:https://vipchartercoaches.com/wp-content/uploads/2017/05/Patriots-Fan-Bus.jpg
GEO:42.091188;-71.266889
X-APPLE-STRUCTURED-LOCATION;VALUE=URI;X-ADDRESS=Gillette Stadium 1 Patriot Pl Foxborough MA 02035 United States;X-APPLE-RADIUS=500;X-TITLE=1 Patriot Pl:geo:-71.266889,42.091188
END:VEVENT
BEGIN:VEVENT
DTSTART;VALUE=DATE:20170907
DTEND;VALUE=DATE:20170908
DTSTAMP:20260422T041947
CREATED:20170509T152338Z
LAST-MODIFIED:20170809T215614Z
UID:2768-1504742400-1504828799@vipchartercoaches.com
SUMMARY:New England Patriots vs. Kansas City Chiefs
DESCRIPTION:New England Patriots vs. Kansas City Chiefs\nThursday\, September 7th\, 2017\nGillette Stadium\, Foxborough\, MA\nGame Time 8:30pm \nRide the VIP Patriots Fan Bus deluxe motorcoach to Gillette Stadium for the New England Patriots home games this 2017 season. We know driving\, parking and fees are a huge hassle\, so leave that up to us! This is a ride only and does not include your game ticket. You’ll have time to explore or visit Patriot Place. We arrive approximately 2 hours before the game begins. The bus departs 30 after the game ends. \n3:00pm Portland – Exit 7 Marginal Way Park & Ride Lot\n3:30pm Biddeford – Exit 32 Park & Ride Lot\n3:45pm Wells – Exit 19 Transportation Center\n4:25pm Seabrook\, NH – Sam’s Club Parking Lot\, 11 Batchelder Rd\n6:30pm Gillette Stadium Approximate Arrival\n8:30pm Game Time
URL:https://vipchartercoaches.com/event/new-england-patriots-vs-kansas-city-chiefs/
LOCATION:Gillette Stadium\, 1 Patriot Pl\, Foxborough\, MA\, 02035\, United States
CATEGORIES:Day Trip,Hot,Sports
ATTACH;FMTTYPE=image/jpeg:https://vipchartercoaches.com/wp-content/uploads/2017/05/Patriots-Fan-Bus.jpg
GEO:42.091188;-71.266889
X-APPLE-STRUCTURED-LOCATION;VALUE=URI;X-ADDRESS=Gillette Stadium 1 Patriot Pl Foxborough MA 02035 United States;X-APPLE-RADIUS=500;X-TITLE=1 Patriot Pl:geo:-71.266889,42.091188
END:VEVENT
BEGIN:VEVENT
DTSTART;VALUE=DATE:20170831
DTEND;VALUE=DATE:20170901
DTSTAMP:20260422T041947
CREATED:20170509T150757Z
LAST-MODIFIED:20170811T150355Z
UID:2765-1504137600-1504223999@vipchartercoaches.com
SUMMARY:New England Patriots vs. New York Giants (Pre)
DESCRIPTION:New England Patriots vs. New York Giants (Pre)\nThursday\, August 31st\, 2017\nGillette Stadium\, Foxborough\, MA\nGame Time 7:30pm \nRide the VIP Patriots Fan Bus deluxe motorcoach to Gillette Stadium for the New England Patriots home games this 2017 season. We know driving\, parking and fees are a huge hassle\, so leave that up to us! This is a ride only and does not include your game ticket. You’ll have time to explore or visit Patriot Place. We arrive approximately 2 hours before the game begins. The bus departs 30 after the game ends. \n2:00pm Portland – Exit 7 Marginal Way Park & Ride Lot\n2:30pm Biddeford – Exit 32 Park & Ride Lot\n2:45pm Wells – Exit 19 Transportation Center\n3:25pm Seabrook\, NH – Sam’s Club Parking Lot\, 11 Batchelder Rd\n5:30pm Gillette Stadium Approximate Arrival\n7:30pm Game Time
URL:https://vipchartercoaches.com/event/new-england-patriots-vs-new-york-giants-pre/
LOCATION:Gillette Stadium\, 1 Patriot Pl\, Foxborough\, MA\, 02035\, United States
CATEGORIES:Day Trip,Featured Tours,Hot,Sports
ATTACH;FMTTYPE=image/jpeg:https://vipchartercoaches.com/wp-content/uploads/2017/05/Patriots-Fan-Bus.jpg
GEO:42.091188;-71.266889
X-APPLE-STRUCTURED-LOCATION;VALUE=URI;X-ADDRESS=Gillette Stadium 1 Patriot Pl Foxborough MA 02035 United States;X-APPLE-RADIUS=500;X-TITLE=1 Patriot Pl:geo:-71.266889,42.091188
END:VEVENT
BEGIN:VEVENT
DTSTART;VALUE=DATE:20170826
DTEND;VALUE=DATE:20170827
DTSTAMP:20260422T041947
CREATED:20170509T181530Z
LAST-MODIFIED:20170811T150330Z
UID:2793-1503705600-1503791999@vipchartercoaches.com
SUMMARY:Kenny Chesney Concert
DESCRIPTION:Kenny Chesney\nSaturday\, August 26\, 2017\nGillette Stadium\, Boston\, MA\nSpecial Guests: Thomas Rhett & Old Dominion\nYou must\, you must\, you must get on the bus… to Kenny Chesney’s ONLY stadium show in the United States for 2017!\nRelax and enjoy your transportation to and from the concert. Forget the hassles of directions\, traffic and parking. We’ve\ngot you covered. Arrive to the concert about an hour and half early\, depart 30 minutes after it ends. Ride only. Concert\nticket not included. \n11:00am Portland – Exit 7 Marginal Way Park & Ride Lot\n11:30am Biddeford – Exit 32 Park & Ride Lot\n11:45am Wells – Exit 19 Transportation Center\n12:25pm Seabrook\, NH – Sam’s Club Parking Lot\, 11 Batchelder Rd\n3:00pm Gillette Stadium Approximate Arrival\n5:00pm Concert
URL:https://vipchartercoaches.com/event/kenny-chesney-concert-2/
LOCATION:Gillette Stadium\, 1 Patriot Pl\, Foxborough\, MA\, 02035\, United States
CATEGORIES:Concert,Day Trip,Featured Tours,Hot
ATTACH;FMTTYPE=image/jpeg:https://vipchartercoaches.com/wp-content/uploads/2017/03/kennychesney2.jpg
GEO:42.091188;-71.266889
X-APPLE-STRUCTURED-LOCATION;VALUE=URI;X-ADDRESS=Gillette Stadium 1 Patriot Pl Foxborough MA 02035 United States;X-APPLE-RADIUS=500;X-TITLE=1 Patriot Pl:geo:-71.266889,42.091188
END:VEVENT
BEGIN:VEVENT
DTSTART;VALUE=DATE:20170825
DTEND;VALUE=DATE:20170826
DTSTAMP:20260422T041947
CREATED:20170321T210528Z
LAST-MODIFIED:20170809T215802Z
UID:2479-1503619200-1503705599@vipchartercoaches.com
SUMMARY:Kenny Chesney Concert
DESCRIPTION:Kenny Chesney\nFriday\, August 25\, 2017\nGillette Stadium\, Boston\, MA\nSpecial Guests: Thomas Rhett & Old Dominion\nYou must\, you must\, you must get on the bus… to Kenny Chesney’s ONLY stadium show in the United States for 2017!\nRelax and enjoy your transportation to and from the concert. Forget the hassles of directions\, traffic and parking. We’ve\ngot you covered. Arrive to the concert about an hour and half early\, depart 30 minutes after it ends. Ride only. Concert\nticket not included. \n11:00am Portland – Exit 7 Marginal Way Park & Ride Lot\n11:30am Biddeford – Exit 32 Park & Ride Lot\n11:45am Wells – Exit 19 Transportation Center\n12:25pm Seabrook\, NH – Sam’s Club Parking Lot\, 11 Batchelder Rd\n3:00pm Gillette Stadium Approximate Arrival\n5:00pm Concert
URL:https://vipchartercoaches.com/event/kenny-chesney-concert/
LOCATION:Gillette Stadium\, 1 Patriot Pl\, Foxborough\, MA\, 02035\, United States
CATEGORIES:Concert,Featured Tours,Hot
ATTACH;FMTTYPE=image/jpeg:https://vipchartercoaches.com/wp-content/uploads/2017/03/kennychesney2.jpg
GEO:42.091188;-71.266889
X-APPLE-STRUCTURED-LOCATION;VALUE=URI;X-ADDRESS=Gillette Stadium 1 Patriot Pl Foxborough MA 02035 United States;X-APPLE-RADIUS=500;X-TITLE=1 Patriot Pl:geo:-71.266889,42.091188
END:VEVENT
BEGIN:VEVENT
DTSTART;VALUE=DATE:20170804
DTEND;VALUE=DATE:20170805
DTSTAMP:20260422T041947
CREATED:20170321T205455Z
LAST-MODIFIED:20170707T150808Z
UID:2474-1501804800-1501891199@vipchartercoaches.com
SUMMARY:Coldplay Concert
DESCRIPTION:Coldplay\nFriday\, August 4\, 2017\nGillette Stadium\, Boston\, MA\nColdplay announced a new 2017 run of North American stadium and arena shows for its “A Head Full Of Dreams Tour\,”\nincluding a return to Gillette Stadium in Foxborough on Friday\, Aug. 4. Relax and enjoy your transportation to and from\nthe concert. Forget the hassles of directions\, traffic and parking. We’ve got you covered. Arrive to the concert about an\nhour and half early\, depart 30 minutes after it ends. Ride only. Concert ticket not included. \n1:30pm Portland – Exit 7 Marginal Way Park & Ride Lot\n2:00pm Biddeford – Exit 32 Park & Ride Lot\n2:15pm Wells – Exit 19 Transportation Center\n2:55pm Seabrook\, NH – Sam’s Club Parking Lot\, 11 Batchelder Rd\n5:00pm Gillette Stadium Approximate Arrival\n7:00pm Concert
URL:https://vipchartercoaches.com/event/coldplay-concert/
LOCATION:Gillette Stadium\, 1 Patriot Pl\, Foxborough\, MA\, 02035\, United States
CATEGORIES:Concert,Hot
ATTACH;FMTTYPE=image/jpeg:https://vipchartercoaches.com/wp-content/uploads/2017/03/coldplay2.jpg
GEO:42.091188;-71.266889
X-APPLE-STRUCTURED-LOCATION;VALUE=URI;X-ADDRESS=Gillette Stadium 1 Patriot Pl Foxborough MA 02035 United States;X-APPLE-RADIUS=500;X-TITLE=1 Patriot Pl:geo:-71.266889,42.091188
END:VEVENT
END:VCALENDAR