BEGIN:VCALENDAR
VERSION:2.0
PRODID:-//VIP Tour &amp; Charter Bus Company - ECPv6.15.20//NONSGML v1.0//EN
CALSCALE:GREGORIAN
METHOD:PUBLISH
X-ORIGINAL-URL:https://vipchartercoaches.com
X-WR-CALDESC:Events for VIP Tour &amp; Charter Bus Company
REFRESH-INTERVAL;VALUE=DURATION:PT1H
X-Robots-Tag:noindex
X-PUBLISHED-TTL:PT1H
BEGIN:VTIMEZONE
TZID:America/New_York
BEGIN:DAYLIGHT
TZOFFSETFROM:-0500
TZOFFSETTO:-0400
TZNAME:EDT
DTSTART:20240310T070000
END:DAYLIGHT
BEGIN:STANDARD
TZOFFSETFROM:-0400
TZOFFSETTO:-0500
TZNAME:EST
DTSTART:20241103T060000
END:STANDARD
BEGIN:DAYLIGHT
TZOFFSETFROM:-0500
TZOFFSETTO:-0400
TZNAME:EDT
DTSTART:20250309T070000
END:DAYLIGHT
BEGIN:STANDARD
TZOFFSETFROM:-0400
TZOFFSETTO:-0500
TZNAME:EST
DTSTART:20251102T060000
END:STANDARD
BEGIN:DAYLIGHT
TZOFFSETFROM:-0500
TZOFFSETTO:-0400
TZNAME:EDT
DTSTART:20260308T070000
END:DAYLIGHT
BEGIN:STANDARD
TZOFFSETFROM:-0400
TZOFFSETTO:-0500
TZNAME:EST
DTSTART:20261101T060000
END:STANDARD
END:VTIMEZONE
BEGIN:VEVENT
DTSTART;VALUE=DATE:20251201
DTEND;VALUE=DATE:20251202
DTSTAMP:20260421T093419
CREATED:20250904T191513Z
LAST-MODIFIED:20251030T142620Z
UID:26060-1764547200-1764633599@vipchartercoaches.com
SUMMARY:Patriots vs. New York Giants at Gillette Stadium – December 1 (Transportation Only)
DESCRIPTION:The GameWhen: Monday\, December 1\, 2025Where: Gillette Stadium\, Foxborough\, MAKickoff: 8:15 PM ET gillettestadium.comOpponent: New York Giants \nReady for some football? Join us for an epic ride to see the New England Patriots take the field in primetime against the New York Giants. Whether you’re a die-hard fan or just love the game-day energy\, this is the no-stress way to get in on the action. \nNo need to deal with traffic\, parking\, or the hassle of driving home. We’ve got your round-trip ride covered—just bring the team spirit! \nWhy Ride With Us?No Parking HeadachesAvoid the long walk and expensive lots. We drop you off close to the action. \nTailgate Vibes OnboardGet in the game-day mood with pumped-up fans\, good music\, and zero stress. \nPickup Locations That Work for YouHop on in Portland\, Biddeford\, or Wells—wherever’s easiest for you. \nSafe Ride HomeCelebrate a win (or process a loss) without worrying about who’s driving back. \nFlat RateJust $75 round trip. No surprise fees—just a smooth ride. \nImportant Info🚨 Game Tickets NOT Included!This is transportation only—be sure to grab your game tickets separately. \nSchedule \n\n\n03:00 PM – Portland Park & Ride located at 274 Marginal Way\, Portland\, ME 04101 \n\n\n03:30 PM – Biddeford Exit 32 Park & Ride\, 514–516 Alfred St\, Biddeford\, ME 04005 \n\n\n03:45 PM – Wells Exit 19 Transportation Center\, 696 Sanford Rd (Rte 109)\, Wells\, ME 04090 \n\n\nArrival at Gillette Stadium\,(Lot 10): Around 6:00 PM – perfect timing for dinner\, tailgating\, or grabbing merch before the action begins! \n🚌 Return Departure: 30 minutes after the game ends. Location: Lot 10 \n (We wait for you—no worries!) \nLet’s go Pats! 🔥Seats go fast—lock yours in now and ride with fellow fans all the way to Gillette!
URL:https://vipchartercoaches.com/event/patriots-vs-giants-bus-ride-portland/
LOCATION:Gillette Stadium\, 1 Patriot Pl\, Foxborough\, MA\, 02035\, United States
CATEGORIES:Concert,Day Trip,Hot,Scenic,Sports
GEO:42.091188;-71.266889
X-APPLE-STRUCTURED-LOCATION;VALUE=URI;X-ADDRESS=Gillette Stadium 1 Patriot Pl Foxborough MA 02035 United States;X-APPLE-RADIUS=500;X-TITLE=1 Patriot Pl:geo:-71.266889,42.091188
END:VEVENT
BEGIN:VEVENT
DTSTART;VALUE=DATE:20251214
DTEND;VALUE=DATE:20251215
DTSTAMP:20260421T093419
CREATED:20250904T192149Z
LAST-MODIFIED:20251213T232901Z
UID:26063-1765670400-1765756799@vipchartercoaches.com
SUMMARY:Patriots vs. Buffalo Bills at Gillette Stadium – December 14 (Transportation Only)
DESCRIPTION:The GameWhen: Sunday\, December 14\, 2025Where: Gillette Stadium\, Foxborough\, MAKickoff: 1:00 PM ET (gillettestadium.com)Opponent: Buffalo Bills \nReady for some football? Join us for an epic ride to see the New England Patriots take on the Buffalo Bills at Gillette Stadium. Whether you’re a die-hard fan or just love the energy of game day\, this is the no-stress way to get in on the action. \nNo need to deal with traffic\, parking\, or the hassle of driving home. We’ve got your round-trip ride covered—just bring the team spirit! \nWhy Ride With Us?No Parking HeadachesAvoid the long walk and expensive lots. We drop you off close to the action. \nTailgate Vibes OnboardGet in the game-day mood with pumped-up fans\, good music\, and zero stress. \nPickup Locations That Work for YouHop on in Portland\, Biddeford\, or Wells—wherever’s easiest for you. \nSafe Ride HomeCelebrate a win (or process a loss) without worrying about who’s driving back. \nFlat RateJust $75 round trip. No surprise fees—just a smooth ride. \nImportant Info🚨 Game Tickets NOT Included!This is transportation only—be sure to grab your game tickets separately. \nSchedule \n\n\n07:30 AM – Portland Park & Ride located at 274 Marginal Way\, Portland\, ME 04101 \n\n\n08:00 AM – Biddeford Exit 32 Park & Ride\, 514–516 Alfred St\, Biddeford\, ME 04005 \n\n\n08:15 AM – Wells Exit 19 Transportation Center\, 696 Sanford Rd (Rte 109)\, Wells\, ME 04090 \n\n\nArrival at Gillette Stadium (Lot 10): Around 11:00 AM – plenty of time for tailgating\, food\, and merch shopping before kickoff! \n🚌 Return Departure: 30 minutes after the game ends. Location: Lot 10 (We wait for you—no worries!) \nLet’s go Pats! 🔥Seats go fast—lock yours in now and ride with fellow fans all the way to Gillette!
URL:https://vipchartercoaches.com/event/patriots-vs-bills-bus-ride-portland/
LOCATION:Gillette Stadium\, 1 Patriot Pl\, Foxborough\, MA\, 02035\, United States
CATEGORIES:Day Trip,Hot,Scenic,Sports
GEO:42.091188;-71.266889
X-APPLE-STRUCTURED-LOCATION;VALUE=URI;X-ADDRESS=Gillette Stadium 1 Patriot Pl Foxborough MA 02035 United States;X-APPLE-RADIUS=500;X-TITLE=1 Patriot Pl:geo:-71.266889,42.091188
END:VEVENT
BEGIN:VEVENT
DTSTART;VALUE=DATE:20251217
DTEND;VALUE=DATE:20251218
DTSTAMP:20260421T093419
CREATED:20251118T121406Z
LAST-MODIFIED:20251204T152836Z
UID:26370-1765929600-1766015999@vipchartercoaches.com
SUMMARY:Encore Casino Boston Harbor 12/17/2025
DESCRIPTION:Your VIP Bus to\nENCORE CASINO BOSTON HARBOR 12/17/2025\nEverett\, MA\nWed 12/17/2025\nLet the Games Begin!\nwww.encorebostonharbor.com\n Experience a full day of gaming fun made easy and affordable.  It’s time to discover what you’ve been missing! BONUS: $20 Casino Bonus for Slot Play\n\nTry your luck with 1\,800+ slot machines\, including classic favorites\, automated tables and the newest game titles and enjoy over 185 state-of-the-art table games all with superior service.\n\n Schedule: \n8:00am – Portland\, Marginal Way Park & Ride Lot\, Exit 7\n8:30am – Biddeford\, Exit 32 Park & Ride Lot\n8:45am – Wells\, Exit 19 Transportation Center\n10:30am – Arrival to Encore Casino\n4:30pm – Depart Encore Casino \n\n\nENCORE CASINO BOSTON HARBOR 12/17/2025
URL:https://vipchartercoaches.com/event/encore-casino-boston-12-17-2025/
LOCATION:Encore Boston Harbor\, 1 Broadway\, Everett\, MA\, 02149\, United States
CATEGORIES:Casino,Day Trip,Hot,Scenic
ATTACH;FMTTYPE=image/jpeg:https://vipchartercoaches.com/wp-content/uploads/2021/05/encore.jpg
END:VEVENT
END:VCALENDAR