BEGIN:VCALENDAR
VERSION:2.0
PRODID:-//VIP Tour &amp; Charter Bus Company - ECPv6.15.20//NONSGML v1.0//EN
CALSCALE:GREGORIAN
METHOD:PUBLISH
X-WR-CALNAME:VIP Tour &amp; Charter Bus Company
X-ORIGINAL-URL:https://vipchartercoaches.com
X-WR-CALDESC:Events for VIP Tour &amp; Charter Bus Company
REFRESH-INTERVAL;VALUE=DURATION:PT1H
X-Robots-Tag:noindex
X-PUBLISHED-TTL:PT1H
BEGIN:VTIMEZONE
TZID:America/New_York
BEGIN:DAYLIGHT
TZOFFSETFROM:-0500
TZOFFSETTO:-0400
TZNAME:EDT
DTSTART:20240310T070000
END:DAYLIGHT
BEGIN:STANDARD
TZOFFSETFROM:-0400
TZOFFSETTO:-0500
TZNAME:EST
DTSTART:20241103T060000
END:STANDARD
BEGIN:DAYLIGHT
TZOFFSETFROM:-0500
TZOFFSETTO:-0400
TZNAME:EDT
DTSTART:20250309T070000
END:DAYLIGHT
BEGIN:STANDARD
TZOFFSETFROM:-0400
TZOFFSETTO:-0500
TZNAME:EST
DTSTART:20251102T060000
END:STANDARD
BEGIN:DAYLIGHT
TZOFFSETFROM:-0500
TZOFFSETTO:-0400
TZNAME:EDT
DTSTART:20260308T070000
END:DAYLIGHT
BEGIN:STANDARD
TZOFFSETFROM:-0400
TZOFFSETTO:-0500
TZNAME:EST
DTSTART:20261101T060000
END:STANDARD
END:VTIMEZONE
BEGIN:VEVENT
DTSTART;TZID=America/New_York:20250214T163000
DTEND;TZID=America/New_York:20250214T233000
DTSTAMP:20260421T222625
CREATED:20250122T103730Z
LAST-MODIFIED:20250122T172103Z
UID:25172-1739550600-1739575800@vipchartercoaches.com
SUMMARY:Rat Pack on The Rails – A Valentine’s Dinner & Show Experience
DESCRIPTION:Imagine an evening where time slows down\, and every moment feels like a step into a dream. A night designed to sweep you off your feet—where romance and luxury intertwine\, and the worries of the world disappear.  \nIt begins with a five-course dinner at The Ledgeview Grille\, a hidden gem where the ambiance is as captivating as the meal itself. As the evening unfolds\, you’ll board the Conway Scenic Railroad’s first-class railcars\, where a world of glamour and nostalgia awaits. The Rat Pack—those legendary icons of the 1950s and 1960s—come alive\, filling the air with timeless music that sets the stage for an unforgettable experience.  \nWith luxury transportation ensuring a smooth and stress-free journey\, you’ll focus on what matters most: each other and the night ahead. Whether you’re looking to celebrate love\, indulge in a romantic escape\, or simply be swept away by an atmosphere of elegance\, this experience is crafted to make every moment feel extraordinary.  \nItinerary:  \n\n4:30 PM: Depart from Portland Marginal way \n\n\n7:00 PM: Dinner at The Ledgeview Grille \n\n\n9:00 PM – 9:45 PM: Rat Pack-Themed Musical Show \n\n\n9:45 PM: Depart to Portland \n\nNote: Dress in your finest 1950s-1960s style attire to match the elegance of the evening. Dinner seating will be arranged for two\, creating an intimate atmosphere.  \nWhat’s Included:  \n\nRound-Trip Transportation from Portland to North Conway\nLeave the driving to us and focus on the magic of the evening. A luxurious\, stress-free ride ensures you can enjoy every moment. \n\n\nFive-Course Dinner at The Ledgeview Grille\nMenu: \n\nShrimp Cocktail   \nDemi Salad with House Vinaigrette   \nClam Chowder   \nPrime Rib or Statler Chicken (served with Mashed Potatoes and Green Bean  Almondine) or Meatless Lasagna   \nDessert: “Chef’s Choice”  \n\nRat Pack-Themed Musical Show aboard Conway Scenic Railroad’s first-class railcars\nExperience a live musical performance\, celebrating the golden age of Rat Pack glamour\, making for an unforgettable end to the evening. \n\n\nA Night of Romance Without Worry\nEvery detail has been taken care of. All that’s left for you to do is enjoy the company of your loved one and the romance of the night. \n\nImportant Notes:  \n\nDress Code: Elegant 1950s-1960s style attire is encouraged to complement the romantic\, timeless feel of the event. \n\n\nAllergies: Please notify us in advance of any dietary restrictions. (Note: gluten-free and vegan options are not available.) \n\n\nReservations: Seating is limited\, so be sure to book early. \n\nBook Your Spot: This exclusive Valentine’s Day experience with provided transportation is available only on Friday\, February 14th. Cheers to an evening of romance\, luxury\, and unforgettable moments—book your place now and make this Valentine’s Day one to remember. 
URL:https://vipchartercoaches.com/event/rat-pack-on-the-rails-a-valentines-dinner-show-experience/
LOCATION:MA
END:VEVENT
BEGIN:VEVENT
DTSTART;VALUE=DATE:20250220
DTEND;VALUE=DATE:20250221
DTSTAMP:20260421T222625
CREATED:20250116T212108Z
LAST-MODIFIED:20250116T213259Z
UID:25156-1740009600-1740095999@vipchartercoaches.com
SUMMARY:Encore Casino Boston Harbor 2/20/2025
DESCRIPTION:Your VIP Bus to\nENCORE CASINO BOSTON HARBOR 2/20/2025\nEverett\, MA\nThurs 2/20/2025\nLet the Games Begin!\nwww.encorebostonharbor.com\n Experience a full day of gaming fun made easy and affordable.  It’s time to discover what you’ve been missing! BONUS: $20 Casino Bonus for Slot Play\n\nTry your luck with 1\,800+ slot machines\, including classic favorites\, automated tables and the newest game titles and enjoy over 185 state-of-the-art table games all with superior service.\n\n Schedule: \n8:00am – Portland\, Marginal Way Park & Ride Lot\, Exit 7\n8:30am – Biddeford\, Exit 32 Park & Ride Lot\n8:45am – Wells\, Exit 19 Transportation Center\n10:30am – Arrival to Encore Casino\n4:30pm – Depart Encore Casino \n\n\nENCORE CASINO BOSTON HARBOR 2/20/2025
URL:https://vipchartercoaches.com/event/encore-casino-boston-1-16-2025-copy/
LOCATION:Encore Boston Harbor\, 1 Broadway\, Everett\, MA\, 02149\, United States
CATEGORIES:Casino,Day Trip,Hot,Scenic
ATTACH;FMTTYPE=image/jpeg:https://vipchartercoaches.com/wp-content/uploads/2021/05/encore.jpg
END:VEVENT
END:VCALENDAR