BEGIN:VCALENDAR
VERSION:2.0
PRODID:-//VIP Tour &amp; Charter Bus Company - ECPv6.15.20//NONSGML v1.0//EN
CALSCALE:GREGORIAN
METHOD:PUBLISH
X-WR-CALNAME:VIP Tour &amp; Charter Bus Company
X-ORIGINAL-URL:https://vipchartercoaches.com
X-WR-CALDESC:Events for VIP Tour &amp; Charter Bus Company
REFRESH-INTERVAL;VALUE=DURATION:PT1H
X-Robots-Tag:noindex
X-PUBLISHED-TTL:PT1H
BEGIN:VTIMEZONE
TZID:America/New_York
BEGIN:DAYLIGHT
TZOFFSETFROM:-0500
TZOFFSETTO:-0400
TZNAME:EDT
DTSTART:20230312T070000
END:DAYLIGHT
BEGIN:STANDARD
TZOFFSETFROM:-0400
TZOFFSETTO:-0500
TZNAME:EST
DTSTART:20231105T060000
END:STANDARD
BEGIN:DAYLIGHT
TZOFFSETFROM:-0500
TZOFFSETTO:-0400
TZNAME:EDT
DTSTART:20240310T070000
END:DAYLIGHT
BEGIN:STANDARD
TZOFFSETFROM:-0400
TZOFFSETTO:-0500
TZNAME:EST
DTSTART:20241103T060000
END:STANDARD
BEGIN:DAYLIGHT
TZOFFSETFROM:-0500
TZOFFSETTO:-0400
TZNAME:EDT
DTSTART:20250309T070000
END:DAYLIGHT
BEGIN:STANDARD
TZOFFSETFROM:-0400
TZOFFSETTO:-0500
TZNAME:EST
DTSTART:20251102T060000
END:STANDARD
END:VTIMEZONE
BEGIN:VEVENT
DTSTART;VALUE=DATE:20241217
DTEND;VALUE=DATE:20241218
DTSTAMP:20260420T054836
CREATED:20241217T163312Z
LAST-MODIFIED:20241217T163503Z
UID:25065-1734393600-1734479999@vipchartercoaches.com
SUMMARY:Rock Out with AC/DC: Concert Transportation
DESCRIPTION:Don’t miss your chance to see AC/DC live at Gillette Stadium for the first time in nearly a decade! The legendary rock band is bringing their iconic Power Up North American Tour to Foxborough on May 4\, 2025\, joined by special guests\, The Pretty Reckless. Leave the hassle of driving and parking behind—our exclusive round-trip transportation makes getting to the concert a breeze. Whether you’re a die-hard fan or just looking to experience one of the most electrifying performances in music history\, this is your opportunity to ride in comfort and style while jamming to the hits of one of rock’s most influential bands. With over 200 million albums sold worldwide\, AC/DC continues to define the sound of rock and roll. This tour features A Rock Out with AC/DC: Concert Transportation  Angus Young\, Brian Johnson\, and the rest of the legendary lineup delivering the high-voltage energy you know and love.  What’s Included: Round-Trip Transportation: Convenient and stress-free travel to and from the concert. Prime Drop-Off Location: Close to the stadium entrance for easy access. Hassle-Free Return: Skip the parking lot chaos after the show—just hop on and relax.  Schedule: Departure from Portland (Marginal Way): 2:00 PM Departure from Biddeford: 2:30 PM Departure from Wells: 2:45 PM Arrival at Gillette Stadium: Around 5:00 PM\, giving you plenty of time to enjoy the pre-show excitement. (Show starts 7:00 pm) Return Departure: 30 minutes after the concert ends.  Important Details: This is a transportation-only service. Concert tickets are NOT included. Please make sure you purchase your tickets separately before the event!  Reserve Your Seat Now! Seats are limited\, so don’t wait—secure your spot on the AC/DC Party Bus today! At just $75.00 round-trip\, it’s the ultimate way to rock out with none of the stress. Book Now!
URL:https://vipchartercoaches.com/event/rock-out-with-ac-dc-concert-transportation/
LOCATION:Gillette Stadium\, 1 Patriot Pl\, Foxborough\, MA\, 02035\, United States
CATEGORIES:Concert,Featured Tours,Hot
ATTACH;FMTTYPE=image/webp:https://vipchartercoaches.com/wp-content/uploads/2024/12/2024-ACDC-1200x800-1.webp
GEO:42.091188;-71.266889
X-APPLE-STRUCTURED-LOCATION;VALUE=URI;X-ADDRESS=Gillette Stadium 1 Patriot Pl Foxborough MA 02035 United States;X-APPLE-RADIUS=500;X-TITLE=1 Patriot Pl:geo:-71.266889,42.091188
END:VEVENT
BEGIN:VEVENT
DTSTART;VALUE=DATE:20241219
DTEND;VALUE=DATE:20241220
DTSTAMP:20260420T054836
CREATED:20241205T200348Z
LAST-MODIFIED:20241205T200842Z
UID:25037-1734566400-1734652799@vipchartercoaches.com
SUMMARY:Encore Casino Boston Harbor 12/19/24
DESCRIPTION:Your VIP Bus to\nENCORE CASINO BOSTON HARBOR 12/19/2024\nEverett\, MA\nThurs 12/19/24\nLet the Games Begin!\nwww.encorebostonharbor.com\n Experience a full day of gaming fun made easy and affordable.  It’s time to discover what you’ve been missing! BONUS: $20 Casino Bonus for Slot Play\n\nTry your luck with 1\,800+ slot machines\, including classic favorites\, automated tables and the newest game titles and enjoy over 185 state-of-the-art table games all with superior service.\n\n Schedule: \n8:00am – Portland\, Marginal Way Park & Ride Lot\, Exit 7\n8:30am – Biddeford\, Exit 32 Park & Ride Lot\n8:45am – Wells\, Exit 19 Transportation Center\n10:30am – Arrival to Encore Casino\n4:30pm – Depart Encore Casino \n\n\nENCORE CASINO BOSTON HARBOR 12/19/24
URL:https://vipchartercoaches.com/event/encore-casino-boston-12-19-2024/
LOCATION:Encore Boston Harbor\, 1 Broadway\, Everett\, MA\, 02149\, United States
CATEGORIES:Casino,Day Trip,Hot,Scenic
ATTACH;FMTTYPE=image/jpeg:https://vipchartercoaches.com/wp-content/uploads/2021/05/encore.jpg
END:VEVENT
BEGIN:VEVENT
DTSTART;TZID=America/New_York:20241221T080000
DTEND;TZID=America/New_York:20241221T150000
DTSTAMP:20260420T054836
CREATED:20241115T160532Z
LAST-MODIFIED:20241203T182339Z
UID:24979-1734768000-1734793200@vipchartercoaches.com
SUMMARY:Last-Minute Holiday Shopping Adventure
DESCRIPTION:Settlers Green in North Conway\, NH  \nWhat says holidays more than the cozy aroma of pumpkin spice lattes\, the twinkle of sparkling lights\, and the promise of new beginnings and unexpected delights? Holiday shopping\, of course! Step into a magical day filled with excitement\, bargains\, and the joy of the season at Settlers Green\, where every turn offers the chance to find something special.  \nA Holiday Wonderland Awaits:  \nSettlers Green is a tax-free shopping haven\, featuring over 70 outlets brimming with holiday spirit and incredible deals. From premium brands like Nike\, Coach\, J.Crew\, Yankee Candle\, and Lindt to unique specialty shops\, it’s a paradise for holiday shoppers. The vibrant decorations and festive atmosphere are only rivaled by the promise of what you might find. To ensure you’re ready for the haul\, bring a roomy travel bag—because missing out on that one perfect find simply isn’t an option!  \nTake your experience even further with the Settlers Green Coupon Book\, packed with exclusive discounts and special offers to make your holiday shopping even merrier. Click here to explore the coupon book.  \nFood and Refreshments:  \nShopping isn’t the only treat awaiting you at Settlers Green! When it’s time for a break\, indulge in a variety of dining options\, from hearty meals to quick refreshments. Choose from restaurants like Barley and Salt\, Beer and Wine Nation\, Black Cap Grille\, Boba Beach\, Cheese Louise\, Olive Oil and Mountain Moose\, Pepper Palace\, Ryan’s\, and even Starbucks for a holiday pick-me-up. While lunch is not included in the tour\, you’ll have plenty of choices to enjoy a delicious meal or snack during your shopping spree.  \nMore Than Shopping:  \nTake a moment to explore Settlers Green’s public gardens and art installations\, all set against the breathtaking backdrop of New Hampshire’s mountain scenery. Whether you’re sipping a warm drink or admiring the views\, these little extras make the day feel even more special.  \nDetails You Need to Know:  \n\nDeparture Location: VIP Charter Coaches\, 129-137 Fox St.\, Portland\, ME 04101 \n\n\nDeparture Time: 8:00 AM  \n\n\nReturn Time: 3:00 PM \n\n\nPrice: $49 per person\n\n\n\nDate: Saturday\, December 21st  \n\n  \n 
URL:https://vipchartercoaches.com/event/last-minute-holiday-shopping-adventure-12-21-2024/
LOCATION:MA
CATEGORIES:Day Trip,Hot,Scenic,Shopping
ATTACH;FMTTYPE=image/jpeg:https://vipchartercoaches.com/wp-content/uploads/2024/11/thumbnail_image-2.jpg
END:VEVENT
END:VCALENDAR