BEGIN:VCALENDAR
VERSION:2.0
PRODID:-//VIP Tour &amp; Charter Bus Company - ECPv6.15.20//NONSGML v1.0//EN
CALSCALE:GREGORIAN
METHOD:PUBLISH
X-ORIGINAL-URL:https://vipchartercoaches.com
X-WR-CALDESC:Events for VIP Tour &amp; Charter Bus Company
REFRESH-INTERVAL;VALUE=DURATION:PT1H
X-Robots-Tag:noindex
X-PUBLISHED-TTL:PT1H
BEGIN:VTIMEZONE
TZID:America/New_York
BEGIN:DAYLIGHT
TZOFFSETFROM:-0500
TZOFFSETTO:-0400
TZNAME:EDT
DTSTART:20220313T070000
END:DAYLIGHT
BEGIN:STANDARD
TZOFFSETFROM:-0400
TZOFFSETTO:-0500
TZNAME:EST
DTSTART:20221106T060000
END:STANDARD
BEGIN:DAYLIGHT
TZOFFSETFROM:-0500
TZOFFSETTO:-0400
TZNAME:EDT
DTSTART:20230312T070000
END:DAYLIGHT
BEGIN:STANDARD
TZOFFSETFROM:-0400
TZOFFSETTO:-0500
TZNAME:EST
DTSTART:20231105T060000
END:STANDARD
BEGIN:DAYLIGHT
TZOFFSETFROM:-0500
TZOFFSETTO:-0400
TZNAME:EDT
DTSTART:20240310T070000
END:DAYLIGHT
BEGIN:STANDARD
TZOFFSETFROM:-0400
TZOFFSETTO:-0500
TZNAME:EST
DTSTART:20241103T060000
END:STANDARD
END:VTIMEZONE
BEGIN:VEVENT
DTSTART;VALUE=DATE:20231105
DTEND;VALUE=DATE:20231106
DTSTAMP:20260420T233803
CREATED:20230816T134249Z
LAST-MODIFIED:20230816T134653Z
UID:22467-1699142400-1699228799@vipchartercoaches.com
SUMMARY:NE Patriots vs. Commanders 11/5
DESCRIPTION:VIP’s Patriots Fan Bus \nNE Patriots vs. Commanders 11/5\nSunday\, November 5th\, 2023\nGillette Stadium\, Foxboro\, Ma\n1:00pm Game Time\nRide Only \nYes\, the Patriots Fan Bus is back again for another exciting year of Patriots football! Get your ride only tickets and reserve your ride with VIP. We know you want to avoid the traffic\, parking and hassle – that’s why we do it! This is an all ages bus and there is no alcohol consumption permitted onboard the coach. We’ll arrive to the game approximately two hours before kickoff and depart 30 minutes after completion. The bus remains parked in the same location in the stadium for the duration of the game. \nSchedule:\n7:30am – Portland Marginal Way Exit 7 Park & Ride\n8:00am – Biddeford Exit 32 Park & Ride\n8:15am – Wells Exit 19 Transportation Center\n11:00am – Arrival to Gillette\n1:00pm – Game Time\nDepart 30 Minutes after the game completion. \nThis service is ride only and does not include your game ticket.
URL:https://vipchartercoaches.com/event/pats-vs-commanders-11-5-23/
LOCATION:Gillette Stadium\, 1 Patriot Pl\, Foxborough\, MA\, 02035\, United States
CATEGORIES:Day Trip,Hot,Sports
ATTACH;FMTTYPE=image/jpeg:https://vipchartercoaches.com/wp-content/uploads/2017/09/IMG_20140417_141724-e1504630801520.jpg
GEO:42.091188;-71.266889
X-APPLE-STRUCTURED-LOCATION;VALUE=URI;X-ADDRESS=Gillette Stadium 1 Patriot Pl Foxborough MA 02035 United States;X-APPLE-RADIUS=500;X-TITLE=1 Patriot Pl:geo:-71.266889,42.091188
END:VEVENT
BEGIN:VEVENT
DTSTART;VALUE=DATE:20231114
DTEND;VALUE=DATE:20231115
DTSTAMP:20260420T233803
CREATED:20231017T140937Z
LAST-MODIFIED:20231017T141255Z
UID:22975-1699920000-1700006399@vipchartercoaches.com
SUMMARY:Encore Casino Boston Harbor 11/14/23
DESCRIPTION:Your VIP Bus to\nENCORE CASINO BOSTON HARBOR 11/14\nEverett\, MA\nTuesday\, November 14th\,  2023\nLet the Games Begin!\nwww.encorebostonharbor.com\n Experience a full day of gaming fun made easy and affordable.  It’s time to discover what you’ve been missing! BONUS: $20 Casino Bonus for Slot Play\n\nTry your luck with 1\,800+ slot machines\, including classic favorites\, automated tables and the newest game titles and enjoy over 185 state-of-the-art table games all with superior service.\n\n Schedule: \n8:00am – Portland\, Marginal Way Park & Ride Lot\, Exit 7\n8:30am – Biddeford\, Exit 32 Park & Ride Lot\n8:45am – Wells\, Exit 19 Transportation Center\n10:30am – Arrival to Encore Casino\n4:30pm – Depart Encore Casino \n\n\nVIP Bus to Encore Casino\nENCORE CASINO BOSTON HARBOR 11/14/23
URL:https://vipchartercoaches.com/event/encore-casino-boston-11-14-23/
LOCATION:Encore Boston Harbor\, 1 Broadway\, Everett\, MA\, 02149\, United States
CATEGORIES:Casino,Day Trip,Hot,Scenic
ATTACH;FMTTYPE=image/jpeg:https://vipchartercoaches.com/wp-content/uploads/2021/05/encore.jpg
END:VEVENT
BEGIN:VEVENT
DTSTART;VALUE=DATE:20231130
DTEND;VALUE=DATE:20231201
DTSTAMP:20260420T233803
CREATED:20231017T141312Z
LAST-MODIFIED:20231017T141625Z
UID:22979-1701302400-1701388799@vipchartercoaches.com
SUMMARY:Encore Casino Boston Harbor 11/30/23
DESCRIPTION:Your VIP Bus to\nENCORE CASINO BOSTON HARBOR 11/30\nEverett\, MA\nThursday\, November 30th\,  2023\nLet the Games Begin!\nwww.encorebostonharbor.com\n Experience a full day of gaming fun made easy and affordable.  It’s time to discover what you’ve been missing! BONUS: $20 Casino Bonus for Slot Play\n\nTry your luck with 1\,800+ slot machines\, including classic favorites\, automated tables and the newest game titles and enjoy over 185 state-of-the-art table games all with superior service.\n\n Schedule: \n8:00am – Portland\, Marginal Way Park & Ride Lot\, Exit 7\n8:30am – Biddeford\, Exit 32 Park & Ride Lot\n8:45am – Wells\, Exit 19 Transportation Center\n10:30am – Arrival to Encore Casino\n4:30pm – Depart Encore Casino \n\n\nVIP Bus to Encore Casino\nENCORE CASINO BOSTON HARBOR 11/30/23
URL:https://vipchartercoaches.com/event/encore-casino-boston-11-30-23/
LOCATION:Encore Boston Harbor\, 1 Broadway\, Everett\, MA\, 02149\, United States
CATEGORIES:Casino,Day Trip,Hot,Scenic
ATTACH;FMTTYPE=image/jpeg:https://vipchartercoaches.com/wp-content/uploads/2021/05/encore.jpg
END:VEVENT
END:VCALENDAR