BEGIN:VCALENDAR
VERSION:2.0
PRODID:-//VIP Tour &amp; Charter Bus Company - ECPv6.15.20//NONSGML v1.0//EN
CALSCALE:GREGORIAN
METHOD:PUBLISH
X-WR-CALNAME:VIP Tour &amp; Charter Bus Company
X-ORIGINAL-URL:https://vipchartercoaches.com
X-WR-CALDESC:Events for VIP Tour &amp; Charter Bus Company
REFRESH-INTERVAL;VALUE=DURATION:PT1H
X-Robots-Tag:noindex
X-PUBLISHED-TTL:PT1H
BEGIN:VTIMEZONE
TZID:America/New_York
BEGIN:DAYLIGHT
TZOFFSETFROM:-0500
TZOFFSETTO:-0400
TZNAME:EDT
DTSTART:20200308T070000
END:DAYLIGHT
BEGIN:STANDARD
TZOFFSETFROM:-0400
TZOFFSETTO:-0500
TZNAME:EST
DTSTART:20201101T060000
END:STANDARD
BEGIN:DAYLIGHT
TZOFFSETFROM:-0500
TZOFFSETTO:-0400
TZNAME:EDT
DTSTART:20210314T070000
END:DAYLIGHT
BEGIN:STANDARD
TZOFFSETFROM:-0400
TZOFFSETTO:-0500
TZNAME:EST
DTSTART:20211107T060000
END:STANDARD
BEGIN:DAYLIGHT
TZOFFSETFROM:-0500
TZOFFSETTO:-0400
TZNAME:EDT
DTSTART:20220313T070000
END:DAYLIGHT
BEGIN:STANDARD
TZOFFSETFROM:-0400
TZOFFSETTO:-0500
TZNAME:EST
DTSTART:20221106T060000
END:STANDARD
END:VTIMEZONE
BEGIN:VEVENT
DTSTART;VALUE=DATE:20211226
DTEND;VALUE=DATE:20211227
DTSTAMP:20260422T075823
CREATED:20210604T180241Z
LAST-MODIFIED:20210726T172456Z
UID:15984-1640476800-1640563199@vipchartercoaches.com
SUMMARY:12/26 NE Patriots vs. Buffalo Bills - Patriots Fan Bus
DESCRIPTION:NE Patriots Fan Bus is back for every home game at Gillette Stadium for the 2021 Season! \nNE Patriots vs. Buffalo Bills\nSunday\, December 26\, 2021\nGilette Stadium\nFoxborough\, MA\n1:00pm Game Time\nRide Only \nRide in style aboard VIP’s Patriots Fan Bus to Gillette Stadium! Relax and forget about the hassle of traffic\, parking\, fees and let us take you there. We’ll arrive approximately 2 hours before kickoff and depart 30 minutes after the game ends. This is an all ages bus with no alcohol consumption permitted onboard the motorcoach. Ride only. Game Ticket not included. \n7:30am – Portland\, Marginal Way Park 7 Ride Lot (across from World Gym)\n8:00am – Biddeford\, Exit 32 Park & Ride Lot (across from Walmart)\n8:15am – Wells\, Exit 19 Transportation Center\n11:00am – Approximately arrival to Gillette Stadium\n1:00pm – GAME TME!\nDepart 30 minutes after the game ends
URL:https://vipchartercoaches.com/event/12-26-ne-patriots-vs-buffalo-bills-patriots-fan-bus/
LOCATION:Gillette Stadium\, 1 Patriot Pl\, Foxborough\, MA\, 02035\, United States
CATEGORIES:Day Trip,Hot,Sports
ATTACH;FMTTYPE=image/jpeg:https://vipchartercoaches.com/wp-content/uploads/2017/09/IMG_20140417_141724-e1504630801520.jpg
GEO:42.091188;-71.266889
X-APPLE-STRUCTURED-LOCATION;VALUE=URI;X-ADDRESS=Gillette Stadium 1 Patriot Pl Foxborough MA 02035 United States;X-APPLE-RADIUS=500;X-TITLE=1 Patriot Pl:geo:-71.266889,42.091188
END:VEVENT
END:VCALENDAR