BEGIN:VCALENDAR
VERSION:2.0
PRODID:-//VIP Tour &amp; Charter Bus Company - ECPv6.15.20//NONSGML v1.0//EN
CALSCALE:GREGORIAN
METHOD:PUBLISH
X-WR-CALNAME:VIP Tour &amp; Charter Bus Company
X-ORIGINAL-URL:https://vipchartercoaches.com
X-WR-CALDESC:Events for VIP Tour &amp; Charter Bus Company
REFRESH-INTERVAL;VALUE=DURATION:PT1H
X-Robots-Tag:noindex
X-PUBLISHED-TTL:PT1H
BEGIN:VTIMEZONE
TZID:America/New_York
BEGIN:DAYLIGHT
TZOFFSETFROM:-0500
TZOFFSETTO:-0400
TZNAME:EDT
DTSTART:20200308T070000
END:DAYLIGHT
BEGIN:STANDARD
TZOFFSETFROM:-0400
TZOFFSETTO:-0500
TZNAME:EST
DTSTART:20201101T060000
END:STANDARD
BEGIN:DAYLIGHT
TZOFFSETFROM:-0500
TZOFFSETTO:-0400
TZNAME:EDT
DTSTART:20210314T070000
END:DAYLIGHT
BEGIN:STANDARD
TZOFFSETFROM:-0400
TZOFFSETTO:-0500
TZNAME:EST
DTSTART:20211107T060000
END:STANDARD
BEGIN:DAYLIGHT
TZOFFSETFROM:-0500
TZOFFSETTO:-0400
TZNAME:EDT
DTSTART:20220313T070000
END:DAYLIGHT
BEGIN:STANDARD
TZOFFSETFROM:-0400
TZOFFSETTO:-0500
TZNAME:EST
DTSTART:20221106T060000
END:STANDARD
END:VTIMEZONE
BEGIN:VEVENT
DTSTART;VALUE=DATE:20211003
DTEND;VALUE=DATE:20211004
DTSTAMP:20260422T105118
CREATED:20210604T174131Z
LAST-MODIFIED:20210726T173312Z
UID:15967-1633219200-1633305599@vipchartercoaches.com
SUMMARY:10/3 NE Patriots vs. Tampa Bay Buccaneers - Patriots Fan Bus
DESCRIPTION:NE Patriots Fan Bus is back for every home game at Gillette Stadium for the 2021 Season! \nNE Patriots vs. Tampa Bay Buccaneers\nSunday\, October 3\, 2021\nGilette Stadium\nFoxborough\, MA\n8:20pm Game Time\nRide Only \nRide in style aboard VIP’s Patriots Fan Bus to Gillette Stadium! Relax and forget about the hassle of traffic\, parking\, fees and let us take you there. We’ll arrive approximately 2 hours before kickoff and depart 30 minutes after the game ends. This is an all ages bus with no alcohol consumption permitted onboard the motorcoach. Ride only. Game Ticket not included. \n3:00pm – Portland\, Marginal Way Park 7 Ride Lot (across from World Gym)\n3:30pm – Biddeford\, Exit 32 Park & Ride Lot (across from Walmart)\n3:45pm – Wells\, Exit 19 Transportation Center\n6:30pm – Approximately arrival to Gillette Stadium\n8:20pm – GAME TME!\nDepart 30 minutes after the game ends
URL:https://vipchartercoaches.com/event/10-3-ne-patriots-vs-tampa-bay-buccaneers-patriots-fan-bus/
LOCATION:Gillette Stadium\, 1 Patriot Pl\, Foxborough\, MA\, 02035\, United States
CATEGORIES:Day Trip,Hot,Sports
ATTACH;FMTTYPE=image/jpeg:https://vipchartercoaches.com/wp-content/uploads/2017/09/Pats-Fan-Bus-at-Night.jpg
GEO:42.091188;-71.266889
X-APPLE-STRUCTURED-LOCATION;VALUE=URI;X-ADDRESS=Gillette Stadium 1 Patriot Pl Foxborough MA 02035 United States;X-APPLE-RADIUS=500;X-TITLE=1 Patriot Pl:geo:-71.266889,42.091188
END:VEVENT
BEGIN:VEVENT
DTSTART;VALUE=DATE:20211007
DTEND;VALUE=DATE:20211008
DTSTAMP:20260422T105118
CREATED:20210901T191436Z
LAST-MODIFIED:20210901T191830Z
UID:16728-1633564800-1633651199@vipchartercoaches.com
SUMMARY:Encore Boston Harbor Casino Day Trip  10/7
DESCRIPTION:ENCORE CASINO BOSTON HARBOR\nEverett\, MA\nThursday\, October 7\, 2021\nLet the Games Begin!\nwww.encorebostonharbor.com\n Experience a full day of gaming fun made easy and affordable.  It’s time to discover what you’ve been missing! BONUS: $20 Casino Bonus for Slot Play\n\nTry your luck with 1\,800+ slot machines\, including classic favorites\, automated tables and the newest game titles and enjoy over 185 state-of-the-art table games all with superior service.\n\n9:00am Marginal Way Park & Ride Lot\n9:30am Biddeford Exit 32 Park & Ride Lot\n9:45am Wells Transportation Center Exit 19\n11:30am Arrival to Encore\nDepart 5:30pm
URL:https://vipchartercoaches.com/event/encore-boston-harbor-casino-day-trip-10-7/
LOCATION:Encore Boston Harbor\, 1 Broadway\, Everett\, MA\, 02149\, United States
CATEGORIES:Casino,Day Trip,Hot,Scenic
ATTACH;FMTTYPE=image/jpeg:https://vipchartercoaches.com/wp-content/uploads/2021/05/Event-Lawn-Front-View-EVENING-Roger-Davies_06-24-3-scaled.jpg
END:VEVENT
BEGIN:VEVENT
DTSTART;VALUE=DATE:20211017
DTEND;VALUE=DATE:20211018
DTSTAMP:20260422T105118
CREATED:20210604T174951Z
LAST-MODIFIED:20210726T172845Z
UID:15971-1634428800-1634515199@vipchartercoaches.com
SUMMARY:10/17 NE Patriots vs. Dallas Cowboys - Patriots Fan Bus
DESCRIPTION:NE Patriots Fan Bus is back for every home game at Gillette Stadium for the 2021 Season! \nNE Patriots vs. Dallas Cowboys\nSunday\, October 17\, 2021\nGilette Stadium\nFoxborough\, MA\n4:25pm Game Time\nRide Only \nRide in style aboard VIP’s Patriots Fan Bus to Gillette Stadium! Relax and forget about the hassle of traffic\, parking\, fees and let us take you there. We’ll arrive approximately 2 hours before kickoff and depart 30 minutes after the game ends. This is an all ages bus with no alcohol consumption permitted onboard the motorcoach. Ride only. Game Ticket not included.11 \n11:00am – Portland\, Marginal Way Park 7 Ride Lot (across from World Gym)\n11:30am – Biddeford\, Exit 32 Park & Ride Lot (across from Walmart)\n11:45am – Wells\, Exit 19 Transportation Center\n2:00pm – Approximately arrival to Gillette Stadium\n4:25pm – GAME TME!\nDepart 30 minutes after the game ends
URL:https://vipchartercoaches.com/event/10-17-ne-patriots-vs-dallas-cowboys-patriots-fan-bus/
LOCATION:Gillette Stadium\, 1 Patriot Pl\, Foxborough\, MA\, 02035\, United States
CATEGORIES:Day Trip,Featured Tours,Hot,Sports
ATTACH;FMTTYPE=image/jpeg:https://vipchartercoaches.com/wp-content/uploads/2017/09/IMG_20140417_141724-e1504630801520.jpg
GEO:42.091188;-71.266889
X-APPLE-STRUCTURED-LOCATION;VALUE=URI;X-ADDRESS=Gillette Stadium 1 Patriot Pl Foxborough MA 02035 United States;X-APPLE-RADIUS=500;X-TITLE=1 Patriot Pl:geo:-71.266889,42.091188
END:VEVENT
BEGIN:VEVENT
DTSTART;VALUE=DATE:20211024
DTEND;VALUE=DATE:20211025
DTSTAMP:20260422T105118
CREATED:20210901T192105Z
LAST-MODIFIED:20210901T192326Z
UID:16731-1635033600-1635119999@vipchartercoaches.com
SUMMARY:Encore Boston Harbor Casino Day Trip  10/24
DESCRIPTION:ENCORE CASINO BOSTON HARBOR\nEverett\, MA\nSunday\, October 24\, 2021\nLet the Games Begin!\nwww.encorebostonharbor.com\n Experience a full day of gaming fun made easy and affordable.  It’s time to discover what you’ve been missing! BONUS: $20 Casino Bonus for Slot Play\n\nTry your luck with 1\,800+ slot machines\, including classic favorites\, automated tables and the newest game titles and enjoy over 185 state-of-the-art table games all with superior service.\n\n9:00am Marginal Way Park & Ride Lot\n9:30am Biddeford Exit 32 Park & Ride Lot\n9:45am Wells Transportation Center Exit 19\n11:30am Arrival to Encore\nDepart 5:30pm
URL:https://vipchartercoaches.com/event/encore-boston-harbor-casino-day-trip-10-24/
LOCATION:Encore Boston Harbor\, 1 Broadway\, Everett\, MA\, 02149\, United States
CATEGORIES:Casino,Day Trip,Hot,Scenic
ATTACH;FMTTYPE=image/jpeg:https://vipchartercoaches.com/wp-content/uploads/2021/05/Event-Lawn-Front-View-EVENING-Roger-Davies_06-24-3-scaled.jpg
END:VEVENT
END:VCALENDAR