BEGIN:VCALENDAR
VERSION:2.0
PRODID:-//VIP Tour &amp; Charter Bus Company - ECPv6.15.20//NONSGML v1.0//EN
CALSCALE:GREGORIAN
METHOD:PUBLISH
X-ORIGINAL-URL:https://vipchartercoaches.com
X-WR-CALDESC:Events for VIP Tour &amp; Charter Bus Company
REFRESH-INTERVAL;VALUE=DURATION:PT1H
X-Robots-Tag:noindex
X-PUBLISHED-TTL:PT1H
BEGIN:VTIMEZONE
TZID:America/New_York
BEGIN:DAYLIGHT
TZOFFSETFROM:-0500
TZOFFSETTO:-0400
TZNAME:EDT
DTSTART:20200308T070000
END:DAYLIGHT
BEGIN:STANDARD
TZOFFSETFROM:-0400
TZOFFSETTO:-0500
TZNAME:EST
DTSTART:20201101T060000
END:STANDARD
BEGIN:DAYLIGHT
TZOFFSETFROM:-0500
TZOFFSETTO:-0400
TZNAME:EDT
DTSTART:20210314T070000
END:DAYLIGHT
BEGIN:STANDARD
TZOFFSETFROM:-0400
TZOFFSETTO:-0500
TZNAME:EST
DTSTART:20211107T060000
END:STANDARD
BEGIN:DAYLIGHT
TZOFFSETFROM:-0500
TZOFFSETTO:-0400
TZNAME:EDT
DTSTART:20220313T070000
END:DAYLIGHT
BEGIN:STANDARD
TZOFFSETFROM:-0400
TZOFFSETTO:-0500
TZNAME:EST
DTSTART:20221106T060000
END:STANDARD
END:VTIMEZONE
BEGIN:VEVENT
DTSTART;VALUE=DATE:20210629
DTEND;VALUE=DATE:20210630
DTSTAMP:20260422T162222
CREATED:20210519T174925Z
LAST-MODIFIED:20210623T102551Z
UID:15723-1624924800-1625011199@vipchartercoaches.com
SUMMARY:Encore Boston Harbor Casino Day Trip
DESCRIPTION:ENCORE CASINO BOSTON HARBOR\nEverett\, MA\nTuesday\, June 29\, 2021\nLet the Games Begin!\nwww.encorebostonharbor.com\nBe the first to join VIP Tours to this spectacular new destination for 2021!  Experience a full day of gaming fun made easy and affordable.  It’s time to discover what you’ve been missing!\nBONUS: $20 Casino Bonus for Slot Play\n\nTry your luck with 1\,800+ slot machines\, including classic favorites\, automated tables and the newest game titles and enjoy over 185 state-of-the-art table games all with superior service.\n\n9am Marginal Way Park & Ride Lot\n9:30am Biddeford Exit 32 Park & Ride Lot\n9:45am Wells Transportation Center Exit 19\n11:30am Arrival to Encore\nDepart 5:30pm
URL:https://vipchartercoaches.com/event/encore-boston-harbor-casino-day-trip/
LOCATION:MA
CATEGORIES:Casino,Day Trip,Hot
ATTACH;FMTTYPE=image/jpeg:https://vipchartercoaches.com/wp-content/uploads/2021/05/Event-Lawn-Front-View-EVENING-Roger-Davies_06-24-3-scaled.jpg
END:VEVENT
END:VCALENDAR