BEGIN:VCALENDAR
VERSION:2.0
PRODID:-//VIP Tour &amp; Charter Bus Company - ECPv6.15.20//NONSGML v1.0//EN
CALSCALE:GREGORIAN
METHOD:PUBLISH
X-WR-CALNAME:VIP Tour &amp; Charter Bus Company
X-ORIGINAL-URL:https://vipchartercoaches.com
X-WR-CALDESC:Events for VIP Tour &amp; Charter Bus Company
REFRESH-INTERVAL;VALUE=DURATION:PT1H
X-Robots-Tag:noindex
X-PUBLISHED-TTL:PT1H
BEGIN:VTIMEZONE
TZID:America/New_York
BEGIN:DAYLIGHT
TZOFFSETFROM:-0500
TZOFFSETTO:-0400
TZNAME:EDT
DTSTART:20190310T070000
END:DAYLIGHT
BEGIN:STANDARD
TZOFFSETFROM:-0400
TZOFFSETTO:-0500
TZNAME:EST
DTSTART:20191103T060000
END:STANDARD
BEGIN:DAYLIGHT
TZOFFSETFROM:-0500
TZOFFSETTO:-0400
TZNAME:EDT
DTSTART:20200308T070000
END:DAYLIGHT
BEGIN:STANDARD
TZOFFSETFROM:-0400
TZOFFSETTO:-0500
TZNAME:EST
DTSTART:20201101T060000
END:STANDARD
BEGIN:DAYLIGHT
TZOFFSETFROM:-0500
TZOFFSETTO:-0400
TZNAME:EDT
DTSTART:20210314T070000
END:DAYLIGHT
BEGIN:STANDARD
TZOFFSETFROM:-0400
TZOFFSETTO:-0500
TZNAME:EST
DTSTART:20211107T060000
END:STANDARD
END:VTIMEZONE
BEGIN:VEVENT
DTSTART;VALUE=DATE:20201005
DTEND;VALUE=DATE:20201006
DTSTAMP:20260423T034431
CREATED:20191217T162540Z
LAST-MODIFIED:20200922T174235Z
UID:14505-1601856000-1601942399@vipchartercoaches.com
SUMMARY:Fall Foliage Turkey Train
DESCRIPTION:Fall Foliage Turkey Train\nMonday\, October 5\, 2020\nLimerick\, ME & Meredith\, NH\nIncludes: Drink & Snack at Libby & Son’s\, Train Ride with full Turkey Dinner\, Motorcoach Transportation \nStart your morning off with a deluxe motorcoach ride to Libby & Sons U-Picks Farm. Enjoy a fresh blueberry donut and hot mulled cider\, on us! Pick your own apples or try some kettle corn. Next\, we’re off on a scenic ride with photo stops en route to Meredith\, NH to board the Turkey Train. Ride the rails around Lake Winnipesaukee and enjoy a complete turkey dinner with all the fixin’s\, served by Hart’s Turkey Farm. \n9:00am Marginal Way Park & Ride Lot\n9:30am Biddeford Exit 32 Park & Ride Lot\n10:15am Libby & Son’s U Picks Farm\n12:30pm Arrive to Train Station for boarding\n1:00pm Train Ride and Turkey Dinner\n3:30pm Return trip home \nSeating is limited and well spaced on both the bus and the train. Face coverings are required. \nTurkey Train 2020
URL:https://vipchartercoaches.com/event/fall-foliage-turkey-train-2020/
LOCATION:MA
CATEGORIES:Day Trip,Hot,Scenic
ATTACH;FMTTYPE=image/jpeg:https://vipchartercoaches.com/wp-content/uploads/2017/01/883697_10151673095901921_1947542662_o-e1504887418930.jpg
END:VEVENT
END:VCALENDAR