BEGIN:VCALENDAR
VERSION:2.0
PRODID:-//VIP Tour &amp; Charter Bus Company - ECPv6.15.20//NONSGML v1.0//EN
CALSCALE:GREGORIAN
METHOD:PUBLISH
X-ORIGINAL-URL:https://vipchartercoaches.com
X-WR-CALDESC:Events for VIP Tour &amp; Charter Bus Company
REFRESH-INTERVAL;VALUE=DURATION:PT1H
X-Robots-Tag:noindex
X-PUBLISHED-TTL:PT1H
BEGIN:VTIMEZONE
TZID:America/New_York
BEGIN:DAYLIGHT
TZOFFSETFROM:-0500
TZOFFSETTO:-0400
TZNAME:EDT
DTSTART:20180311T070000
END:DAYLIGHT
BEGIN:STANDARD
TZOFFSETFROM:-0400
TZOFFSETTO:-0500
TZNAME:EST
DTSTART:20181104T060000
END:STANDARD
BEGIN:DAYLIGHT
TZOFFSETFROM:-0500
TZOFFSETTO:-0400
TZNAME:EDT
DTSTART:20190310T070000
END:DAYLIGHT
BEGIN:STANDARD
TZOFFSETFROM:-0400
TZOFFSETTO:-0500
TZNAME:EST
DTSTART:20191103T060000
END:STANDARD
BEGIN:DAYLIGHT
TZOFFSETFROM:-0500
TZOFFSETTO:-0400
TZNAME:EDT
DTSTART:20200308T070000
END:DAYLIGHT
BEGIN:STANDARD
TZOFFSETFROM:-0400
TZOFFSETTO:-0500
TZNAME:EST
DTSTART:20201101T060000
END:STANDARD
END:VTIMEZONE
BEGIN:VEVENT
DTSTART;VALUE=DATE:20190707
DTEND;VALUE=DATE:20190708
DTSTAMP:20260424T000634
CREATED:20181128T181745Z
LAST-MODIFIED:20190701T163550Z
UID:9597-1562457600-1562543999@vipchartercoaches.com
SUMMARY:Rolling Stones "NO FILTER" at Gillette
DESCRIPTION:Rolling Stones – “NO FILTER”\nGillette Stadium\, Foxborough\, MA\nSunday\, July 7th\, 2019\nConcert Time: 7:30pm\nRide Only \nRelax and leave the driving to us. This trip is ride only and does not include your concert ticket. We arrive approximately 2 hours before the concert.  The Rolling Stones announce they will bring their hugely successful NO FILTER tour to stadiums in 13 cities across America in 2019 with a stop in Foxborough\, Mass. on Saturday\, June 8\, 2019 at Gillette Stadium. The tour follows NO FILTER dates this past year that have taken Mick Jagger\, Keith Richards\, Charlie Watts and Ronnie Wood back out on the road amassing rave reviews as they played to sold out stadiums throughout the UK and Europe. The Rolling Stones NO FILTER set list has the legendary band treating generations of fans to classic Stones hits such as “Sympathy For The Devil\,” “Paint It Black\,” “Brown Sugar\,” “Miss You\,” as well as special gems from their celebrated catalog. \nYou have free time to explore or tailgate on your own. No tailgate party is included. This is an all ages bus and there is not alcohol consumption permitted onboard. You may bring a small cooler to stow in the luggage bay for use upon arrival to the stadium. \nSchedule:\n2:00pm – Marginal Way Park & Ride Lot\n2:30pm – Biddeford Exit 32 Park & Ride Lot\n2:45pm – Wells Exit 19 Transportation Ctr.\n5:00pm – Approximate Arrival to Gillette Stadium\n7:30pm – Rolling Stones Concert\nDepart 30 minutes after the concert ends. \n\n\n\nEXTRA INFO: Please arrive to your boarding location at least 15 minutes prior to your scheduled departure time. Your driver will have your name(s) on a paid reservationlist. It is customary practice to provide your driver with a gratuity of $3-5 per person. The bus will remain parked in the same location for the duration of the concert. You may leave belongings onboard. The bus will depart 30 minutes after the concert ends\, so please get back promptly. \n\n\nParking lots open at 3:30 P.M.\nStadium gates open at 6:00 P.M.\nGary Clark Jr. opens the show.\nThe Rolling Stones No Filter Tour begins at 7:30 P.M.\nThis event will take place rain or shine.
URL:https://vipchartercoaches.com/event/rolling-stones-no-filter-at-gillette/
LOCATION:Gillette Stadium\, 1 Patriot Pl\, Foxborough\, MA\, 02035\, United States
CATEGORIES:Concert,Featured Tours,Hot
ATTACH;FMTTYPE=image/jpeg:https://vipchartercoaches.com/wp-content/uploads/2018/11/stones.jpg
GEO:42.091188;-71.266889
X-APPLE-STRUCTURED-LOCATION;VALUE=URI;X-ADDRESS=Gillette Stadium 1 Patriot Pl Foxborough MA 02035 United States;X-APPLE-RADIUS=500;X-TITLE=1 Patriot Pl:geo:-71.266889,42.091188
END:VEVENT
BEGIN:VEVENT
DTSTART;VALUE=DATE:20190723
DTEND;VALUE=DATE:20190724
DTSTAMP:20260424T000634
CREATED:20190507T125611Z
LAST-MODIFIED:20190516T204637Z
UID:11505-1563840000-1563926399@vipchartercoaches.com
SUMMARY:Downton Abbey - The Exhibition
DESCRIPTION:Downton Abbey – The Exhibition\nTuesday\, July 23\, 2019\nThe Castle at Park Plaza\nBoston\, MA\nIncludes: Round trip motorcoach & Admission \nStep aboard your motoroach and travel to The Castle at Park Plaza\, a unique special event venue\, for the limited engagement of Downton Abbey: The Exhibition. Follow up this unique experience with a visit to Faneuil Hall Marketplace for lunch and shopping on your own. \nDownton Abbey: The Exhibition\, based on the beloved television show\, transports you to post-Edwardian England\, where the characters and the iconic house come to life. You’ll be immersed in the fascinating social history\, culture\, and some of the most memorable moments from the show’s six-season run. \n7:30am – Portland\, Marginal Way Park & Ride Lot (Across from World Gym)\n8:00am – Biddeford\, Exit 32 Park & Ride Lot (Across from Walmart)\n8:15am – Wells\, Exit 19 Transportation Center\n10:00am – 12:30pm – Downton Abbey: The Exhibition\n1:00pm – 3:30pm Free Time at Faneuil Hall Marketplace\nReturn for home. \nClick for Downton Abbey .pdf
URL:https://vipchartercoaches.com/event/downton-abbey-the-exhibition-7-23/
LOCATION:The Castle at Park Plaza\, 130 Columbus Ave\, Boston\, MA\, 02116\, United States
CATEGORIES:Day Trip,Hot
ATTACH;FMTTYPE=image/jpeg:https://vipchartercoaches.com/wp-content/uploads/2019/05/Downton-Abbey.jpg
END:VEVENT
END:VCALENDAR