BEGIN:VCALENDAR
VERSION:2.0
PRODID:-//VIP Tour &amp; Charter Bus Company - ECPv6.15.20//NONSGML v1.0//EN
CALSCALE:GREGORIAN
METHOD:PUBLISH
X-ORIGINAL-URL:https://vipchartercoaches.com
X-WR-CALDESC:Events for VIP Tour &amp; Charter Bus Company
REFRESH-INTERVAL;VALUE=DURATION:PT1H
X-Robots-Tag:noindex
X-PUBLISHED-TTL:PT1H
BEGIN:VTIMEZONE
TZID:America/New_York
BEGIN:DAYLIGHT
TZOFFSETFROM:-0500
TZOFFSETTO:-0400
TZNAME:EDT
DTSTART:20170312T070000
END:DAYLIGHT
BEGIN:STANDARD
TZOFFSETFROM:-0400
TZOFFSETTO:-0500
TZNAME:EST
DTSTART:20171105T060000
END:STANDARD
BEGIN:DAYLIGHT
TZOFFSETFROM:-0500
TZOFFSETTO:-0400
TZNAME:EDT
DTSTART:20180311T070000
END:DAYLIGHT
BEGIN:STANDARD
TZOFFSETFROM:-0400
TZOFFSETTO:-0500
TZNAME:EST
DTSTART:20181104T060000
END:STANDARD
BEGIN:DAYLIGHT
TZOFFSETFROM:-0500
TZOFFSETTO:-0400
TZNAME:EDT
DTSTART:20190310T070000
END:DAYLIGHT
BEGIN:STANDARD
TZOFFSETFROM:-0400
TZOFFSETTO:-0500
TZNAME:EST
DTSTART:20191103T060000
END:STANDARD
END:VTIMEZONE
BEGIN:VEVENT
DTSTART;VALUE=DATE:20181201
DTEND;VALUE=DATE:20181202
DTSTAMP:20260424T093818
CREATED:20180202T211217Z
LAST-MODIFIED:20181018T171020Z
UID:5827-1543622400-1543708799@vipchartercoaches.com
SUMMARY:"Gardens Aglow" at Coastal Maine Botanical Gardens
DESCRIPTION:Gardens Aglow at Coastal Maine Botanical Gardens\nSaturday\, December 1st\, 2018\nBoothbay\, ME \nIncludes: Motorcoach Transportation & admission to Gardens Aglow\nGardens Aglow is a signature events during the Boothbay Festival of Lights. Join us again for the largest light show in Maine! See hundreds of thousands of lights\, strung through the upper gardens in a beautiful display. From the lights\, to the s’mores pit\, popcorn stand and special art exhibits\, Gardens Aglow has something for the whole family. \nThere will be hot cocoa stands both inside and outside. The old Visitor Center will have a marketplace where guests can purchase beverages and snack/comfort food. There will be tables set up in the old Visitor Center\, inside the Education Center where the model trains will be located\, as well as benches throughout the Gardens. \n2:00pm Biddeford Exit 32 Park & Ride Lot\n2:30pm Portland Marginal Way Park & Ride Lot\n4:00pm Gardens Aglow Tour\, leisurely on your own\n6:00pm Depart for home
URL:https://vipchartercoaches.com/event/gardens-aglow-at-coastal-maine-botanical-gardens-copy/
LOCATION:Coastal Maine Botanical Garden\, 132 Botanical Gardens Dr.\, Boothbay\, 04537\, United States
CATEGORIES:Day Trip,Hot,Scenic
ATTACH;FMTTYPE=image/jpeg:https://vipchartercoaches.com/wp-content/uploads/2017/09/GardensAglowLogo-1.jpg
GEO:43.8735393;-69.662012
X-APPLE-STRUCTURED-LOCATION;VALUE=URI;X-ADDRESS=Coastal Maine Botanical Garden 132 Botanical Gardens Dr. Boothbay 04537 United States;X-APPLE-RADIUS=500;X-TITLE=132 Botanical Gardens Dr.:geo:-69.662012,43.8735393
END:VEVENT
BEGIN:VEVENT
DTSTART;VALUE=DATE:20181201
DTEND;VALUE=DATE:20181203
DTSTAMP:20260424T093818
CREATED:20180405T155757Z
LAST-MODIFIED:20181108T160653Z
UID:6669-1543622400-1543795199@vipchartercoaches.com
SUMMARY:Newport Rhode Island Holiday Getaway
DESCRIPTION:** ONLY ROOMS WITH ONE KING BED LEFT AVAILABLE** CALL TO RESERVE 207-772-4457 \nNewport\, Rhode Island\nSaturday\, December 1st – Sunday\, December 2nd\, 2018\nIncludes: 2 Days\, 1 Night hotel\, Newport Playhouse Dinner Theater\, Breakers Mansion \nHotel: Courtyard by Marriott Middletown RI:  Just minutes from downtown Newport\, hotel offers fitness center\, indoor/outdoor pool and Bistro for breakfast. \nUpon arrival in Newport\, free time for lunch and browsing in downtown Newport (on your own).  We’ll have a late afternoon check-in to the hotel.  In the evening\, we’ll go to Newport Playhouse for the dinner theater. The show is called “A Doublewide\, Texas Christmas.”  An outrageously funny comedy where you will see that there is no place like a good ol’ Texas mobile home for the holidays! (Recommended for audiences over 12 years of age). \nSunday morning\, you’ll enjoy breakfast on own at the hotel then we’ll head to the Mansion. The Breakers Mansion is a symbol of  the Vanderbilt’s social and financial preeminence and is considered the grandest of Newport’s summer “cottages.”  The 70 room mansion was inspired by 16th century palaces.  We’ll visit the mansion when it is beautifully decorated for Christmas. Self-guided tour of the Breakers Mansion followed by free time in downtown Newport for lunch (on your own) before returning home. \n*Please note the Newport Playhouse dress code: No T-shirts\, baseball hats or cut off jeans. Thank you for your cooperation.* \nDeparting from:\n7:30am – Portland\, Marginal Way Park & Ride\n8:00am – Biddeford Exit 32 Park & Ride (Across form Walmart)\n8:15am – Wells\, Exit 19 Transportation Center
URL:https://vipchartercoaches.com/event/newport-rhode-island-holiday-getaway/
LOCATION:MA
CATEGORIES:Featured Tours,Hot,Scenic
ATTACH;FMTTYPE=image/jpeg:https://vipchartercoaches.com/wp-content/uploads/2018/04/Newport-December-Image.jpg
END:VEVENT
BEGIN:VEVENT
DTSTART;VALUE=DATE:20181215
DTEND;VALUE=DATE:20181216
DTSTAMP:20260424T093818
CREATED:20180202T213035Z
LAST-MODIFIED:20181129T215459Z
UID:5841-1544832000-1544918399@vipchartercoaches.com
SUMMARY:New York City Holiday Freestyle
DESCRIPTION:New York City Freestyle \nSaturday\, December 15th\, 2018\nNew York\, New York\nIncludes: Motorcoach Transportation & Free Time in the City\nDo NYC\, your way! Depart bright and early\, as the early bird gets the worm in the Big Apple! Arrive to NYC at 10:00am at Bryant Park (situated behind the New York Public Library in Midtown Manhattan\, between 40th and 42nd Streets & Fifth and Sixth Avenues.) There’s something for everyone in the Big City. You’ll have time to explore the sites\, catch a matinee\, shop or visit a museum. We recommend planning your day in advance to maximize your time! Enjoy free time in the City until your 8:00pm departure. \n4:00am Portland – Exit 7 Marginal Way Park & Ride Lot\n4:30am Biddeford – Exit 32 Park & Ride Lot\n4:45am Wells – Exit 19 Transportation Center\n10:00am Arrival in NYC at Bryant Park – NYC Freestyle!\n8:00pm Depart for home
URL:https://vipchartercoaches.com/event/new-york-city-freestyle-copy-copy-copy-copy-copy/
LOCATION:MA
CATEGORIES:Day Trip,Hot,Scenic,Shopping
ATTACH;FMTTYPE=image/jpeg:https://vipchartercoaches.com/wp-content/uploads/2017/06/18582026_1535290679875128_9152086515530247197_n-e1498580994678.jpg
END:VEVENT
BEGIN:VEVENT
DTSTART;VALUE=DATE:20181227
DTEND;VALUE=DATE:20181228
DTSTAMP:20260424T093818
CREATED:20180202T211813Z
LAST-MODIFIED:20181018T171230Z
UID:5832-1545868800-1545955199@vipchartercoaches.com
SUMMARY:"Gardens Aglow" at Coastal Maine Botanical Gardens
DESCRIPTION:Gardens Aglow at Coastal Maine Botanical Gardens\nThursday\, December 27th\, 2018\nBoothbay\, ME \nIncludes: Motorcoach Transportation & admission to Gardens Aglow\nGardens Aglow is a signature events during the Boothbay Festival of Lights. Join us again for the largest light show in Maine! See hundreds of thousands of lights\, strung through the upper gardens in a beautiful display. From the lights\, to the s’mores pit\, popcorn stand and special art exhibits\, Gardens Aglow has something for the whole family. \nThere will be hot cocoa stands both inside and outside. The old Visitor Center will have a marketplace where guests can purchase beverages and snack/comfort food. There will be tables set up in the old Visitor Center\, inside the Education Center where the model trains will be located\, as well as benches throughout the Gardens. \n2:00pm Biddeford Exit 32 Park & Ride Lot\n2:30pm Portland Marginal Way Park & Ride Lot\n4:00pm Gardens Aglow Tour\, leisurely on your own\n6:00pm Depart for home
URL:https://vipchartercoaches.com/event/gardens-aglow-at-coastal-maine-botanical-gardens-copy-copy/
LOCATION:Coastal Maine Botanical Garden\, 132 Botanical Gardens Dr.\, Boothbay\, 04537\, United States
CATEGORIES:Day Trip,Hot,Scenic
ATTACH;FMTTYPE=image/jpeg:https://vipchartercoaches.com/wp-content/uploads/2017/09/GardensAglowLogo-1.jpg
GEO:43.8735393;-69.662012
X-APPLE-STRUCTURED-LOCATION;VALUE=URI;X-ADDRESS=Coastal Maine Botanical Garden 132 Botanical Gardens Dr. Boothbay 04537 United States;X-APPLE-RADIUS=500;X-TITLE=132 Botanical Gardens Dr.:geo:-69.662012,43.8735393
END:VEVENT
END:VCALENDAR