BEGIN:VCALENDAR
VERSION:2.0
PRODID:-//VIP Tour &amp; Charter Bus Company - ECPv6.15.20//NONSGML v1.0//EN
CALSCALE:GREGORIAN
METHOD:PUBLISH
X-ORIGINAL-URL:https://vipchartercoaches.com
X-WR-CALDESC:Events for VIP Tour &amp; Charter Bus Company
REFRESH-INTERVAL;VALUE=DURATION:PT1H
X-Robots-Tag:noindex
X-PUBLISHED-TTL:PT1H
BEGIN:VTIMEZONE
TZID:America/New_York
BEGIN:DAYLIGHT
TZOFFSETFROM:-0500
TZOFFSETTO:-0400
TZNAME:EDT
DTSTART:20220313T070000
END:DAYLIGHT
BEGIN:STANDARD
TZOFFSETFROM:-0400
TZOFFSETTO:-0500
TZNAME:EST
DTSTART:20221106T060000
END:STANDARD
BEGIN:DAYLIGHT
TZOFFSETFROM:-0500
TZOFFSETTO:-0400
TZNAME:EDT
DTSTART:20230312T070000
END:DAYLIGHT
BEGIN:STANDARD
TZOFFSETFROM:-0400
TZOFFSETTO:-0500
TZNAME:EST
DTSTART:20231105T060000
END:STANDARD
BEGIN:DAYLIGHT
TZOFFSETFROM:-0500
TZOFFSETTO:-0400
TZNAME:EDT
DTSTART:20240310T070000
END:DAYLIGHT
BEGIN:STANDARD
TZOFFSETFROM:-0400
TZOFFSETTO:-0500
TZNAME:EST
DTSTART:20241103T060000
END:STANDARD
END:VTIMEZONE
BEGIN:VEVENT
DTSTART;VALUE=DATE:20231105
DTEND;VALUE=DATE:20231106
DTSTAMP:20260421T021349
CREATED:20230317T140034Z
LAST-MODIFIED:20231101T133447Z
UID:21182-1699142400-1699228799@vipchartercoaches.com
SUMMARY:Elvis: A Musical Revolution
DESCRIPTION:Elvis: A Musical Revolution\nSunday\, November 5th\, 2023\nNorth Shore Music Theatre\n2:00pm Matinee\nSeating: Inner Circle\nMeal Included \nIncludes: Round trip deluxe motorcoach transportation\, show ticket\, and a meal.\nMeal choices tba. \nHis singular name still evokes immediate recognition from people all over the world! This official Elvis Presley bio-musical takes a closer look at the rock star and cultural icon whose impact shaped the history of music and culture. This new musical explores the pivotal moments in Elvis’s life through the perspectives of those who knew him best. Using different lenses to dig deeper into fact vs. fiction\, ELVIS: A MUSICAL REVOLUTION spans from his impoverished childhood in Tupelo\, Mississippi to his triumphant 1968 “Comeback Special\,” and his ascent to be “The King.” It features over 40 Elvis hits and iconic songs including\, “That’s All Right\,” “Blue Moon of Kentucky\,” “All Shook Up\,” “Heartbreak Hotel\,” “Burning Love\,” “Good Rockin’ Tonight\,” “Earth Angel\,” “Hound Dog\,” “Don’t Be Cruel\,” “Jailhouse Rock\,” “Are You Lonesome\,” and “Blue Suede Shoes.” \n\nRUNNING TIME: Approx. 2 hrs 20 min (includes intermission)\nCONTENT ADVISORY: Contains adult themes. We do encourage you to use your judgment based on your own research of the show\, your own sensibilities\, and a child’s age and maturity level.\nNo children under the age of 4 will be permitted in the theatre including babes in arms.\n\nSCHEDULE:\nPortland Marginal Way Park & Ride Lot Exit 7 –   8:15 am\nBiddeford Exit 32 Park & Ride Lot – 8:45 am\nWells Transportation Ctr.  – 9:15 am\nArrive  Cheesecake Factory  – 10:45am \nhttps://www.nsmt.org/elvis.html
URL:https://vipchartercoaches.com/event/elvis-a-musical-revolution/
LOCATION:North Shore Music Theatre\, 62 Dunham Rd # 1\, Beverly\, MA\, Beverly\, MA\, 01915\, United States
CATEGORIES:Day Trip,Featured Tours
ATTACH;FMTTYPE=image/jpeg:https://vipchartercoaches.com/wp-content/uploads/2023/03/Elvis_main.jpg
GEO:42.5757903;-70.869644
X-APPLE-STRUCTURED-LOCATION;VALUE=URI;X-ADDRESS=North Shore Music Theatre 62 Dunham Rd # 1 Beverly MA Beverly MA 01915 United States;X-APPLE-RADIUS=500;X-TITLE=62 Dunham Rd # 1\, Beverly\, MA:geo:-70.869644,42.5757903
END:VEVENT
END:VCALENDAR