BEGIN:VCALENDAR
VERSION:2.0
PRODID:-//VIP Tour &amp; Charter Bus Company - ECPv6.15.20//NONSGML v1.0//EN
CALSCALE:GREGORIAN
METHOD:PUBLISH
X-WR-CALNAME:VIP Tour &amp; Charter Bus Company
X-ORIGINAL-URL:https://vipchartercoaches.com
X-WR-CALDESC:Events for VIP Tour &amp; Charter Bus Company
REFRESH-INTERVAL;VALUE=DURATION:PT1H
X-Robots-Tag:noindex
X-PUBLISHED-TTL:PT1H
BEGIN:VTIMEZONE
TZID:America/New_York
BEGIN:DAYLIGHT
TZOFFSETFROM:-0500
TZOFFSETTO:-0400
TZNAME:EDT
DTSTART:20240310T070000
END:DAYLIGHT
BEGIN:STANDARD
TZOFFSETFROM:-0400
TZOFFSETTO:-0500
TZNAME:EST
DTSTART:20241103T060000
END:STANDARD
BEGIN:DAYLIGHT
TZOFFSETFROM:-0500
TZOFFSETTO:-0400
TZNAME:EDT
DTSTART:20250309T070000
END:DAYLIGHT
BEGIN:STANDARD
TZOFFSETFROM:-0400
TZOFFSETTO:-0500
TZNAME:EST
DTSTART:20251102T060000
END:STANDARD
BEGIN:DAYLIGHT
TZOFFSETFROM:-0500
TZOFFSETTO:-0400
TZNAME:EDT
DTSTART:20260308T070000
END:DAYLIGHT
BEGIN:STANDARD
TZOFFSETFROM:-0400
TZOFFSETTO:-0500
TZNAME:EST
DTSTART:20261101T060000
END:STANDARD
BEGIN:DAYLIGHT
TZOFFSETFROM:-0500
TZOFFSETTO:-0400
TZNAME:EDT
DTSTART:20270314T070000
END:DAYLIGHT
BEGIN:STANDARD
TZOFFSETFROM:-0400
TZOFFSETTO:-0500
TZNAME:EST
DTSTART:20271107T060000
END:STANDARD
END:VTIMEZONE
BEGIN:VEVENT
DTSTART;VALUE=DATE:20251104
DTEND;VALUE=DATE:20251105
DTSTAMP:20260420T165156
CREATED:20251022T085458Z
LAST-MODIFIED:20251104T014958Z
UID:26235-1762214400-1762300799@vipchartercoaches.com
SUMMARY:Encore Casino Boston Harbor 11/04/2025
DESCRIPTION:Your VIP Bus to\nENCORE CASINO BOSTON HARBOR 11/04/2025\nEverett\, MA\nTue 11/04/2025\nLet the Games Begin!\nwww.encorebostonharbor.com\n Experience a full day of gaming fun made easy and affordable.  It’s time to discover what you’ve been missing! BONUS: $20 Casino Bonus for Slot Play\n\nTry your luck with 1\,800+ slot machines\, including classic favorites\, automated tables and the newest game titles and enjoy over 185 state-of-the-art table games all with superior service.\n\n Schedule: \n8:00am – Portland\, Marginal Way Park & Ride Lot\, Exit 7\n8:30am – Biddeford\, Exit 32 Park & Ride Lot\n8:45am – Wells\, Exit 19 Transportation Center\n10:30am – Arrival to Encore Casino\n4:30pm – Depart Encore Casino \n\n\nENCORE CASINO BOSTON HARBOR 11/04/2025
URL:https://vipchartercoaches.com/event/encore-casino-boston-11-04-2025/
LOCATION:Encore Boston Harbor\, 1 Broadway\, Everett\, MA\, 02149\, United States
CATEGORIES:Casino,Day Trip,Hot,Scenic
ATTACH;FMTTYPE=image/jpeg:https://vipchartercoaches.com/wp-content/uploads/2021/05/encore.jpg
END:VEVENT
BEGIN:VEVENT
DTSTART;VALUE=DATE:20251113
DTEND;VALUE=DATE:20251114
DTSTAMP:20260420T165156
CREATED:20250904T191148Z
LAST-MODIFIED:20251112T194814Z
UID:26057-1762992000-1763078399@vipchartercoaches.com
SUMMARY:Patriots vs. New York Jets at Gillette Stadium – November 13 (Transportation Only)
DESCRIPTION:The GameWhen: Thursday\, November 13\, 2025Where: Gillette Stadium\, Foxborough\, MAKickoff: 8:15 PM ETOpponent: New York Jets \nReady for some football? Join us for an epic ride to see the New England Patriots take the field under prime-time lights. Whether you’re a die-hard fan or just love the energy of game day\, this is the no-stress way to get in on the action. \nNo need to deal with traffic\, parking\, or the hassle of driving home. We’ve got your round-trip ride covered—just bring the team spirit! \nWhy Ride With Us?No Parking HeadachesAvoid the long walk and expensive lots. We drop you off close to the action. \nTailgate Vibes OnboardGet in the game-day mood with pumped-up fans\, good music\, and zero stress. \nPickup Locations That Work for YouHop on in Portland\, Biddeford\, or Wells—wherever’s easiest for you. \nSafe Ride HomeCelebrate a win (or process a loss) without worrying about who’s driving back. \nFlat RateJust $75 round trip. No surprise fees—just a smooth ride. \nImportant Info \n🚨 Game Tickets NOT Included!This is transportation only—be sure to grab your game tickets separately. \nSchedule \n03:00 PM – Portland Park & Ride located at 274 Marginal Way\, Portland\, ME 0410103:30 PM – Biddeford Exit 32 Park & Ride\, 514–516 Alfred St\, Biddeford\, ME 0400503:45 PM – Wells Exit 19 Transportation Center\, 696 Sanford Rd (Rte 109)\, Wells\, ME 04090 \nArrival at Gillette Stadium (Lot 10): Around 6:00 PM – plenty of time to grab food\, tailgate\, or shop before kickoff! \n🚌 Return Departure: 30 minutes after the game ends. Location: Lot 10 \n(We wait for you—no worries!) \nLet’s go Pats! 🔥Seats go fast—lock yours in now and ride with fellow fans all the way to Gillette!
URL:https://vipchartercoaches.com/event/patriots-vs-new-york-jets-at-gillette-stadium-november-13-transportation-only/
LOCATION:Gillette Stadium\, 1 Patriot Pl\, Foxborough\, MA\, 02035\, United States
CATEGORIES:Concert,Day Trip,Hot,Scenic,Sports
GEO:42.091188;-71.266889
X-APPLE-STRUCTURED-LOCATION;VALUE=URI;X-ADDRESS=Gillette Stadium 1 Patriot Pl Foxborough MA 02035 United States;X-APPLE-RADIUS=500;X-TITLE=1 Patriot Pl:geo:-71.266889,42.091188
END:VEVENT
BEGIN:VEVENT
DTSTART;VALUE=DATE:20251201
DTEND;VALUE=DATE:20251202
DTSTAMP:20260420T165156
CREATED:20250904T191513Z
LAST-MODIFIED:20251030T142620Z
UID:26060-1764547200-1764633599@vipchartercoaches.com
SUMMARY:Patriots vs. New York Giants at Gillette Stadium – December 1 (Transportation Only)
DESCRIPTION:The GameWhen: Monday\, December 1\, 2025Where: Gillette Stadium\, Foxborough\, MAKickoff: 8:15 PM ET gillettestadium.comOpponent: New York Giants \nReady for some football? Join us for an epic ride to see the New England Patriots take the field in primetime against the New York Giants. Whether you’re a die-hard fan or just love the game-day energy\, this is the no-stress way to get in on the action. \nNo need to deal with traffic\, parking\, or the hassle of driving home. We’ve got your round-trip ride covered—just bring the team spirit! \nWhy Ride With Us?No Parking HeadachesAvoid the long walk and expensive lots. We drop you off close to the action. \nTailgate Vibes OnboardGet in the game-day mood with pumped-up fans\, good music\, and zero stress. \nPickup Locations That Work for YouHop on in Portland\, Biddeford\, or Wells—wherever’s easiest for you. \nSafe Ride HomeCelebrate a win (or process a loss) without worrying about who’s driving back. \nFlat RateJust $75 round trip. No surprise fees—just a smooth ride. \nImportant Info🚨 Game Tickets NOT Included!This is transportation only—be sure to grab your game tickets separately. \nSchedule \n\n\n03:00 PM – Portland Park & Ride located at 274 Marginal Way\, Portland\, ME 04101 \n\n\n03:30 PM – Biddeford Exit 32 Park & Ride\, 514–516 Alfred St\, Biddeford\, ME 04005 \n\n\n03:45 PM – Wells Exit 19 Transportation Center\, 696 Sanford Rd (Rte 109)\, Wells\, ME 04090 \n\n\nArrival at Gillette Stadium\,(Lot 10): Around 6:00 PM – perfect timing for dinner\, tailgating\, or grabbing merch before the action begins! \n🚌 Return Departure: 30 minutes after the game ends. Location: Lot 10 \n (We wait for you—no worries!) \nLet’s go Pats! 🔥Seats go fast—lock yours in now and ride with fellow fans all the way to Gillette!
URL:https://vipchartercoaches.com/event/patriots-vs-giants-bus-ride-portland/
LOCATION:Gillette Stadium\, 1 Patriot Pl\, Foxborough\, MA\, 02035\, United States
CATEGORIES:Concert,Day Trip,Hot,Scenic,Sports
GEO:42.091188;-71.266889
X-APPLE-STRUCTURED-LOCATION;VALUE=URI;X-ADDRESS=Gillette Stadium 1 Patriot Pl Foxborough MA 02035 United States;X-APPLE-RADIUS=500;X-TITLE=1 Patriot Pl:geo:-71.266889,42.091188
END:VEVENT
BEGIN:VEVENT
DTSTART;VALUE=DATE:20251214
DTEND;VALUE=DATE:20251215
DTSTAMP:20260420T165156
CREATED:20250904T192149Z
LAST-MODIFIED:20251213T232901Z
UID:26063-1765670400-1765756799@vipchartercoaches.com
SUMMARY:Patriots vs. Buffalo Bills at Gillette Stadium – December 14 (Transportation Only)
DESCRIPTION:The GameWhen: Sunday\, December 14\, 2025Where: Gillette Stadium\, Foxborough\, MAKickoff: 1:00 PM ET (gillettestadium.com)Opponent: Buffalo Bills \nReady for some football? Join us for an epic ride to see the New England Patriots take on the Buffalo Bills at Gillette Stadium. Whether you’re a die-hard fan or just love the energy of game day\, this is the no-stress way to get in on the action. \nNo need to deal with traffic\, parking\, or the hassle of driving home. We’ve got your round-trip ride covered—just bring the team spirit! \nWhy Ride With Us?No Parking HeadachesAvoid the long walk and expensive lots. We drop you off close to the action. \nTailgate Vibes OnboardGet in the game-day mood with pumped-up fans\, good music\, and zero stress. \nPickup Locations That Work for YouHop on in Portland\, Biddeford\, or Wells—wherever’s easiest for you. \nSafe Ride HomeCelebrate a win (or process a loss) without worrying about who’s driving back. \nFlat RateJust $75 round trip. No surprise fees—just a smooth ride. \nImportant Info🚨 Game Tickets NOT Included!This is transportation only—be sure to grab your game tickets separately. \nSchedule \n\n\n07:30 AM – Portland Park & Ride located at 274 Marginal Way\, Portland\, ME 04101 \n\n\n08:00 AM – Biddeford Exit 32 Park & Ride\, 514–516 Alfred St\, Biddeford\, ME 04005 \n\n\n08:15 AM – Wells Exit 19 Transportation Center\, 696 Sanford Rd (Rte 109)\, Wells\, ME 04090 \n\n\nArrival at Gillette Stadium (Lot 10): Around 11:00 AM – plenty of time for tailgating\, food\, and merch shopping before kickoff! \n🚌 Return Departure: 30 minutes after the game ends. Location: Lot 10 (We wait for you—no worries!) \nLet’s go Pats! 🔥Seats go fast—lock yours in now and ride with fellow fans all the way to Gillette!
URL:https://vipchartercoaches.com/event/patriots-vs-bills-bus-ride-portland/
LOCATION:Gillette Stadium\, 1 Patriot Pl\, Foxborough\, MA\, 02035\, United States
CATEGORIES:Day Trip,Hot,Scenic,Sports
GEO:42.091188;-71.266889
X-APPLE-STRUCTURED-LOCATION;VALUE=URI;X-ADDRESS=Gillette Stadium 1 Patriot Pl Foxborough MA 02035 United States;X-APPLE-RADIUS=500;X-TITLE=1 Patriot Pl:geo:-71.266889,42.091188
END:VEVENT
BEGIN:VEVENT
DTSTART;VALUE=DATE:20251217
DTEND;VALUE=DATE:20251218
DTSTAMP:20260420T165156
CREATED:20251118T121406Z
LAST-MODIFIED:20251204T152836Z
UID:26370-1765929600-1766015999@vipchartercoaches.com
SUMMARY:Encore Casino Boston Harbor 12/17/2025
DESCRIPTION:Your VIP Bus to\nENCORE CASINO BOSTON HARBOR 12/17/2025\nEverett\, MA\nWed 12/17/2025\nLet the Games Begin!\nwww.encorebostonharbor.com\n Experience a full day of gaming fun made easy and affordable.  It’s time to discover what you’ve been missing! BONUS: $20 Casino Bonus for Slot Play\n\nTry your luck with 1\,800+ slot machines\, including classic favorites\, automated tables and the newest game titles and enjoy over 185 state-of-the-art table games all with superior service.\n\n Schedule: \n8:00am – Portland\, Marginal Way Park & Ride Lot\, Exit 7\n8:30am – Biddeford\, Exit 32 Park & Ride Lot\n8:45am – Wells\, Exit 19 Transportation Center\n10:30am – Arrival to Encore Casino\n4:30pm – Depart Encore Casino \n\n\nENCORE CASINO BOSTON HARBOR 12/17/2025
URL:https://vipchartercoaches.com/event/encore-casino-boston-12-17-2025/
LOCATION:Encore Boston Harbor\, 1 Broadway\, Everett\, MA\, 02149\, United States
CATEGORIES:Casino,Day Trip,Hot,Scenic
ATTACH;FMTTYPE=image/jpeg:https://vipchartercoaches.com/wp-content/uploads/2021/05/encore.jpg
END:VEVENT
BEGIN:VEVENT
DTSTART;VALUE=DATE:20260108
DTEND;VALUE=DATE:20260109
DTSTAMP:20260420T165156
CREATED:20251218T103009Z
LAST-MODIFIED:20251218T124958Z
UID:26464-1767830400-1767916799@vipchartercoaches.com
SUMMARY:Encore Casino Boston Harbor 1/08/2026
DESCRIPTION:Your VIP Bus to\nENCORE CASINO BOSTON HARBOR 1/08/2026\nEverett\, MA\nThu 1/08/2026\nLet the Games Begin!\nwww.encorebostonharbor.com\n Experience a full day of gaming fun made easy and affordable.  It’s time to discover what you’ve been missing! BONUS: $20 Casino Bonus for Slot Play\n\nTry your luck with 1\,800+ slot machines\, including classic favorites\, automated tables and the newest game titles and enjoy over 185 state-of-the-art table games all with superior service.\n\n Schedule: \n8:00am – Portland\, Marginal Way Park & Ride Lot\, Exit 7\n8:30am – Biddeford\, Exit 32 Park & Ride Lot\n8:45am – Wells\, Exit 19 Transportation Center\n10:30am – Arrival to Encore Casino\n4:30pm – Depart Encore Casino \n\n\nENCORE CASINO BOSTON HARBOR 1/08/2026
URL:https://vipchartercoaches.com/event/encore-casino-boston/
LOCATION:Encore Boston Harbor\, 1 Broadway\, Everett\, MA\, 02149\, United States
CATEGORIES:Casino,Day Trip,Hot,Scenic
ATTACH;FMTTYPE=image/jpeg:https://vipchartercoaches.com/wp-content/uploads/2021/05/encore.jpg
END:VEVENT
BEGIN:VEVENT
DTSTART;TZID=America/New_York:20260111T080000
DTEND;TZID=America/New_York:20260111T170000
DTSTAMP:20260420T165156
CREATED:20260106T102952Z
LAST-MODIFIED:20260109T162422Z
UID:26615-1768118400-1768150800@vipchartercoaches.com
SUMMARY:🏈 January 11th Patriots Playoff Game at Gillette Stadium
DESCRIPTION:Playoff football is back in Foxborough—and this one matters. Join us for a high-energy ride to watch the New England Patriots take on the Los Angeles Chargers in a prime-time playoff showdown at Gillette Stadium. \nThis is a special moment for Pats fans\, marking the team’s first playoff appearance in several seasons—and the atmosphere is going to be electric. Whether you’ve been waiting years for this run or you just love playoff intensity\, this is the easiest\, most fun way to be there. \nNo traffic. No parking chaos. No long walks in the cold. Just a smooth\, round-trip ride with fellow fans who are just as fired up as you are. \nWhy Ride With Us?\nNo Parking HeadachesAvoid expensive lots and long walks. We drop you close to the stadium. \nPlayoff Energy OnboardGame-day music\, fired-up fans\, and zero stress on the road. \nConvenient Pickup LocationsBoard in Portland\, Biddeford\, or Wells—whatever works best for you. \nSafe Ride HomeEnjoy the game and the celebration without worrying about driving back. \nFlat Rate$75 round trip. No hidden fees. \nSchedule (Confirmed)\n\n\nPortland (Marginal Way): 4:00 PM \n\n\nBiddeford (Exit 32 Park & Ride): 4:30 PM \n\n\nWells (Exit 19 Transportation Center): 4:45 PM \n\n\nArrival at Gillette Stadium: ~6:15 PM \n\n\n🚌 Return Departure: ~11:30 PM(30 minutes after the game ends — we wait for you.) \nLet’s Go Pats.Playoff games are different—and getting there should be easy. Seats are limited\, excitement is high\, and this one is not to be missed. Secure your spot and ride with fellow fans all the way to Gillette.
URL:https://vipchartercoaches.com/event/january-11-patriots-playoff-game-gillette-stadium/
LOCATION:MA
CATEGORIES:Day Trip,Hot,Sports
END:VEVENT
BEGIN:VEVENT
DTSTART;VALUE=DATE:20260119
DTEND;VALUE=DATE:20260120
DTSTAMP:20260420T165156
CREATED:20251218T103955Z
LAST-MODIFIED:20251218T104410Z
UID:26467-1768780800-1768867199@vipchartercoaches.com
SUMMARY:Encore Casino Boston Harbor 1/19/2026
DESCRIPTION:Your VIP Bus to\nENCORE CASINO BOSTON HARBOR 1/19/2026\nEverett\, MA\nMon 1/19/2026\nLet the Games Begin!\nwww.encorebostonharbor.com\n Experience a full day of gaming fun made easy and affordable.  It’s time to discover what you’ve been missing! BONUS: $20 Casino Bonus for Slot Play\n\nTry your luck with 1\,800+ slot machines\, including classic favorites\, automated tables and the newest game titles and enjoy over 185 state-of-the-art table games all with superior service.\n\n Schedule: \n8:00am – Portland\, Marginal Way Park & Ride Lot\, Exit 7\n8:30am – Biddeford\, Exit 32 Park & Ride Lot\n8:45am – Wells\, Exit 19 Transportation Center\n10:30am – Arrival to Encore Casino\n4:30pm – Depart Encore Casino \n\n\nENCORE CASINO BOSTON HARBOR 1/19/2026
URL:https://vipchartercoaches.com/event/encore-casino-boston-1-19-2026/
LOCATION:Encore Boston Harbor\, 1 Broadway\, Everett\, MA\, 02149\, United States
CATEGORIES:Casino,Day Trip,Hot,Scenic
ATTACH;FMTTYPE=image/jpeg:https://vipchartercoaches.com/wp-content/uploads/2021/05/encore.jpg
END:VEVENT
BEGIN:VEVENT
DTSTART;VALUE=DATE:20260205
DTEND;VALUE=DATE:20260206
DTSTAMP:20260420T165156
CREATED:20260102T221731Z
LAST-MODIFIED:20260102T222217Z
UID:26571-1770249600-1770335999@vipchartercoaches.com
SUMMARY:Encore Casino Boston Harbor 2/5/2026
DESCRIPTION:Your VIP Bus to\nENCORE CASINO BOSTON HARBOR 2/5/2026\nEverett\, MA\nThu 2/5/2026\nLet the Games Begin!\nwww.encorebostonharbor.com\n Experience a full day of gaming fun made easy and affordable.  It’s time to discover what you’ve been missing! BONUS: $20 Casino Bonus for Slot Play\n\nTry your luck with 1\,800+ slot machines\, including classic favorites\, automated tables and the newest game titles and enjoy over 185 state-of-the-art table games all with superior service.\n\n Schedule: \n8:00am – Portland\, Marginal Way Park & Ride Lot\, Exit 7\n8:30am – Biddeford\, Exit 32 Park & Ride Lot\n8:45am – Wells\, Exit 19 Transportation Center\n10:30am – Arrival to Encore Casino\n4:30pm – Depart Encore Casino \n\n\nENCORE CASINO BOSTON HARBOR 2/5/2026
URL:https://vipchartercoaches.com/event/encore-casino-boston-2-5-2026/
LOCATION:Encore Boston Harbor\, 1 Broadway\, Everett\, MA\, 02149\, United States
CATEGORIES:Casino,Day Trip,Hot,Scenic
ATTACH;FMTTYPE=image/jpeg:https://vipchartercoaches.com/wp-content/uploads/2021/05/encore.jpg
END:VEVENT
BEGIN:VEVENT
DTSTART;VALUE=DATE:20260227
DTEND;VALUE=DATE:20260228
DTSTAMP:20260420T165156
CREATED:20260202T155835Z
LAST-MODIFIED:20260202T160239Z
UID:26703-1772150400-1772236799@vipchartercoaches.com
SUMMARY:Encore Casino Boston Harbor 2/27/2026
DESCRIPTION:Your VIP Bus to\nENCORE CASINO BOSTON HARBOR 2/27/2026\nEverett\, MA\nFri 2/27/2026\nLet the Games Begin!\nwww.encorebostonharbor.com\n Experience a full day of gaming fun made easy and affordable.  It’s time to discover what you’ve been missing! BONUS: $20 Casino Bonus for Slot Play\n\nTry your luck with 1\,800+ slot machines\, including classic favorites\, automated tables and the newest game titles and enjoy over 185 state-of-the-art table games all with superior service.\n\n Schedule: \n8:00am – Portland\, Marginal Way Park & Ride Lot\, Exit 7\n8:30am – Biddeford\, Exit 32 Park & Ride Lot\n8:45am – Wells\, Exit 19 Transportation Center\n10:30am – Arrival to Encore Casino\n4:30pm – Depart Encore Casino \n\n\nENCORE CASINO BOSTON HARBOR 2/27/2026
URL:https://vipchartercoaches.com/event/encore-casino-boston-2-27-2026/
LOCATION:Encore Boston Harbor\, 1 Broadway\, Everett\, MA\, 02149\, United States
CATEGORIES:Casino,Day Trip,Hot,Scenic
ATTACH;FMTTYPE=image/jpeg:https://vipchartercoaches.com/wp-content/uploads/2021/05/encore.jpg
END:VEVENT
BEGIN:VEVENT
DTSTART;TZID=America/New_York:20260925T080000
DTEND;TZID=America/New_York:20260925T170000
DTSTAMP:20260420T165156
CREATED:20251218T124559Z
LAST-MODIFIED:20251218T124559Z
UID:26472-1790323200-1790355600@vipchartercoaches.com
SUMMARY:Concert Transportation: Ed Sheeran on September 25\, 2026 in Gillette Stadium
DESCRIPTION:Experience the ultimate soul-touching\, beat-pumping ‘I found a love for me’ vibe with Ed Sheeran live at Gillette Stadium in Foxborough on Friday\, September 25\, 2026.  \nEd Sheeran pulls like a magnet\, and once you’re there\, you’ll feel it.\nJoin us for a night where you can push and pull\, hum and scream\, and sing along to songs that somehow feel like you’ve known them forever. With multiple Grammy Awards and a catalog packed with global anthems\, Ed Sheeran has a rare way of making a stadium feel personal. Every chorus hits with familiarity\, every lyric lands where it should.  \nHonest recommendation: if you want to get into the right mood before the show\, One Shot with Ed Sheeran on Netflix is the perfect warm-up. It follows Ed Sheeran around New York City in a single take\, capturing his performances and interactions with fans.  \nEvent Details:  \nConcert: Ed Sheeran  \nDate: Friday\, September 25\, 2026  \nVenue: Gillette Stadium\, Foxborough\, MA  \nShowtime: 5:30 PM  \n  \n  \nWhy Ride Our Party Bus?  \nNo Driving Hassles: Avoid traffic and parking woes; we’ll drop you close to the stadium.  \nPre-Concert Vibes: Enjoy the journey with fellow fans\, music\, and fun.  \nConvenient Pickups: Departing from Portland (Marginal Way)\, Biddeford\, and Wells.  \nPost-Show Ease: Skip the exit chaos; relax as we drive you back.  \nAffordable Round-Trip: Just $75.00 per person.  \nPickup Schedule:  \nPortland (Marginal Way): Depart at 12:15 PM  \nBiddeford: Depart at 12:45 PM  \nWells: Depart at 1:00 PM  \nArrival at Gillette Stadium: Approximately 3:15 PM  \nReturn Trip:  \nBus departs 30 minutes after the concert ends.  \nImportant Note:  \nThis is a transportation-only service. Concert tickets are NOT included. Please secure your concert tickets separately.  \nReserve Your Seat:  \nBus seats are limited! Secure your spot on the Party Bus for an unforgettable concert experience.  \nDon’t miss this chance to see Ed Sheeran live without the travel stress. Book your seat today! 
URL:https://vipchartercoaches.com/event/concert-transportation-ed-sheeran-on-september-25-2026-in-gillette-stadium/
LOCATION:MA
CATEGORIES:Concert,Day Trip,Hot
END:VEVENT
END:VCALENDAR