BEGIN:VCALENDAR
VERSION:2.0
PRODID:-//VIP Tour &amp; Charter Bus Company - ECPv6.15.17.1//NONSGML v1.0//EN
CALSCALE:GREGORIAN
METHOD:PUBLISH
X-ORIGINAL-URL:https://vipchartercoaches.com
X-WR-CALDESC:Events for VIP Tour &amp; Charter Bus Company
REFRESH-INTERVAL;VALUE=DURATION:PT1H
X-Robots-Tag:noindex
X-PUBLISHED-TTL:PT1H
BEGIN:VTIMEZONE
TZID:America/New_York
BEGIN:DAYLIGHT
TZOFFSETFROM:-0500
TZOFFSETTO:-0400
TZNAME:EDT
DTSTART:20240310T070000
END:DAYLIGHT
BEGIN:STANDARD
TZOFFSETFROM:-0400
TZOFFSETTO:-0500
TZNAME:EST
DTSTART:20241103T060000
END:STANDARD
BEGIN:DAYLIGHT
TZOFFSETFROM:-0500
TZOFFSETTO:-0400
TZNAME:EDT
DTSTART:20250309T070000
END:DAYLIGHT
BEGIN:STANDARD
TZOFFSETFROM:-0400
TZOFFSETTO:-0500
TZNAME:EST
DTSTART:20251102T060000
END:STANDARD
BEGIN:DAYLIGHT
TZOFFSETFROM:-0500
TZOFFSETTO:-0400
TZNAME:EDT
DTSTART:20260308T070000
END:DAYLIGHT
BEGIN:STANDARD
TZOFFSETFROM:-0400
TZOFFSETTO:-0500
TZNAME:EST
DTSTART:20261101T060000
END:STANDARD
END:VTIMEZONE
BEGIN:VEVENT
DTSTART;VALUE=DATE:20250417
DTEND;VALUE=DATE:20250418
DTSTAMP:20260419T112415
CREATED:20250205T151349Z
LAST-MODIFIED:20250221T101947Z
UID:25252-1744848000-1744934399@vipchartercoaches.com
SUMMARY:Day of Excitement at Foxwoods Casino 04/17/2025
DESCRIPTION:Overview of the Day\nGet ready for an unforgettable adventure as we take you on a scenic journey to Foxwoods Casino\, located in the beautiful Mashantucket Pequot Reservation. Your day begins with a relaxing 3-hour drive from Portland\, offering picturesque views of New England’s lush forests and charming landscapes. It’s the perfect chance to unwind and enjoy the journey. \nWhat to Expect at Foxwoods\nUpon arrival\, you’ll be dropped off at the Grand Pequot Tower Hotel\, where you’ll step right into the excitement of Foxwoods Casino. One of the largest and most diverse gaming destinations in the Northeast\, Foxwoods offers a vast selection of slot machines and gaming tables\, whether you’re an experienced gambler or just looking to try your luck. \nShopping and Dining\nIn addition to gaming\, Foxwoods features Tanger Outlets for upscale shopping. You can indulge in retail therapy with a variety of name-brand stores offering everything from fashion to electronics. When hunger strikes\, Foxwoods offers diverse dining options—from Johnny Rockets to Topgolf—ensuring there’s something to satisfy every craving. \nPricing and Booking Details\nFor just $99 per person\, you’ll enjoy round-trip transportation\, access to both Foxwoods Casino and Tanger Outlets\, and a day packed with excitement. \nDeparture Information \n\nCost: $99 per person\nIncludes: Round-trip transportation\, access to Foxwoods Casino\, and Tanger Outlets\nPrepaid Only: Full prepayment is required. Entry to the bus is only for passengers who have booked in advance.\n\nDeparture Times: \n\n7:15 AM Portland Marginal Way Park & Ride\n7:45 AM Biddeford Exit 32 Park & Ride\n8:00 AM Wells Exit 19 Transportation Center\nArrival at Foxwoods: approximately 11:00 AM\nDeparture from Foxwoods: 5:15 PM\n\nSeats are limited! Reserve your spot today and get ready for a thrilling adventure at Foxwoods. \nBook now and start your winning streak!
URL:https://vipchartercoaches.com/event/day-of-excitement-at-foxwoods-casino/
LOCATION:Foxwoods Resort Casino\, 350 Trolley Line Blvd 06338\, Mashantucket\, CT\, 06338\, United States
CATEGORIES:Casino,Day Trip,Shopping
GEO:41.4740815;-71.9608728
X-APPLE-STRUCTURED-LOCATION;VALUE=URI;X-ADDRESS=Foxwoods Resort Casino 350 Trolley Line Blvd 06338 Mashantucket CT 06338 United States;X-APPLE-RADIUS=500;X-TITLE=350 Trolley Line Blvd 06338:geo:-71.9608728,41.4740815
END:VEVENT
BEGIN:VEVENT
DTSTART;VALUE=DATE:20250429
DTEND;VALUE=DATE:20250430
DTSTAMP:20260419T112415
CREATED:20250227T134951Z
LAST-MODIFIED:20250418T184730Z
UID:25349-1745884800-1745971199@vipchartercoaches.com
SUMMARY:Encore Casino Boston Harbor 4/29/2025
DESCRIPTION:Your VIP Bus to\nENCORE CASINO BOSTON HARBOR 4/29/2025\nEverett\, MA\nTue 4/29/2025\nLet the Games Begin!\nwww.encorebostonharbor.com\n Experience a full day of gaming fun made easy and affordable.  It’s time to discover what you’ve been missing! BONUS: $20 Casino Bonus for Slot Play\n\nTry your luck with 1\,800+ slot machines\, including classic favorites\, automated tables and the newest game titles and enjoy over 185 state-of-the-art table games all with superior service.\n\n Schedule: \n8:00am – Portland\, Marginal Way Park & Ride Lot\, Exit 7\n8:30am – Biddeford\, Exit 32 Park & Ride Lot\n8:45am – Wells\, Exit 19 Transportation Center\n10:30am – Arrival to Encore Casino\n4:30pm – Depart Encore Casino \n\n\nENCORE CASINO BOSTON HARBOR 4/29/2025
URL:https://vipchartercoaches.com/event/encore-casino-boston-4-29-2025/
LOCATION:Encore Boston Harbor\, 1 Broadway\, Everett\, MA\, 02149\, United States
CATEGORIES:Casino,Day Trip,Hot,Scenic
ATTACH;FMTTYPE=image/jpeg:https://vipchartercoaches.com/wp-content/uploads/2021/05/encore.jpg
END:VEVENT
END:VCALENDAR