BEGIN:VCALENDAR
VERSION:2.0
PRODID:-//VIP Tour &amp; Charter Bus Company - ECPv6.15.20//NONSGML v1.0//EN
CALSCALE:GREGORIAN
METHOD:PUBLISH
X-ORIGINAL-URL:https://vipchartercoaches.com
X-WR-CALDESC:Events for VIP Tour &amp; Charter Bus Company
REFRESH-INTERVAL;VALUE=DURATION:PT1H
X-Robots-Tag:noindex
X-PUBLISHED-TTL:PT1H
BEGIN:VTIMEZONE
TZID:America/New_York
BEGIN:DAYLIGHT
TZOFFSETFROM:-0500
TZOFFSETTO:-0400
TZNAME:EDT
DTSTART:20230312T070000
END:DAYLIGHT
BEGIN:STANDARD
TZOFFSETFROM:-0400
TZOFFSETTO:-0500
TZNAME:EST
DTSTART:20231105T060000
END:STANDARD
BEGIN:DAYLIGHT
TZOFFSETFROM:-0500
TZOFFSETTO:-0400
TZNAME:EDT
DTSTART:20240310T070000
END:DAYLIGHT
BEGIN:STANDARD
TZOFFSETFROM:-0400
TZOFFSETTO:-0500
TZNAME:EST
DTSTART:20241103T060000
END:STANDARD
BEGIN:DAYLIGHT
TZOFFSETFROM:-0500
TZOFFSETTO:-0400
TZNAME:EDT
DTSTART:20250309T070000
END:DAYLIGHT
BEGIN:STANDARD
TZOFFSETFROM:-0400
TZOFFSETTO:-0500
TZNAME:EST
DTSTART:20251102T060000
END:STANDARD
END:VTIMEZONE
BEGIN:VEVENT
DTSTART;VALUE=DATE:20240509
DTEND;VALUE=DATE:20240510
DTSTAMP:20260420T034322
CREATED:20240405T182614Z
LAST-MODIFIED:20240405T183037Z
UID:24083-1715212800-1715299199@vipchartercoaches.com
SUMMARY:Encore Casino Boston Harbor 5/9/24
DESCRIPTION:Your VIP Bus to\nENCORE CASINO BOSTON HARBOR 5/9/24\nEverett\, MA\nThursday\, May 9th\, 2024\nLet the Games Begin!\nwww.encorebostonharbor.com\n Experience a full day of gaming fun made easy and affordable.  It’s time to discover what you’ve been missing! BONUS: $20 Casino Bonus for Slot Play\n\nTry your luck with 1\,800+ slot machines\, including classic favorites\, automated tables and the newest game titles and enjoy over 185 state-of-the-art table games all with superior service.\n\n Schedule: \n8:00am – Portland\, Marginal Way Park & Ride Lot\, Exit 7\n8:30am – Biddeford\, Exit 32 Park & Ride Lot\n8:45am – Wells\, Exit 19 Transportation Center\n10:30am – Arrival to Encore Casino\n4:30pm – Depart Encore Casino \n\n\nVIP Bus to Encore Casino\nENCORE CASINO BOSTON HARBOR 5/9/24
URL:https://vipchartercoaches.com/event/encore-casino-boston-5-09-24/
LOCATION:Encore Boston Harbor\, 1 Broadway\, Everett\, MA\, 02149\, United States
CATEGORIES:Casino,Day Trip,Hot,Scenic
ATTACH;FMTTYPE=image/jpeg:https://vipchartercoaches.com/wp-content/uploads/2021/05/encore.jpg
END:VEVENT
BEGIN:VEVENT
DTSTART;VALUE=DATE:20240529
DTEND;VALUE=DATE:20240530
DTSTAMP:20260420T034322
CREATED:20240405T183120Z
LAST-MODIFIED:20240405T183538Z
UID:24087-1716940800-1717027199@vipchartercoaches.com
SUMMARY:Encore Casino Boston Harbor 5/29/24
DESCRIPTION:Your VIP Bus to\nENCORE CASINO BOSTON HARBOR 5/29/24\nEverett\, MA\nWednesday\, May 29th\, 2024\nLet the Games Begin!\nwww.encorebostonharbor.com\n Experience a full day of gaming fun made easy and affordable.  It’s time to discover what you’ve been missing! BONUS: $20 Casino Bonus for Slot Play\n\nTry your luck with 1\,800+ slot machines\, including classic favorites\, automated tables and the newest game titles and enjoy over 185 state-of-the-art table games all with superior service.\n\n Schedule: \n8:00am – Portland\, Marginal Way Park & Ride Lot\, Exit 7\n8:30am – Biddeford\, Exit 32 Park & Ride Lot\n8:45am – Wells\, Exit 19 Transportation Center\n10:30am – Arrival to Encore Casino\n4:30pm – Depart Encore Casino \n\n\nVIP Bus to Encore Casino\nENCORE CASINO BOSTON HARBOR 5/29/24
URL:https://vipchartercoaches.com/event/encore-casino-boston-5-29-24-copy/
LOCATION:Encore Boston Harbor\, 1 Broadway\, Everett\, MA\, 02149\, United States
CATEGORIES:Casino,Day Trip,Hot,Scenic
ATTACH;FMTTYPE=image/jpeg:https://vipchartercoaches.com/wp-content/uploads/2021/05/encore.jpg
END:VEVENT
BEGIN:VEVENT
DTSTART;VALUE=DATE:20240530
DTEND;VALUE=DATE:20240531
DTSTAMP:20260420T034322
CREATED:20231206T151842Z
LAST-MODIFIED:20231222T164128Z
UID:23365-1717027200-1717113599@vipchartercoaches.com
SUMMARY:The Rolling Stones at Gillette 5/30/24 Ride Only
DESCRIPTION:The Rolling Stones at Gillette 5/30/24 Ride Only \nThe Rolling Stones Tour “Hackney Diamonds”\nThursday\, May 30th\, 2024\nGillette Stadium\, Foxborough\, MA\nRide Only \n  \nFans can expect to experience Mick\, Keith and Ronnie play their most popular hits ranging from “Start Me Up\,” “Gimme Shelter\,” “Jumpin’ Jack Flash\,” “Satisfaction” and more\, as well as fan favorite deep cuts and music from their new album HACKNEY DIAMONDS. The legendary rockers will be returning to the road following the success of their history-making and chart-topping studio album HACKNEY DIAMONDS\, which has just received a Grammy nomination for the project’s lead single “Angry.” Showcasing a new stage and high energy that only the Stones can bring as one of the world’s most iconic artists ever\, this tour will guarantee a show to remember. \nForget the hassle of driving\, traffic\, and parking. Relax and and enjoy your ride while we take care of the details! We’ll arrive to the Stadium approximately 2 hours before the concert begins and depart 30 minutes after it completes. The bus while stay parked in the lot during the concert. All ages bus – no alcohol consumption on board. Ride only. Does not include concert ticket. \n2:00pm – Portland\,  Exit 7 Marginal Way P&R Lot\n2:30pm – Biddeford\, Exit 32 P&R Lot\n2:45pm – Wells\, Exit 19 Transportation Center\nArrive to Gillette Stadium for the Rolling Stones\n7:30pm Concert time\nDepart 30 minutes after concert completion \nThe Rolling Stones at Gillette 5/30/24 Ride Only
URL:https://vipchartercoaches.com/event/the-rolling-stones-at-gillette-5-30-24-ride-only/
LOCATION:Gillette Stadium\, 1 Patriot Pl\, Foxborough\, MA\, 02035\, United States
CATEGORIES:Concert,Day Trip,Featured Tours
ATTACH;FMTTYPE=image/jpeg:https://vipchartercoaches.com/wp-content/uploads/2023/12/2024-RollingStones-1170X544.jpg
GEO:42.091188;-71.266889
X-APPLE-STRUCTURED-LOCATION;VALUE=URI;X-ADDRESS=Gillette Stadium 1 Patriot Pl Foxborough MA 02035 United States;X-APPLE-RADIUS=500;X-TITLE=1 Patriot Pl:geo:-71.266889,42.091188
END:VEVENT
END:VCALENDAR