BEGIN:VCALENDAR
VERSION:2.0
PRODID:-//VIP Tour &amp; Charter Bus Company - ECPv6.15.20//NONSGML v1.0//EN
CALSCALE:GREGORIAN
METHOD:PUBLISH
X-ORIGINAL-URL:https://vipchartercoaches.com
X-WR-CALDESC:Events for VIP Tour &amp; Charter Bus Company
REFRESH-INTERVAL;VALUE=DURATION:PT1H
X-Robots-Tag:noindex
X-PUBLISHED-TTL:PT1H
BEGIN:VTIMEZONE
TZID:America/New_York
BEGIN:DAYLIGHT
TZOFFSETFROM:-0500
TZOFFSETTO:-0400
TZNAME:EDT
DTSTART:20220313T070000
END:DAYLIGHT
BEGIN:STANDARD
TZOFFSETFROM:-0400
TZOFFSETTO:-0500
TZNAME:EST
DTSTART:20221106T060000
END:STANDARD
BEGIN:DAYLIGHT
TZOFFSETFROM:-0500
TZOFFSETTO:-0400
TZNAME:EDT
DTSTART:20230312T070000
END:DAYLIGHT
BEGIN:STANDARD
TZOFFSETFROM:-0400
TZOFFSETTO:-0500
TZNAME:EST
DTSTART:20231105T060000
END:STANDARD
BEGIN:DAYLIGHT
TZOFFSETFROM:-0500
TZOFFSETTO:-0400
TZNAME:EDT
DTSTART:20240310T070000
END:DAYLIGHT
BEGIN:STANDARD
TZOFFSETFROM:-0400
TZOFFSETTO:-0500
TZNAME:EST
DTSTART:20241103T060000
END:STANDARD
END:VTIMEZONE
BEGIN:VEVENT
DTSTART;VALUE=DATE:20231008
DTEND;VALUE=DATE:20231009
DTSTAMP:20260420T140053
CREATED:20230816T133319Z
LAST-MODIFIED:20230816T134221Z
UID:22458-1696723200-1696809599@vipchartercoaches.com
SUMMARY:NE Patriots vs. Saints 10/8
DESCRIPTION:VIP’s Patriots Fan Bus \nNE Patriots vs. Saints 10/8\nSunday\, October 8th\, 2023\nGillette Stadium\, Foxboro\, Ma\n1:00pm Game Time\nRide Only \nYes\, the Patriots Fan Bus is back again for another exciting year of Patriots football! Get your ride only tickets and reserve your ride with VIP. We know you want to avoid the traffic\, parking and hassle – that’s why we do it! This is an all ages bus and there is no alcohol consumption permitted onboard the coach. We’ll arrive to the game approximately two hours before kickoff and depart 30 minutes after completion. The bus remains parked in the same location in the stadium for the duration of the game. \nSchedule:\n7:30am – Portland Marginal Way Exit 7 Park & Ride\n8:00am – Biddeford Exit 32 Park & Ride\n8:15am – Wells Exit 19 Transportation Center\n11:00am – Arrival to Gillette\n1:00pm – Game Time\nDepart 30 Minutes after the game completion. \nThis service is ride only and does not include your game ticket.
URL:https://vipchartercoaches.com/event/pats-vs-saints-10-8-23/
LOCATION:Gillette Stadium\, 1 Patriot Pl\, Foxborough\, MA\, 02035\, United States
CATEGORIES:Day Trip,Hot,Sports
ATTACH;FMTTYPE=image/jpeg:https://vipchartercoaches.com/wp-content/uploads/2017/09/IMG_20140417_141724-e1504630801520.jpg
GEO:42.091188;-71.266889
X-APPLE-STRUCTURED-LOCATION;VALUE=URI;X-ADDRESS=Gillette Stadium 1 Patriot Pl Foxborough MA 02035 United States;X-APPLE-RADIUS=500;X-TITLE=1 Patriot Pl:geo:-71.266889,42.091188
END:VEVENT
BEGIN:VEVENT
DTSTART;VALUE=DATE:20231010
DTEND;VALUE=DATE:20231011
DTSTAMP:20260420T140054
CREATED:20230109T194840Z
LAST-MODIFIED:20230112T150845Z
UID:20736-1696896000-1696982399@vipchartercoaches.com
SUMMARY:Fall Foliage Turkey Train 10/10
DESCRIPTION:Fall Foliage Turkey Train\nTuesday\, October 10th\, 2023\nLimerick\, ME & Meredith\, NH\nIncludes: Drink & Snack at Libby & Son’s\, Train Ride with full Turkey Dinner\, Motorcoach Transportation \nStart your morning off with a deluxe motorcoach ride to Libby & Sons U-Picks Farm. Enjoy a fresh cider donut and hot beverage\, on us! Pick your own apples or try some kettle corn. Next\, we’re off on a scenic ride with photo stops en route to Meredith\, NH to board the Turkey Train. Ride the rails around Lake Winnipesaukee and enjoy a complete turkey dinner with all the fixin’s\, served by Hart’s Turkey Farm. \n8:30am Marginal Way Park & Ride Lot\n9:00am Biddeford Exit 32 Park & Ride Lot\n9:45am Libby & Son’s U Picks Farm\n12:30pm Arrive to Train Station for boarding\n1:00pm Train Ride and Turkey Dinner\n3:30pm Return trip home \n            
URL:https://vipchartercoaches.com/event/fall-foliage-turkey-train-10-10-23/
LOCATION:MA
CATEGORIES:Day Trip,Hot,Scenic
ATTACH;FMTTYPE=image/jpeg:https://vipchartercoaches.com/wp-content/uploads/2021/07/VIP-at-LIbby-and-Sons.jpg
END:VEVENT
BEGIN:VEVENT
DTSTART;VALUE=DATE:20231016
DTEND;VALUE=DATE:20231017
DTSTAMP:20260420T140054
CREATED:20230908T125928Z
LAST-MODIFIED:20230908T131434Z
UID:22628-1697414400-1697500799@vipchartercoaches.com
SUMMARY:Encore Casino Boston Harbor 10/16/23
DESCRIPTION:Your VIP Bus to\nENCORE CASINO BOSTON HARBOR 10/16\nEverett\, MA\nMonday\, October 16th\,  2023\nLet the Games Begin!\nwww.encorebostonharbor.com\n Experience a full day of gaming fun made easy and affordable.  It’s time to discover what you’ve been missing! BONUS: $20 Casino Bonus for Slot Play\n\nTry your luck with 1\,800+ slot machines\, including classic favorites\, automated tables and the newest game titles and enjoy over 185 state-of-the-art table games all with superior service.\n\n Schedule: \n8:00am – Portland\, Marginal Way Park & Ride Lot\, Exit 7\n8:30am – Biddeford\, Exit 32 Park & Ride Lot\n8:45am – Wells\, Exit 19 Transportation Center\n10:30am – Arrival to Encore Casino\n4:30pm – Depart Encore Casino \n\n\nVIP Bus to Encore Casino\nENCORE CASINO BOSTON HARBOR 10/16
URL:https://vipchartercoaches.com/event/encore-casino-boston-10-16-23/
LOCATION:Encore Boston Harbor\, 1 Broadway\, Everett\, MA\, 02149\, United States
CATEGORIES:Casino,Day Trip,Hot,Scenic
ATTACH;FMTTYPE=image/jpeg:https://vipchartercoaches.com/wp-content/uploads/2021/05/encore.jpg
END:VEVENT
BEGIN:VEVENT
DTSTART;VALUE=DATE:20231019
DTEND;VALUE=DATE:20231020
DTSTAMP:20260420T140054
CREATED:20230908T130345Z
LAST-MODIFIED:20230908T131305Z
UID:22632-1697673600-1697759999@vipchartercoaches.com
SUMMARY:Encore Casino Boston Harbor 10/19/23
DESCRIPTION:Your VIP Bus to\nENCORE CASINO BOSTON HARBOR 10/19\nEverett\, MA\nThursday\, October 19th\,  2023\nLet the Games Begin!\nwww.encorebostonharbor.com\n Experience a full day of gaming fun made easy and affordable.  It’s time to discover what you’ve been missing! BONUS: $20 Casino Bonus for Slot Play\n\nTry your luck with 1\,800+ slot machines\, including classic favorites\, automated tables and the newest game titles and enjoy over 185 state-of-the-art table games all with superior service.\n\n Schedule: \n8:00am – Portland\, Marginal Way Park & Ride Lot\, Exit 7\n8:30am – Biddeford\, Exit 32 Park & Ride Lot\n8:45am – Wells\, Exit 19 Transportation Center\n10:30am – Arrival to Encore Casino\n4:30pm – Depart Encore Casino \n\n\nVIP Bus to Encore Casino\nENCORE CASINO BOSTON HARBOR 10/19
URL:https://vipchartercoaches.com/event/encore-casino-boston-10-19-23/
LOCATION:Encore Boston Harbor\, 1 Broadway\, Everett\, MA\, 02149\, United States
CATEGORIES:Casino,Day Trip,Hot,Scenic
ATTACH;FMTTYPE=image/jpeg:https://vipchartercoaches.com/wp-content/uploads/2021/05/encore.jpg
END:VEVENT
BEGIN:VEVENT
DTSTART;VALUE=DATE:20231022
DTEND;VALUE=DATE:20231023
DTSTAMP:20260420T140054
CREATED:20230816T133347Z
LAST-MODIFIED:20230816T134004Z
UID:22461-1697932800-1698019199@vipchartercoaches.com
SUMMARY:NE Patriots vs. Buffalo Bills 10/22
DESCRIPTION:VIP’s Patriots Fan Bus \nNE Patriots vs. Buffalo Bills 10/22\nSunday\, October 22nd\, 2023\nGillette Stadium\, Foxboro\, Ma\n1:00pm Game Time\nRide Only \nYes\, the Patriots Fan Bus is back again for another exciting year of Patriots football! Get your ride only tickets and reserve your ride with VIP. We know you want to avoid the traffic\, parking and hassle – that’s why we do it! This is an all ages bus and there is no alcohol consumption permitted onboard the coach. We’ll arrive to the game approximately two hours before kickoff and depart 30 minutes after completion. The bus remains parked in the same location in the stadium for the duration of the game. \nSchedule:\n7:30am – Portland Marginal Way Exit 7 Park & Ride\n8:00am – Biddeford Exit 32 Park & Ride\n8:15am – Wells Exit 19 Transportation Center\n11:00am – Arrival to Gillette\n1:00pm – Game Time\nDepart 30 Minutes after the game completion. \nThis service is ride only and does not include your game ticket.
URL:https://vipchartercoaches.com/event/pats-vs-bills-10-22-23/
LOCATION:Gillette Stadium\, 1 Patriot Pl\, Foxborough\, MA\, 02035\, United States
CATEGORIES:Day Trip,Hot,Sports
ATTACH;FMTTYPE=image/jpeg:https://vipchartercoaches.com/wp-content/uploads/2017/09/IMG_20140417_141724-e1504630801520.jpg
GEO:42.091188;-71.266889
X-APPLE-STRUCTURED-LOCATION;VALUE=URI;X-ADDRESS=Gillette Stadium 1 Patriot Pl Foxborough MA 02035 United States;X-APPLE-RADIUS=500;X-TITLE=1 Patriot Pl:geo:-71.266889,42.091188
END:VEVENT
BEGIN:VEVENT
DTSTART;VALUE=DATE:20231029
DTEND;VALUE=DATE:20231030
DTSTAMP:20260420T140054
CREATED:20230329T142839Z
LAST-MODIFIED:20230405T140216Z
UID:21331-1698537600-1698623999@vipchartercoaches.com
SUMMARY:VIP's "Boo Bus" to Salem Haunted Happenings 10/29
DESCRIPTION:VIP’s “Boo Bus” to Salem Haunted Happenings 10/29\nHistoric Salem Village\, Salem\, MA\nSunday\, October 29 \, 2023 \n \nA festive celebration of Halloween and fall in New England. We invite you to experience a unique one of a kind Halloween experience. So\, Eat\, Drink and be Scary because there is Family Fun for Everyone! Let VIP do the driving to get you to this world recognized event. The day will be yours to explore all that Salem has to offer during the month of October.  As always\, we love when you wear your costume\, so don’t be shy! Psychics\, museums\, tours\, reenactments and more. There is something for everyone in the heart of Salem Village. \nSunday\, October 29\n8:00am – Portland Marginal Way Park & Ride\n8:30am – Biddeford Exit 32 Park & Ride\n8:45am – Wells Exit 19 Transportation Ctr\n10:30am – 4:30pm Salem Haunted Happenings \n \n“Salem Haunted Happenings has evolved into a month-long celebration encompassing everything from family-friendly magic shows\, to costume balls\, psychic readings\, haunted harbor cruises\, ghost tours\, and more. Whether you come to Salem seeking history\, spooks\, shopping\, live music\, or even a vibrant food and “spirits” scene\, you are sure to find your own adventure this October at our Halloween Capital of the World.” – HauntedHappenings.org \nVisit www.hauntedhappenings.org to help plan your day and Ride VIP’s Boo-Bus to Salem Haunted Happenings 10/29! 
URL:https://vipchartercoaches.com/event/haunted-happenings-boo-bus-10-29-23/
LOCATION:MA
CATEGORIES:Day Trip,Scenic,Shopping
ATTACH;FMTTYPE=image/jpeg:https://vipchartercoaches.com/wp-content/uploads/2017/03/Mr-Bones-e1505413070896.jpg
END:VEVENT
BEGIN:VEVENT
DTSTART;VALUE=DATE:20231031
DTEND;VALUE=DATE:20231101
DTSTAMP:20260420T140054
CREATED:20230908T130649Z
LAST-MODIFIED:20230908T131139Z
UID:22636-1698710400-1698796799@vipchartercoaches.com
SUMMARY:Encore Casino Boston Harbor 10/31/23
DESCRIPTION:Your VIP Bus to\nENCORE CASINO BOSTON HARBOR 10/31\nEverett\, MA\nTuesday\, October 31st\,  2023\nLet the Games Begin!\nwww.encorebostonharbor.com\n Experience a full day of gaming fun made easy and affordable.  It’s time to discover what you’ve been missing! BONUS: $20 Casino Bonus for Slot Play\n\nTry your luck with 1\,800+ slot machines\, including classic favorites\, automated tables and the newest game titles and enjoy over 185 state-of-the-art table games all with superior service.\n\n Schedule: \n8:00am – Portland\, Marginal Way Park & Ride Lot\, Exit 7\n8:30am – Biddeford\, Exit 32 Park & Ride Lot\n8:45am – Wells\, Exit 19 Transportation Center\n10:30am – Arrival to Encore Casino\n4:30pm – Depart Encore Casino \n\n\nVIP Bus to Encore Casino\nENCORE CASINO BOSTON HARBOR 10/31
URL:https://vipchartercoaches.com/event/encore-casino-boston-10-31-23/
LOCATION:Encore Boston Harbor\, 1 Broadway\, Everett\, MA\, 02149\, United States
CATEGORIES:Casino,Day Trip,Hot,Scenic
ATTACH;FMTTYPE=image/jpeg:https://vipchartercoaches.com/wp-content/uploads/2021/05/encore.jpg
END:VEVENT
END:VCALENDAR