BEGIN:VCALENDAR
VERSION:2.0
PRODID:-//VIP Tour &amp; Charter Bus Company - ECPv6.15.20//NONSGML v1.0//EN
CALSCALE:GREGORIAN
METHOD:PUBLISH
X-ORIGINAL-URL:https://vipchartercoaches.com
X-WR-CALDESC:Events for VIP Tour &amp; Charter Bus Company
REFRESH-INTERVAL;VALUE=DURATION:PT1H
X-Robots-Tag:noindex
X-PUBLISHED-TTL:PT1H
BEGIN:VTIMEZONE
TZID:America/New_York
BEGIN:DAYLIGHT
TZOFFSETFROM:-0500
TZOFFSETTO:-0400
TZNAME:EDT
DTSTART:20220313T070000
END:DAYLIGHT
BEGIN:STANDARD
TZOFFSETFROM:-0400
TZOFFSETTO:-0500
TZNAME:EST
DTSTART:20221106T060000
END:STANDARD
BEGIN:DAYLIGHT
TZOFFSETFROM:-0500
TZOFFSETTO:-0400
TZNAME:EDT
DTSTART:20230312T070000
END:DAYLIGHT
BEGIN:STANDARD
TZOFFSETFROM:-0400
TZOFFSETTO:-0500
TZNAME:EST
DTSTART:20231105T060000
END:STANDARD
BEGIN:DAYLIGHT
TZOFFSETFROM:-0500
TZOFFSETTO:-0400
TZNAME:EDT
DTSTART:20240310T070000
END:DAYLIGHT
BEGIN:STANDARD
TZOFFSETFROM:-0400
TZOFFSETTO:-0500
TZNAME:EST
DTSTART:20241103T060000
END:STANDARD
END:VTIMEZONE
BEGIN:VEVENT
DTSTART;VALUE=DATE:20230519
DTEND;VALUE=DATE:20230520
DTSTAMP:20260420T203256
CREATED:20221117T204820Z
LAST-MODIFIED:20230518T132430Z
UID:20361-1684454400-1684540799@vipchartercoaches.com
SUMMARY:Taylor Swift "The Eras Tour" Gillette Stadium 5/19
DESCRIPTION:Taylor Swift “The Eras Tour” Gillette Stadium 5/19\nWith Special Guests Phoebe Bridgers & GAYLE\nGillette Stadium\, Foxborough\, MA\nFriday\, May 19th\, 2023\n6:30pm Concert\nRide Only \nTaylor Swift scores a 10 out of 10 to become the first artist in history to claim the Top 10 slots on the Billboard Hot 100 chart in the US\, with tracks from her latest album\, Midnights.\nThe U.S. leg of Taylor Swift | The Eras Tour is announced\, just days after the eleven-time GRAMMY winner breaks streaming\, physical and vinyl album sales around the world. Taylor’s critically acclaimed album\, Midnights\, is the fastest selling album of her career. \nRelax and leave the driving to VIP to this VIP event! This is sure to be Taylor’s best concert yet and we’re so excited to take you there! Let us handle the traffic\, parking and fees while you get psyched for the Eras tour! This ticket is for your bus ride only and does not include your admission to the concert. The bus is for all ages and no alcohol consumption is permitted onboard. We will arrive 2-3 hours before the concert begins and depart 30 minutes after the completion. \n12:30pm – Portland Exit 7 Marginal Way Park & Ride Lot (Across the st. from WORLD GYM)\n1:00pm  – Biddeford Exit 32 Park & Ride Lot\n1:15pm – Wells Exit 19 Transportation Center\n4:00pm – Arrival to Gillette Stadium\n6:30pm – Taylor Swift Concert\nDepart for home 30 minutes after completion. \nTaylor Swift “The Eras Tour” Gillette Stadium 5/19 Ride Only
URL:https://vipchartercoaches.com/event/taylor-swift-the-eras-tour-gillette-stadium-5-19-23/
LOCATION:Gillette Stadium\, 1 Patriot Pl\, Foxborough\, MA\, 02035\, United States
CATEGORIES:Concert,Day Trip,Featured Tours,Hot
ATTACH;FMTTYPE=image/jpeg:https://vipchartercoaches.com/wp-content/uploads/2022/11/image0-4.jpeg
GEO:42.091188;-71.266889
X-APPLE-STRUCTURED-LOCATION;VALUE=URI;X-ADDRESS=Gillette Stadium 1 Patriot Pl Foxborough MA 02035 United States;X-APPLE-RADIUS=500;X-TITLE=1 Patriot Pl:geo:-71.266889,42.091188
END:VEVENT
BEGIN:VEVENT
DTSTART;VALUE=DATE:20230520
DTEND;VALUE=DATE:20230521
DTSTAMP:20260420T203256
CREATED:20221103T152159Z
LAST-MODIFIED:20221103T152450Z
UID:20229-1684540800-1684627199@vipchartercoaches.com
SUMMARY:Taylor Swift "The Eras Tour" Gillette Stadium 5/20
DESCRIPTION:Taylor Swift “The Eras Tour” Gillette Stadium 5/20\nWith Special Guests Phoebe Bridgers & GAYLE\nGillette Stadium\, Foxborough\, MA\nSaturday\, May 20th\, 2023\n6:30pm Concert\nRide Only \nTaylor Swift scores a 10 out of 10 to become the first artist in history to claim the Top 10 slots on the Billboard Hot 100 chart in the US\, with tracks from her latest album\, Midnights.\nThe U.S. leg of Taylor Swift | The Eras Tour is announced\, just days after the eleven-time GRAMMY winner breaks streaming\, physical and vinyl album sales around the world. Taylor’s critically acclaimed album\, Midnights\, is the fastest selling album of her career. \nRelax and leave the driving to VIP to this VIP event! This is sure to be Taylor’s best concert yet and we’re so excited to take you there! Let us handle the traffic\, parking and fees while you get psyched for the Eras tour! This ticket is for your bus ride only and does not include your admission to the concert. The bus is for all ages and no alcohol consumption is permitted onboard. We will arrive 2-3 hours before the concert begins and depart 30 minutes after the completion. \n12:30pm – Portland Exit 7 Marginal Way Park & Ride Lot (Across the st. from WORLD GYM)\n12:45pm  – Biddeford Exit 32 Park & Ride Lot\n1:00pm – Wells Exit 19 Transportation Center\n4:00pm – Arrival to Gillette Stadium\n6:30pm – Taylor Swift Concert\nDepart for home 30 minutes after completion. \nTaylor Swift “The Eras Tour” Gillette Stadium 5/20 Ride Only
URL:https://vipchartercoaches.com/event/taylor-swift-the-eras-tour-gillette-stadium-5-20/
LOCATION:Gillette Stadium\, 1 Patriot Pl\, Foxborough\, MA\, 02035\, United States
CATEGORIES:Concert,Day Trip,Featured Tours,Hot
ATTACH;FMTTYPE=image/jpeg:https://vipchartercoaches.com/wp-content/uploads/2022/11/image0-4.jpeg
GEO:42.091188;-71.266889
X-APPLE-STRUCTURED-LOCATION;VALUE=URI;X-ADDRESS=Gillette Stadium 1 Patriot Pl Foxborough MA 02035 United States;X-APPLE-RADIUS=500;X-TITLE=1 Patriot Pl:geo:-71.266889,42.091188
END:VEVENT
BEGIN:VEVENT
DTSTART;VALUE=DATE:20230531
DTEND;VALUE=DATE:20230601
DTSTAMP:20260420T203256
CREATED:20230317T141216Z
LAST-MODIFIED:20230317T141636Z
UID:21191-1685491200-1685577599@vipchartercoaches.com
SUMMARY:Encore Casino Boston Harbor 5/31
DESCRIPTION:Your VIP Bus to\nENCORE CASINO BOSTON HARBOR 5/31\nEverett\, MA\nWednesday\, May 31st\,  2023\nLet the Games Begin!\nwww.encorebostonharbor.com\n Experience a full day of gaming fun made easy and affordable.  It’s time to discover what you’ve been missing! BONUS: $20 Casino Bonus for Slot Play\n\nTry your luck with 1\,800+ slot machines\, including classic favorites\, automated tables and the newest game titles and enjoy over 185 state-of-the-art table games all with superior service.\n\nVIP’s Encore Casino New Schedule: \n8:00am – Portland\, Marginal Way Park & Ride Lot\, Exit 7\n8:30am – Biddeford\, Exit 32 Park & Ride Lot\n8:45am – Wells\, Exit 19 Transportation Center\n10:30am – Arrival to Encore Casino\n4:30pm – Depart Encore Casino \n\n\nVIP Bus to Encore Casino\nENCORE CASINO BOSTON HARBOR 5/31
URL:https://vipchartercoaches.com/event/encore-casino-boston-05-31/
LOCATION:Encore Boston Harbor\, 1 Broadway\, Everett\, MA\, 02149\, United States
CATEGORIES:Casino,Day Trip,Hot,Scenic
ATTACH;FMTTYPE=image/jpeg:https://vipchartercoaches.com/wp-content/uploads/2021/05/encore.jpg
END:VEVENT
END:VCALENDAR