BEGIN:VCALENDAR
VERSION:2.0
PRODID:-//VIP Tour &amp; Charter Bus Company - ECPv6.15.20//NONSGML v1.0//EN
CALSCALE:GREGORIAN
METHOD:PUBLISH
X-WR-CALNAME:VIP Tour &amp; Charter Bus Company
X-ORIGINAL-URL:https://vipchartercoaches.com
X-WR-CALDESC:Events for VIP Tour &amp; Charter Bus Company
REFRESH-INTERVAL;VALUE=DURATION:PT1H
X-Robots-Tag:noindex
X-PUBLISHED-TTL:PT1H
BEGIN:VTIMEZONE
TZID:America/New_York
BEGIN:DAYLIGHT
TZOFFSETFROM:-0500
TZOFFSETTO:-0400
TZNAME:EDT
DTSTART:20180311T070000
END:DAYLIGHT
BEGIN:STANDARD
TZOFFSETFROM:-0400
TZOFFSETTO:-0500
TZNAME:EST
DTSTART:20181104T060000
END:STANDARD
BEGIN:DAYLIGHT
TZOFFSETFROM:-0500
TZOFFSETTO:-0400
TZNAME:EDT
DTSTART:20190310T070000
END:DAYLIGHT
BEGIN:STANDARD
TZOFFSETFROM:-0400
TZOFFSETTO:-0500
TZNAME:EST
DTSTART:20191103T060000
END:STANDARD
BEGIN:DAYLIGHT
TZOFFSETFROM:-0500
TZOFFSETTO:-0400
TZNAME:EDT
DTSTART:20200308T070000
END:DAYLIGHT
BEGIN:STANDARD
TZOFFSETFROM:-0400
TZOFFSETTO:-0500
TZNAME:EST
DTSTART:20201101T060000
END:STANDARD
END:VTIMEZONE
BEGIN:VEVENT
DTSTART;VALUE=DATE:20191201
DTEND;VALUE=DATE:20191202
DTSTAMP:20260423T061630
CREATED:20191107T012433Z
LAST-MODIFIED:20191107T031131Z
UID:13987-1575158400-1575244799@vipchartercoaches.com
SUMMARY:Boothbay Harbor On The Bistro Bus: Culinary Delights & Holiday Lights
DESCRIPTION:Boothbay Harbor On The Bistro Bus: Culinary Delights & Holiday Lights\nSunday\, December 1\, 2019\nLuxury Roundtrip ride to Boothbay to enjoy “Gardens A Glow” and an afternoon foodie tour\nCapacity this luxury tour accommodates a max of 14 people. \nIncludes: Round trip luxury transportation aboard a Mercedes Sprinter from Portland/Yarmouth\, your talented local tour guide\, all food and beverages on the tour\, admission to Gardens A Glow at the Botanical Gardens\, and tips to your wait staff\, driver and tour guide gratuities. \nVIP Tour and Charter Bus Company is proud to team up with Maine Foodie Tours and “Gardens A Glow” at Coastal Maine Botanical Gardens to offer a day of activities\, sights\, foods and lights with round trip luxury transportation from Portland or Yarmouth to Boothbay and it’s harbor. \nYou’ll enjoy the deliciously talented culinary scene of Boothbay Harbor. This tour introduces a mix of some of the areas oldest and newest locally-owned establishments while showcasing the culinary creativity that is alive and well! Bring your appetite for food\, stories\, and facts about the vibrantly local food economy. \nSchedule\n12:00pm Portland Marginal Way Park & Ride Lot (Across from World Gym)\n12:15pm Yarmouth Exit 15 Park and Ride Lot\n1:15pm Arrival to Boothbay Harbor\, 1 hour of free time\n2:15pm Our friendly\, local tour guides will introduce you to 4 locally-owned businesses to explore and taste their delectable\, native-to-Maine foods\n4:45pm Visit Coastal Maine Botanical Garden’s “Gardens Aglow”\n8:00pm Arrival back to Portland \nThese Trip Details are a MUST READ.
URL:https://vipchartercoaches.com/event/boothbay-harbor-on-the-bistro-bus-culinary-delights-holiday-lights/
LOCATION:MA
CATEGORIES:Day Trip,Hot,Scenic,Shopping
ATTACH;FMTTYPE=image/png:https://vipchartercoaches.com/wp-content/uploads/2019/11/Culinary-Delights-and-Holiday-Lights.png
END:VEVENT
BEGIN:VEVENT
DTSTART;VALUE=DATE:20191208
DTEND;VALUE=DATE:20191209
DTSTAMP:20260423T061630
CREATED:20190420T151243Z
LAST-MODIFIED:20191206T170359Z
UID:11330-1575763200-1575849599@vipchartercoaches.com
SUMMARY:NE Patriots vs. Kansas City Chiefs
DESCRIPTION:NE Patriots vs. Kansas City Chiefs\nSunday\, December 8\, 2019\nGillette Stadium\, Foxborough\, MA\n4:25pm Game \nThe Patriots Fan Bus is back for another season! Ride-only service to New England Patriots home games at Gillette Stadium. Driving with traffic and parking fees can be a huge hassle\, so leave the driving to us and enjoy time with your friends and family onboard our deluxe motorcoach. The bus will arrive to the stadium approximately 2 hours before the game and depart 30 minutes after completion. Ride only. Does not include your game ticket. \n11:00am – Portland\, Marginal Way Park 7 Ride Lot (across from World Gym)\n11:30am – Biddeford\, Exit 32 Park & Ride Lot (across from Walmart)\n11:45pm – Wells\, Exit 19 Transportation Center\n2:00pm – Approximately arrival to Gillette Stadium\n4:25pm – GAME TME!\nDepart 30 minutes after the game ends \nPatriots Fan Bus Details
URL:https://vipchartercoaches.com/event/ne-patriots-vs-kansas-city-chiefs/
LOCATION:Gillette Stadium\, 1 Patriot Pl\, Foxborough\, MA\, 02035\, United States
CATEGORIES:Day Trip,Sports
ATTACH;FMTTYPE=image/jpeg:https://vipchartercoaches.com/wp-content/uploads/2017/09/Patriots-Fan-Bus-1-e1504630902544.jpg
GEO:42.091188;-71.266889
X-APPLE-STRUCTURED-LOCATION;VALUE=URI;X-ADDRESS=Gillette Stadium 1 Patriot Pl Foxborough MA 02035 United States;X-APPLE-RADIUS=500;X-TITLE=1 Patriot Pl:geo:-71.266889,42.091188
END:VEVENT
BEGIN:VEVENT
DTSTART;VALUE=DATE:20191221
DTEND;VALUE=DATE:20191222
DTSTAMP:20260423T061630
CREATED:20190420T151710Z
LAST-MODIFIED:20191119T155956Z
UID:11334-1576886400-1576972799@vipchartercoaches.com
SUMMARY:NE Patriots vs. Buffalo Bills (Dec. 21)
DESCRIPTION:NE Patriots vs. Buffalo Bills\nSAT\, DECEMBER 21\, 2019\nGillette Stadium\, Foxborough\, MA\nGame Time 4:30 pm \nThe Patriots Fan Bus is back for another season! Ride-only service to New England Patriots home games at Gillette Stadium. Driving with traffic and parking fees can be a huge hassle\, so leave the driving to us and enjoy time with your friends and family onboard our deluxe motorcoach. The bus will arrive to the stadium approximately 2 hours before the game and depart 30 minutes after completion. Ride only. Does not include your game ticket. \nTIMES TBA. \n11:00am – Portland\, Marginal Way Park 7 Ride Lot (across from World Gym)\n11:30am – Biddeford\, Exit 32 Park & Ride Lot (across from Walmart)\n11:45am – Wells\, Exit 19 Transportation Center\n2:00pm – Approximately arrival to Gillette Stadium\n4:30pm – GAME TME!\nDepart 30 minutes after the game ends \nPatriots Fan Bus Details
URL:https://vipchartercoaches.com/event/ne-patriots-vs-bills-dec-21or22/
LOCATION:Gillette Stadium\, 1 Patriot Pl\, Foxborough\, MA\, 02035\, United States
CATEGORIES:Day Trip,Sports
ATTACH;FMTTYPE=image/jpeg:https://vipchartercoaches.com/wp-content/uploads/2017/09/Patriots-Fan-Bus-1-e1504630902544.jpg
GEO:42.091188;-71.266889
X-APPLE-STRUCTURED-LOCATION;VALUE=URI;X-ADDRESS=Gillette Stadium 1 Patriot Pl Foxborough MA 02035 United States;X-APPLE-RADIUS=500;X-TITLE=1 Patriot Pl:geo:-71.266889,42.091188
END:VEVENT
BEGIN:VEVENT
DTSTART;VALUE=DATE:20191228
DTEND;VALUE=DATE:20191229
DTSTAMP:20260423T061630
CREATED:20191107T014309Z
LAST-MODIFIED:20191107T031657Z
UID:14010-1577491200-1577577599@vipchartercoaches.com
SUMMARY:Boothbay Harbor On The Bistro Bus: Culinary Delights & Holiday Lights 12/28
DESCRIPTION:Boothbay Harbor On The Bistro Bus: Culinary Delights & Holiday Lights\nSaturday\, December 28\, 2019\nLuxury Roundtrip ride to Boothbay to enjoy “Gardens A Glow” and an afternoon foodie tour\nCapacity this luxury tour accommodates a max of 14 people. \nIncludes: Round trip luxury transportation aboard a Mercedes Sprinter from Portland/Yarmouth\, your talented local tour guide\, all food and beverages on the tour\, admission to Gardens A Glow at the Botanical Gardens\, and tips to your wait staff\, driver and tour guide gratuities. \nVIP Tour and Charter Bus Company is proud to team up with Maine Foodie Tours and “Gardens A Glow” at Coastal Maine Botanical Gardens to offer a day of activities\, sights\, foods and lights with round trip luxury transportation from Portland or Yarmouth to Boothbay and it’s harbor. \nYou’ll enjoy the deliciously talented culinary scene of Boothbay Harbor. This tour introduces a mix of some of the areas oldest and newest locally-owned establishments while showcasing the culinary creativity that is alive and well! Bring your appetite for food\, stories\, and facts about the vibrantly local food economy. \nSchedule\n12:00pm Portland Marginal Way Park & Ride Lot (Across from World Gym)\n12:15pm Yarmouth Exit 15 Park and Ride Lot\n1:15pm Arrival to Boothbay Harbor\, 1 hour of free time\n2:15pm Our friendly\, local tour guides will introduce you to 4 locally-owned businesses to explore and taste their delectable\, native-to-Maine foods\n4:45pm Visit Coastal Maine Botanical Garden’s “Gardens Aglow”\n8:00pm Arrival back to Portland \nThese Trip Details are a MUST READ.
URL:https://vipchartercoaches.com/event/boothbay-harbor-on-the-bistro-bus-culinary-delights-holiday-lights-12-28/
LOCATION:MA
CATEGORIES:Day Trip,Hot,Scenic,Shopping
ATTACH;FMTTYPE=image/png:https://vipchartercoaches.com/wp-content/uploads/2019/11/Culinary-Delights-and-Holiday-Lights.png
END:VEVENT
BEGIN:VEVENT
DTSTART;VALUE=DATE:20191229
DTEND;VALUE=DATE:20191230
DTSTAMP:20260423T061630
CREATED:20190420T152340Z
LAST-MODIFIED:20190420T152808Z
UID:11338-1577577600-1577663999@vipchartercoaches.com
SUMMARY:NE Patriots vs. Miami Dolphins
DESCRIPTION:NE Patriots vs. Miami Dolphins\nSunday\, December 29\, 2019\nGillette Stadium\, Foxborough\, MA\n1:00pm Game \nThe Patriots Fan Bus is back for another season! Ride-only service to New England Patriots home games at Gillette Stadium. Driving with traffic and parking fees can be a huge hassle\, so leave the driving to us and enjoy time with your friends and family onboard our deluxe motorcoach. The bus will arrive to the stadium approximately 2 hours before the game and depart 30 minutes after completion. Ride only. Does not include your game ticket. \n8:00am – Portland\, Marginal Way Park 7 Ride Lot (across from World Gym)\n8:30am – Biddeford\, Exit 32 Park & Ride Lot (across from Walmart)\n8:45am – Wells\, Exit 19 Transportation Center\n11:00am – Approximately arrival to Gillette Stadium\n1:00pm – GAME TME!\nDepart 30 minutes after the game ends \nPatriots Fan Bus Details
URL:https://vipchartercoaches.com/event/ne-patriots-vs-miami-dolphins/
LOCATION:Gillette Stadium\, 1 Patriot Pl\, Foxborough\, MA\, 02035\, United States
CATEGORIES:Day Trip,Sports
ATTACH;FMTTYPE=image/jpeg:https://vipchartercoaches.com/wp-content/uploads/2017/09/Patriots-Fan-Bus-1-e1504630902544.jpg
GEO:42.091188;-71.266889
X-APPLE-STRUCTURED-LOCATION;VALUE=URI;X-ADDRESS=Gillette Stadium 1 Patriot Pl Foxborough MA 02035 United States;X-APPLE-RADIUS=500;X-TITLE=1 Patriot Pl:geo:-71.266889,42.091188
END:VEVENT
END:VCALENDAR