BEGIN:VCALENDAR
VERSION:2.0
PRODID:-//VIP Tour &amp; Charter Bus Company - ECPv6.15.20//NONSGML v1.0//EN
CALSCALE:GREGORIAN
METHOD:PUBLISH
X-WR-CALNAME:VIP Tour &amp; Charter Bus Company
X-ORIGINAL-URL:https://vipchartercoaches.com
X-WR-CALDESC:Events for VIP Tour &amp; Charter Bus Company
REFRESH-INTERVAL;VALUE=DURATION:PT1H
X-Robots-Tag:noindex
X-PUBLISHED-TTL:PT1H
BEGIN:VTIMEZONE
TZID:America/New_York
BEGIN:DAYLIGHT
TZOFFSETFROM:-0500
TZOFFSETTO:-0400
TZNAME:EDT
DTSTART:20180311T070000
END:DAYLIGHT
BEGIN:STANDARD
TZOFFSETFROM:-0400
TZOFFSETTO:-0500
TZNAME:EST
DTSTART:20181104T060000
END:STANDARD
BEGIN:DAYLIGHT
TZOFFSETFROM:-0500
TZOFFSETTO:-0400
TZNAME:EDT
DTSTART:20190310T070000
END:DAYLIGHT
BEGIN:STANDARD
TZOFFSETFROM:-0400
TZOFFSETTO:-0500
TZNAME:EST
DTSTART:20191103T060000
END:STANDARD
BEGIN:DAYLIGHT
TZOFFSETFROM:-0500
TZOFFSETTO:-0400
TZNAME:EDT
DTSTART:20200308T070000
END:DAYLIGHT
BEGIN:STANDARD
TZOFFSETFROM:-0400
TZOFFSETTO:-0500
TZNAME:EST
DTSTART:20201101T060000
END:STANDARD
END:VTIMEZONE
BEGIN:VEVENT
DTSTART;VALUE=DATE:20191109
DTEND;VALUE=DATE:20191110
DTSTAMP:20260423T073524
CREATED:20181128T191613Z
LAST-MODIFIED:20190621T122639Z
UID:9622-1573257600-1573343999@vipchartercoaches.com
SUMMARY:Boston Christmas Festival
DESCRIPTION:Boston Christmas Festival\nSaturday\, November 9\, 2019\nSeaport World Trade Center\nBoston\, MA \nIncludes: Motorcoach Transportation & Admission the the Festival. \nAn annual favorite for all ages\, the Boston Christmas Festival is a blockbuster event for a day trip to Boston. With 350 exhibitors\, this award-winning show is the largest arts and crafts festival in New England\, and features handcrafted gifts\, holiday decorations\, jewelry\, clothing\, pottery\, folk art\, delicious foods to buy and sample\, and so much more! Enjoy sampling the delicious products found in the Farmer’s Market Aisle. Purchases are made directly from the artisans so prices are reasonable and suit everybody’s budget. \nSCHEDULE:\n8:00am – Portland\, Marginal Way Park & Ride\n8:30am – Biddeford Exit 32 Park & Ride\n8:45am – Wells\, Exit 19 Transportation Center\n10:30am – Arrival to Boston Christmas Festival at Seaport World Trade Ctr.\nEnjoy the day on your own!\n4:00pm – Depart Boston Christmas Festival for home! \nDownload Full Schedule & Details: \nBoston Christmas Festival Nov 9 2019
URL:https://vipchartercoaches.com/event/boston-christmas-festival-11-9-2019/
LOCATION:Seaport World Trade Center\,  1 Seaport Ln\, Boston\, 02210\, United States
CATEGORIES:Day Trip,Featured Tours,Shopping
ATTACH;FMTTYPE=image/png:https://vipchartercoaches.com/wp-content/uploads/2017/06/boston-christmas-fest-logo.png
GEO:42.3492209;-71.0414338
X-APPLE-STRUCTURED-LOCATION;VALUE=URI;X-ADDRESS=Seaport World Trade Center  1 Seaport Ln Boston 02210 United States;X-APPLE-RADIUS=500;X-TITLE=1 Seaport Ln:geo:-71.0414338,42.3492209
END:VEVENT
BEGIN:VEVENT
DTSTART;VALUE=DATE:20191124
DTEND;VALUE=DATE:20191125
DTSTAMP:20260423T073524
CREATED:20190420T150338Z
LAST-MODIFIED:20191105T160504Z
UID:11326-1574553600-1574639999@vipchartercoaches.com
SUMMARY:NE Patriots vs. Dallas Cowboys
DESCRIPTION:NE Patriots vs. Dallas Cowboys\nSunday\, November 24\, 2019\nGillette Stadium\, Foxborough\, MA\n4:25pm Game \nThe Patriots Fan Bus is back for another season! Ride-only service to New England Patriots home games at Gillette Stadium. Driving with traffic and parking fees can be a huge hassle\, so leave the driving to us and enjoy time with your friends and family onboard our deluxe motorcoach. The bus will arrive to the stadium approximately 2 hours before the game and depart 30 minutes after completion. Ride only. Does not include your game ticket. \n11:00am – Portland\, Marginal Way Park 7 Ride Lot (across from World Gym)\n11:30am – Biddeford\, Exit 32 Park & Ride Lot (across from Walmart)\n11:45am – Wells\, Exit 19 Transportation Center\n2:00pm – Approximately arrival to Gillette Stadium\n4:25pm – GAME TME!\nDepart 30 minutes after the game ends \nPatriots Fan Bus Details
URL:https://vipchartercoaches.com/event/ne-patriots-vs-dallas-cowboys/
LOCATION:Gillette Stadium\, 1 Patriot Pl\, Foxborough\, MA\, 02035\, United States
CATEGORIES:Day Trip,Sports
ATTACH;FMTTYPE=image/jpeg:https://vipchartercoaches.com/wp-content/uploads/2017/09/Patriots-Fan-Bus-1-e1504630902544.jpg
GEO:42.091188;-71.266889
X-APPLE-STRUCTURED-LOCATION;VALUE=URI;X-ADDRESS=Gillette Stadium 1 Patriot Pl Foxborough MA 02035 United States;X-APPLE-RADIUS=500;X-TITLE=1 Patriot Pl:geo:-71.266889,42.091188
END:VEVENT
END:VCALENDAR