BEGIN:VCALENDAR
VERSION:2.0
PRODID:-//VIP Tour &amp; Charter Bus Company - ECPv6.15.20//NONSGML v1.0//EN
CALSCALE:GREGORIAN
METHOD:PUBLISH
X-WR-CALNAME:VIP Tour &amp; Charter Bus Company
X-ORIGINAL-URL:https://vipchartercoaches.com
X-WR-CALDESC:Events for VIP Tour &amp; Charter Bus Company
REFRESH-INTERVAL;VALUE=DURATION:PT1H
X-Robots-Tag:noindex
X-PUBLISHED-TTL:PT1H
BEGIN:VTIMEZONE
TZID:America/New_York
BEGIN:DAYLIGHT
TZOFFSETFROM:-0500
TZOFFSETTO:-0400
TZNAME:EDT
DTSTART:20180311T070000
END:DAYLIGHT
BEGIN:STANDARD
TZOFFSETFROM:-0400
TZOFFSETTO:-0500
TZNAME:EST
DTSTART:20181104T060000
END:STANDARD
BEGIN:DAYLIGHT
TZOFFSETFROM:-0500
TZOFFSETTO:-0400
TZNAME:EDT
DTSTART:20190310T070000
END:DAYLIGHT
BEGIN:STANDARD
TZOFFSETFROM:-0400
TZOFFSETTO:-0500
TZNAME:EST
DTSTART:20191103T060000
END:STANDARD
BEGIN:DAYLIGHT
TZOFFSETFROM:-0500
TZOFFSETTO:-0400
TZNAME:EDT
DTSTART:20200308T070000
END:DAYLIGHT
BEGIN:STANDARD
TZOFFSETFROM:-0400
TZOFFSETTO:-0500
TZNAME:EST
DTSTART:20201101T060000
END:STANDARD
END:VTIMEZONE
BEGIN:VEVENT
DTSTART;VALUE=DATE:20190822
DTEND;VALUE=DATE:20190823
DTSTAMP:20260423T112720
CREATED:20190419T135958Z
LAST-MODIFIED:20190820T231104Z
UID:11289-1566432000-1566518399@vipchartercoaches.com
SUMMARY:NE Patriots vs. Carolina Panthers - PRE
DESCRIPTION:NE Patriots vs. Carolina Panthers – PRE season\nThursday\, August 22\, 2019\nGillette Stadium\, Foxborough\, MA\n7:30pm Game \nThe Patriots Fan Bus is back for another season! Ride-only service to New England Patriots home games at Gillette Stadium. Driving with traffic and parking fees can be a huge hassle\, so leave the driving to us and enjoy time with your friends and family onboard our deluxe motorcoach. The bus will arrive to the stadium approximately 2 hours before the game and depart 30 minutes after completion. Ride only. Does not include your game ticket. \n2:30pm – Portland\, Marginal Way Park 7 Ride Lot (across from World Gym)\n3:00pm – Biddeford\, Exit 32 Park & Ride Lot (across from Walmart)\n3:15pm – Wells\, Exit 19 Transportation Center\n5:30pm – Approximately arrival to Gillette Stadium\n7:30pm – GAME TME!\nDepart 30 minutes after the game ends \nPatriots Fan Bus Details
URL:https://vipchartercoaches.com/event/ne-patriots-vs-carolina-panthers-pre/
LOCATION:Gillette Stadium\, 1 Patriot Pl\, Foxborough\, MA\, 02035\, United States
CATEGORIES:Day Trip,Sports
ATTACH;FMTTYPE=image/jpeg:https://vipchartercoaches.com/wp-content/uploads/2017/09/Patriots-Fan-Bus-1-e1504630902544.jpg
GEO:42.091188;-71.266889
X-APPLE-STRUCTURED-LOCATION;VALUE=URI;X-ADDRESS=Gillette Stadium 1 Patriot Pl Foxborough MA 02035 United States;X-APPLE-RADIUS=500;X-TITLE=1 Patriot Pl:geo:-71.266889,42.091188
END:VEVENT
BEGIN:VEVENT
DTSTART;VALUE=DATE:20190826
DTEND;VALUE=DATE:20190827
DTSTAMP:20260423T112720
CREATED:20190507T125640Z
LAST-MODIFIED:20190516T204517Z
UID:11511-1566777600-1566863999@vipchartercoaches.com
SUMMARY:Downton Abbey - The Exhibition
DESCRIPTION:Downton Abbey – The Exhibition\nMonday\, August 26\, 2019\nThe Castle at Park Plaza\nBoston\, MA\nIncludes: Round trip motorcoach & Admission \nStep aboard your motoroach and travel to The Castle at Park Plaza\, a unique special event venue\, for the limited engagement of Downton Abbey: The Exhibition. Follow up this unique experience with a visit to Faneuil Hall Marketplace for lunch and shopping on your own. \nDownton Abbey: The Exhibition\, based on the beloved television show\, transports you to post-Edwardian England\, where the characters and the iconic house come to life. You’ll be immersed in the fascinating social history\, culture\, and some of the most memorable moments from the show’s six-season run. \n7:30am – Portland\, Marginal Way Park & Ride Lot (Across from World Gym)\n8:00am – Biddeford\, Exit 32 Park & Ride Lot (Across from Walmart)\n8:15am – Wells\, Exit 19 Transportation Center\n10:00am – 12:30pm – Downton Abbey: The Exhibition\n1:00pm – 3:30pm Free Time at Faneuil Hall Marketplace\nReturn for home. \nClick for Downton Abbey .pdf
URL:https://vipchartercoaches.com/event/downton-abbey-the-exhibition-8-26/
LOCATION:The Castle at Park Plaza\, 130 Columbus Ave\, Boston\, MA\, 02116\, United States
CATEGORIES:Day Trip,Hot
ATTACH;FMTTYPE=image/jpeg:https://vipchartercoaches.com/wp-content/uploads/2019/05/Downton-Abbey.jpg
END:VEVENT
BEGIN:VEVENT
DTSTART;VALUE=DATE:20190829
DTEND;VALUE=DATE:20190830
DTSTAMP:20260423T112720
CREATED:20190420T143010Z
LAST-MODIFIED:20190821T125418Z
UID:11304-1567036800-1567123199@vipchartercoaches.com
SUMMARY:NE Patriots vs. NY Giants - PRE
DESCRIPTION:NE Patriots vs. NY Giants – PRE season\nThursday\, August 29\, 2019\nGillette Stadium\, Foxborough\, MA\n7:30pm Game \nThe Patriots Fan Bus is back for another season! Ride-only service to New England Patriots home games at Gillette Stadium. Driving with traffic and parking fees can be a huge hassle\, so leave the driving to us and enjoy time with your friends and family onboard our deluxe motorcoach. The bus will arrive to the stadium approximately 2 hours before the game and depart 30 minutes after completion. Ride only. Does not include your game ticket. \n2:30pm – Portland\, Marginal Way Park 7 Ride Lot (across from World Gym)\n3:00pm – Biddeford\, Exit 32 Park & Ride Lot (across from Walmart)\n3:15pm – Wells\, Exit 19 Transportation Center\n5:30pm – Approximately arrival to Gillette Stadium\n7:30pm – GAME TME!\nDepart 30 minutes after the game ends \nPatriots Fan Bus Details
URL:https://vipchartercoaches.com/event/ne-patriots-vs-ny-giants-pre/
LOCATION:Gillette Stadium\, 1 Patriot Pl\, Foxborough\, MA\, 02035\, United States
CATEGORIES:Day Trip,Sports
ATTACH;FMTTYPE=image/jpeg:https://vipchartercoaches.com/wp-content/uploads/2017/09/Patriots-Fan-Bus-1-e1504630902544.jpg
GEO:42.091188;-71.266889
X-APPLE-STRUCTURED-LOCATION;VALUE=URI;X-ADDRESS=Gillette Stadium 1 Patriot Pl Foxborough MA 02035 United States;X-APPLE-RADIUS=500;X-TITLE=1 Patriot Pl:geo:-71.266889,42.091188
END:VEVENT
END:VCALENDAR