BEGIN:VCALENDAR
VERSION:2.0
PRODID:-//VIP Tour &amp; Charter Bus Company - ECPv6.15.20//NONSGML v1.0//EN
CALSCALE:GREGORIAN
METHOD:PUBLISH
X-WR-CALNAME:VIP Tour &amp; Charter Bus Company
X-ORIGINAL-URL:https://vipchartercoaches.com
X-WR-CALDESC:Events for VIP Tour &amp; Charter Bus Company
REFRESH-INTERVAL;VALUE=DURATION:PT1H
X-Robots-Tag:noindex
X-PUBLISHED-TTL:PT1H
BEGIN:VTIMEZONE
TZID:America/New_York
BEGIN:DAYLIGHT
TZOFFSETFROM:-0500
TZOFFSETTO:-0400
TZNAME:EDT
DTSTART:20160313T070000
END:DAYLIGHT
BEGIN:STANDARD
TZOFFSETFROM:-0400
TZOFFSETTO:-0500
TZNAME:EST
DTSTART:20161106T060000
END:STANDARD
BEGIN:DAYLIGHT
TZOFFSETFROM:-0500
TZOFFSETTO:-0400
TZNAME:EDT
DTSTART:20170312T070000
END:DAYLIGHT
BEGIN:STANDARD
TZOFFSETFROM:-0400
TZOFFSETTO:-0500
TZNAME:EST
DTSTART:20171105T060000
END:STANDARD
BEGIN:DAYLIGHT
TZOFFSETFROM:-0500
TZOFFSETTO:-0400
TZNAME:EDT
DTSTART:20180311T070000
END:DAYLIGHT
BEGIN:STANDARD
TZOFFSETFROM:-0400
TZOFFSETTO:-0500
TZNAME:EST
DTSTART:20181104T060000
END:STANDARD
END:VTIMEZONE
BEGIN:VEVENT
DTSTART;VALUE=DATE:20171104
DTEND;VALUE=DATE:20171105
DTSTAMP:20260424T155123
CREATED:20170627T160540Z
LAST-MODIFIED:20171103T182949Z
UID:3069-1509753600-1509839999@vipchartercoaches.com
SUMMARY:Boston Christmas Festival
DESCRIPTION:31st Annual Boston Christmas Festival\nSaturday\, November 4th\, 2017\nSeaport World Trade Center\, Boston\, MA\nIncludes: Admission to the Festival & Motorcoach Transportation \nEverything for holiday decorating and affordable gifts! The Christmas Festival makes preparing for the holidays a breeze\, with gifts for everyone and all the elements for stylish entertaining. Get on the bus and head down to Boston to dive into the holiday spirit! The 31st Annual Boston Christmas Festival features the distinctive work of over 300 master American craftsmen. Bargain hunters\, as well as those with extravagant tastes\, will find an endless array of gorgeous home accessories\, designer fashions\, artisan jewelry\, handcrafted holiday décor\, tempting gourmet specialty foods and one-of-a-kind handcrafted gifts unavailable elsewhere. \n8:00am Portland – Exit 7 Marginal Way Park & Ride Lot\n8:30am Biddeford – Exit 32 Park & Ride Lot\n8:45am Wells – Exit 19 Transportation Center\n9:25am Seabrook\, NH – Sam’s Club Parking Lot\, 11 Batchelder Rd\n10:30am – Arrive to Seaport World Trade Center for the Boston Christmas Festival\n4:00pm – Depart for home
URL:https://vipchartercoaches.com/event/boston-christmas-festival/
LOCATION:Seaport World Trade Center\,  1 Seaport Ln\, Boston\, 02210\, United States
CATEGORIES:Day Trip,Shopping
ATTACH;FMTTYPE=image/png:https://vipchartercoaches.com/wp-content/uploads/2017/06/boston-christmas-fest-logo.png
GEO:42.3492209;-71.0414338
X-APPLE-STRUCTURED-LOCATION;VALUE=URI;X-ADDRESS=Seaport World Trade Center  1 Seaport Ln Boston 02210 United States;X-APPLE-RADIUS=500;X-TITLE=1 Seaport Ln:geo:-71.0414338,42.3492209
END:VEVENT
BEGIN:VEVENT
DTSTART;VALUE=DATE:20171125
DTEND;VALUE=DATE:20171126
DTSTAMP:20260424T155123
CREATED:20170627T163729Z
LAST-MODIFIED:20171024T172504Z
UID:3076-1511568000-1511654399@vipchartercoaches.com
SUMMARY:New York City Freestyle
DESCRIPTION:New York City Freestyle \nSaturday\, November 25th\, 2017\nNew York\, New York\nIncludes: Motorcoach Transportation & Free Time in the City\nDo NYC\, your way! Depart bright and early\, as the early bird gets the worm in the Big Apple! Arrive to NYC at 10:00am at Bryant Park (situated behind the New York Public Library in Midtown Manhattan\, between 40th and 42nd Streets & Fifth and Sixth Avenues.) There’s something for everyone in the Big City. You’ll have time to explore the sites\, catch a matinee\, shop or visit a museum. We recommend planning your day in advance to maximize your time! Enjoy free time in the City until your 8:00pm departure. \n4:00am Portland – Exit 7 Marginal Way Park & Ride Lot\n4:30am Biddeford – Exit 32 Park & Ride Lot\n4:45am Wells – Exit 19 Transportation Center\n5:25am Seabrook\, NH – Sam’s Club Parking Lot\, 11 Batchelder Rd\n10:00am Arrival in NYC at Bryant Park – NYC Freestyle!\n8:00pm Depart for home
URL:https://vipchartercoaches.com/event/new-york-city-freestyle/
LOCATION:MA
CATEGORIES:Day Trip,Featured Tours,Hot,Scenic,Shopping
ATTACH;FMTTYPE=image/jpeg:https://vipchartercoaches.com/wp-content/uploads/2017/06/18582026_1535290679875128_9152086515530247197_n-e1498580994678.jpg
END:VEVENT
BEGIN:VEVENT
DTSTART;VALUE=DATE:20171126
DTEND;VALUE=DATE:20171127
DTSTAMP:20260424T155123
CREATED:20170509T174247Z
LAST-MODIFIED:20171025T202450Z
UID:2784-1511654400-1511740799@vipchartercoaches.com
SUMMARY:New England Patriots vs. Miami Dolphins
DESCRIPTION:New England Patriots vs. Miami Dolphins\nSunday\, November 26th\, 2017\nGillette Stadium\, Foxborough\, MA\nGame Time 1:00pm \nRide the VIP Patriots Fan Bus deluxe motorcoach to Gillette Stadium for the New England Patriots home games this 2017 season. We know driving\, parking and fees are a huge hassle\, so leave that up to us! This is a ride only and does not include your game ticket. You’ll have time to explore or visit Patriot Place. We arrive approximately 2 hours before the game begins. The bus departs 30 after the game ends. \n7:30am Portland – Exit 7 Marginal Way Park & Ride Lot\n8:00am Biddeford – Exit 32 Park & Ride Lot\n8:15am Wells – Exit 19 Transportation Center\n8:55am Seabrook\, NH – Sam’s Club Parking Lot\, 11 Batchelder Rd\n11:00am Gillette Stadium Approximate Arrival\n1:00pm Game Time
URL:https://vipchartercoaches.com/event/new-england-patriots-vs-miami-dolphins/
LOCATION:Gillette Stadium\, 1 Patriot Pl\, Foxborough\, MA\, 02035\, United States
CATEGORIES:Day Trip,Hot,Sports
ATTACH;FMTTYPE=image/jpeg:https://vipchartercoaches.com/wp-content/uploads/2017/05/Patriots-Fan-Bus.jpg
GEO:42.091188;-71.266889
X-APPLE-STRUCTURED-LOCATION;VALUE=URI;X-ADDRESS=Gillette Stadium 1 Patriot Pl Foxborough MA 02035 United States;X-APPLE-RADIUS=500;X-TITLE=1 Patriot Pl:geo:-71.266889,42.091188
END:VEVENT
END:VCALENDAR